* checking for file 'genefu/DESCRIPTION' ... OK
* preparing 'genefu':
* checking DESCRIPTION meta-information ... OK
* installing the package to process help pages
* building the PDF package manual
Hmm ... looks like a package
Converting Rd files to LaTeX .....
Creating pdf output from LaTeX ...
This is pdfTeX, Version 3.1415926-1.40.10 (TeX Live 2009/Debian)
entering extended mode
LaTeX2e <2009/09/24>
Babel <v3.8l> and hyphenation patterns for english, usenglishmax, dumylang, noh
yphenation, loaded.
(./Rd2.tex (/usr/share/texmf-texlive/tex/latex/base/book.cls
Document Class: book 2007/10/19 v1.4h Standard LaTeX document class
(/usr/share/texmf-texlive/tex/latex/base/bk10.clo))
(/home/hpages/test-puck5/bbs-2.10-bioc/R/share/texmf/tex/latex/Rd.sty
(/usr/share/texmf-texlive/tex/latex/base/ifthen.sty)
(/usr/share/texmf-texlive/tex/latex/tools/longtable.sty)
(/usr/share/texmf-texlive/tex/latex/tools/bm.sty)
(/usr/share/texmf-texlive/tex/latex/base/alltt.sty)
(/usr/share/texmf-texlive/tex/latex/tools/verbatim.sty)
(/usr/share/texmf-texlive/tex/latex/ltxmisc/url.sty) NOT loading ae
(/usr/share/texmf-texlive/tex/latex/base/fontenc.sty
(/usr/share/texmf-texlive/tex/latex/base/t1enc.def))
(/usr/share/texmf-texlive/tex/latex/psnfss/times.sty) NOT loading lmodern
(/usr/share/texmf-texlive/tex/latex/inconsolata/inconsolata.sty
(/usr/share/texmf-texlive/tex/latex/base/textcomp.sty
(/usr/share/texmf-texlive/tex/latex/base/ts1enc.def))
(/usr/share/texmf-texlive/tex/latex/graphics/keyval.sty))
(/usr/share/texmf-texlive/tex/latex/graphics/color.sty
(/etc/texmf/tex/latex/config/color.cfg)
(/usr/share/texmf-texlive/tex/latex/pdftex-def/pdftex.def))
(/usr/share/texmf-texlive/tex/latex/hyperref/hyperref.sty
(/usr/share/texmf-texlive/tex/generic/oberdiek/ifpdf.sty)
(/usr/share/texmf-texlive/tex/generic/oberdiek/ifvtex.sty)
(/usr/share/texmf-texlive/tex/generic/ifxetex/ifxetex.sty)
(/usr/share/texmf-texlive/tex/latex/oberdiek/hycolor.sty
(/usr/share/texmf-texlive/tex/latex/oberdiek/xcolor-patch.sty))
(/usr/share/texmf-texlive/tex/latex/hyperref/pd1enc.def)
(/usr/share/texmf-texlive/tex/generic/oberdiek/etexcmds.sty
(/usr/share/texmf-texlive/tex/generic/oberdiek/infwarerr.sty))
(/usr/share/texmf-texlive/tex/latex/latexconfig/hyperref.cfg)
(/usr/share/texmf-texlive/tex/latex/oberdiek/kvoptions.sty
(/usr/share/texmf-texlive/tex/generic/oberdiek/kvsetkeys.sty))
Implicit mode ON; LaTeX internals redefined
(/usr/share/texmf-texlive/tex/generic/oberdiek/bitset.sty
(/usr/share/texmf-texlive/tex/generic/oberdiek/intcalc.sty)
(/usr/share/texmf-texlive/tex/generic/oberdiek/bigintcalc.sty
(/usr/share/texmf-texlive/tex/generic/oberdiek/pdftexcmds.sty
(/usr/share/texmf-texlive/tex/generic/oberdiek/ifluatex.sty)
(/usr/share/texmf-texlive/tex/generic/oberdiek/ltxcmds.sty))))
(/usr/share/texmf-texlive/tex/generic/oberdiek/atbegshi.sty))
*hyperref using default driver hpdftex*
(/usr/share/texmf-texlive/tex/latex/hyperref/hpdftex.def)
Package hyperref Warning: Option `hyperindex' has already been used,
(hyperref) setting the option has no effect on input line 356.
Package hyperref Warning: Option `pagebackref' has already been used,
(hyperref) setting the option has no effect on input line 356.
) (/usr/share/texmf-texlive/tex/latex/base/makeidx.sty)
(/usr/share/texmf-texlive/tex/latex/base/inputenc.sty
(/usr/share/texmf-texlive/tex/latex/base/utf8.def
(/usr/share/texmf-texlive/tex/latex/base/t1enc.dfu)
(/usr/share/texmf-texlive/tex/latex/base/ot1enc.dfu)
(/usr/share/texmf-texlive/tex/latex/base/omsenc.dfu)
(/usr/share/texmf-texlive/tex/latex/base/ts1enc.dfu))
(/usr/share/texmf-texlive/tex/latex/base/latin1.def))
Writing index file Rd2.idx
No file Rd2.aux.
(/usr/share/texmf-texlive/tex/latex/base/ts1cmr.fd)
(/usr/share/texmf-texlive/tex/latex/psnfss/t1ptm.fd)
(/usr/share/texmf-texlive/tex/context/base/supp-pdf.mkii
[Loading MPS to PDF converter (version 2006.09.02).]
) (/usr/share/texmf-texlive/tex/latex/hyperref/nameref.sty
(/usr/share/texmf-texlive/tex/latex/oberdiek/refcount.sty))
(/usr/share/texmf-texlive/tex/latex/inconsolata/t1fi4.fd)
(/usr/share/texmf-texlive/tex/latex/psnfss/t1phv.fd)
(/usr/share/texmf-texlive/tex/latex/base/utf8.def) [1{/var/lib/texmf/fonts/map/
pdftex/updmap/pdftex.map}] [2]
(/usr/share/texmf-texlive/tex/latex/base/utf8.def) [3]
(/usr/share/texmf-texlive/tex/latex/base/utf8.def) [4]
(/usr/share/texmf-texlive/tex/latex/base/utf8.def) [5]
Overfull \hbox (26.44766pt too wide) in paragraph at lines 269--269
[] \T1/fi4/m/n/10 p.adjust.m = c("none", "holm", "hochberg", "hommel", "bonfe
rroni", "BH", "BY", "fdr"))[]
[6] (/usr/share/texmf-texlive/tex/latex/base/utf8.def) [7]
(/usr/share/texmf-texlive/tex/latex/base/utf8.def) [8]
(/usr/share/texmf-texlive/tex/latex/base/utf8.def) [9]
(/usr/share/texmf-texlive/tex/latex/base/utf8.def) [10]
Overfull \hbox (8.95699pt too wide) in paragraph at lines 552--553
[]\T1/ptm/m/n/10 A char-ac-ter string spec-i-fy-ing the al-ter-na-tive hy-poth-
e-sis, must be one of "two.sided"
(/usr/share/texmf-texlive/tex/latex/base/utf8.def) [11]
Overfull \hbox (23.38692pt too wide) in paragraph at lines 626--627
[]\T1/ptm/m/n/10 This dataset has been gen-er-ated by the In-ter-na-tional Ge-n
omics Con-sor-tium us-ing Affymetrix hgu133plus2
(/usr/share/texmf-texlive/tex/latex/base/utf8.def) [12]
Overfull \hbox (86.44766pt too wide) in paragraph at lines 654--654
[]\T1/fi4/m/n/10 fuzzy.ttest(x, w1, w2, alternative=c("two.sided", "less", "gr
eater"), check.w = TRUE, na.rm = FALSE)[]
Overfull \hbox (6.17755pt too wide) in paragraph at lines 670--671
[]\T1/ptm/m/n/10 a char-ac-ter string spec-i-fy-ing the al-ter-na-tive hy-poth-
e-sis, must be one of "two.sided"
Overfull \hbox (137.18091pt too wide) in paragraph at lines 696--698
[][][]$\T1/fi4/m/n/10 http : / / en . wikipedia . org / wiki / T _ test$[][] []
[]$http : / / www . nicebread . de / blog / files / fc02e1635792cb0f2b3cbd1f7e6
c580b-[]10 .
[13]
Overfull \hbox (176.28088pt too wide) in paragraph at lines 722--722
[]\T1/fi4/m/n/9 randst <- apply(rands, 1, function(x, xx, ww1, ww2) { return(f
uzzy.ttest(x=xx, w1=ww1[x], w2=ww2[x])[2]) }, xx=xx, ww1=ww1, ww2=ww2)[]
(/usr/share/texmf-texlive/tex/latex/base/utf8.def) [14] [15]
(/usr/share/texmf-texlive/tex/latex/base/utf8.def) [16]
(/usr/share/texmf-texlive/tex/latex/base/utf8.def) [17]
(/usr/share/texmf-texlive/tex/latex/base/utf8.def) [18]
Overfull \hbox (2.38757pt too wide) in paragraph at lines 982--983
\T1/ptm/m/n/10 based com-pu-ta-tional ap-proach im-proves breast can-cer prog-n
os-ti-ca-tion", \T1/ptm/m/it/10 Genome Bi-ol-ogy\T1/ptm/m/n/10 , \T1/ptm/b/n/10
11\T1/ptm/m/n/10 (2):R18
(/usr/share/texmf-texlive/tex/latex/base/utf8.def) [19]
(/usr/share/texmf-texlive/tex/latex/base/utf8.def) [20] [21] [22]
(/usr/share/texmf-texlive/tex/latex/base/utf8.def) [23] [24]
(/usr/share/texmf-texlive/tex/latex/base/utf8.def)
Overfull \hbox (111.44766pt too wide) in paragraph at lines 1272--1272
[]\T1/fi4/m/n/10 map.datasets(datas, annots, do.mapping = FALSE, mapping.coln
= "EntrezGene.ID", mapping, verbose = FALSE)[]
Overfull \hbox (0.47766pt too wide) in paragraph at lines 1279--1280
[]\T1/ptm/m/n/10 List of ma-tri-ces of gene ex-pres-sions with sam-ples in rows
and probes in columns,
Overfull \hbox (0.49751pt too wide) in paragraph at lines 1282--1283
[]\T1/ptm/m/n/10 List of ma-tri-ces of an-no-ta-tions with at least one col-umn
named "En-trez-Gene.ID",
[25] (/usr/share/texmf-texlive/tex/latex/base/utf8.def) [26]
(/usr/share/texmf-texlive/tex/latex/base/utf8.def)
(/usr/share/texmf-texlive/tex/latex/base/utf8.def) [27]
(/usr/share/texmf-texlive/tex/latex/base/utf8.def) [28] [29]
(/usr/share/texmf-texlive/tex/latex/base/utf8.def) [30]
(/usr/share/texmf-texlive/tex/latex/base/utf8.def) [31]
Overfull \hbox (11.59784pt too wide) in paragraph at lines 1619--1620
[]\T1/ptm/m/n/10 Use of the of-fi-cial cen-troids with ro-bust scal-ing of the
gene ex-pres-sions (see [][]\T1/fi4/m/n/10 rescale[][][]\T1/ptm/m/n/10 ).
(/usr/share/texmf-texlive/tex/latex/base/utf8.def) [32]
(/usr/share/texmf-texlive/tex/latex/base/utf8.def) [33] [34]
(/usr/share/texmf-texlive/tex/latex/base/utf8.def)
(/usr/share/texmf-texlive/tex/latex/base/utf8.def) [35]
(/usr/share/texmf-texlive/tex/latex/base/utf8.def) [36]
(/usr/share/texmf-texlive/tex/latex/base/utf8.def) [37]
(/usr/share/texmf-texlive/tex/latex/base/utf8.def) [38]
(/usr/share/texmf-texlive/tex/latex/base/utf8.def) [39]
(/usr/share/texmf-texlive/tex/latex/base/utf8.def) [40]
(/usr/share/texmf-texlive/tex/latex/base/utf8.def) [41]
Overfull \hbox (15.78088pt too wide) in paragraph at lines 2087--2088
[][][]$\T1/fi4/m/n/10 http : / / www . thelancet . com / journals / lancet / ar
ticle / PIIS0140-[]6736(05 ) 17947-[]1 / abstract$[][]
(/usr/share/texmf-texlive/tex/latex/base/utf8.def)
Overfull \hbox (2.38757pt too wide) in paragraph at lines 2119--2120
\T1/ptm/m/n/10 based com-pu-ta-tional ap-proach im-proves breast can-cer prog-n
os-ti-ca-tion", \T1/ptm/m/it/10 Genome Bi-ol-ogy\T1/ptm/m/n/10 , \T1/ptm/b/n/10
11\T1/ptm/m/n/10 (2):R18
[42] (/usr/share/texmf-texlive/tex/latex/base/utf8.def)
(/usr/share/texmf-texlive/tex/latex/base/utf8.def) [43]
(/usr/share/texmf-texlive/tex/latex/base/utf8.def) [44]
(/usr/share/texmf-texlive/tex/latex/base/utf8.def) [45]
(/usr/share/texmf-texlive/tex/latex/base/utf8.def)
Underfull \hbox (badness 3009) in paragraph at lines 2301--2301
[]\T1/ptm/m/it/10 Tamoxifen Re-sis-tance sig-na-ture com-posed of 13 gene clus-
ters
[46] (/usr/share/texmf-texlive/tex/latex/base/utf8.def) [47]
(/usr/share/texmf-texlive/tex/latex/base/utf8.def) [48] [49]
(/usr/share/texmf-texlive/tex/latex/base/utf8.def) [50]
(/usr/share/texmf-texlive/tex/latex/base/utf8.def) [51]
(/usr/share/texmf-texlive/tex/latex/base/utf8.def) [52] [53]
(/usr/share/texmf-texlive/tex/latex/base/utf8.def) [54]
(/usr/share/texmf-texlive/tex/latex/base/utf8.def) [55] [56]
Overfull \hbox (10.84094pt too wide) in paragraph at lines 2787--2788
[][][]\T1/fi4/m/n/10 subtype.cluster.predict[][][]\T1/ptm/m/n/10 , [][]\T1/fi4/
m/n/10 intrinsic.cluster[][][]\T1/ptm/m/n/10 , [][]\T1/fi4/m/n/10 intrinsic.clu
ster.predict[][][]\T1/ptm/m/n/10 , [][]\T1/fi4/m/n/10 scmod1.robust[][][]\T1/pt
m/m/n/10 ,
(/usr/share/texmf-texlive/tex/latex/base/utf8.def) [57] [58]
(/usr/share/texmf-texlive/tex/latex/base/utf8.def) [59] [60]
(/usr/share/texmf-texlive/tex/latex/base/utf8.def) [61]
(/usr/share/texmf-texlive/tex/latex/base/utf8.def)
Overfull \hbox (11.68091pt too wide) in paragraph at lines 3078--3080
[][][]$\T1/fi4/m/n/10 http : / / www . ncbi . nlm . nih . gov / geo / query / a
cc . cgi ? acc = GSE2034$[][] [][]$http : / / www . ncbi . nlm . nih .
[62] (/usr/share/texmf-texlive/tex/latex/base/utf8.def) [63]
(/usr/share/texmf-texlive/tex/latex/base/utf8.def)
No file Rd2.ind.
[64] (./Rd2.aux) )
(see the transcript file for additional information)pdfTeX warning (dest): name
{Rfn.chron} has been referenced but does not exist, replaced by a fixed one
pdfTeX warning (dest): name{Rfn.stresc} has been referenced but does not exist,
replaced by a fixed one
pdfTeX warning (dest): name{Rfn.read.csv} has been referenced but does not exis
t, replaced by a fixed one
pdfTeX warning (dest): name{Rfn.scale} has been referenced but does not exist,
replaced by a fixed one
pdfTeX warning (dest): name{Rfn.weighted.mean} has been referenced but does not
exist, replaced by a fixed one
pdfTeX warning (dest): name{Rfn.t.test} has been referenced but does not exist,
replaced by a fixed one
pdfTeX warning (dest): name{Rfn.cor} has been referenced but does not exist, re
placed by a fixed one
pdfTeX warning (dest): name{Rfn.cordif.dep} has been referenced but does not ex
ist, replaced by a fixed one
pdfTeX warning (dest): name{Rfn.p.adjust} has been referenced but does not exis
t, replaced by a fixed one
pdfTeX warning (dest): name{Rfn.jitter} has been referenced but does not exist,
replaced by a fixed one
pdfTeX warning (dest): name{Rfn.boxplot} has been referenced but does not exist
, replaced by a fixed one
pdfTeX warning (dest): name{Rfn.points} has been referenced but does not exist,
replaced by a fixed one
pdfTeX warning (dest): name{Rfn.Mclust} has been referenced but does not exist,
replaced by a fixed one
{/usr/share/texmf-texlive/fonts/enc/dvips/base/8r.enc}{/usr/share/texmf-texlive
/fonts/enc/dvips/inconsolata/fi4-ec.enc}</usr/share/texmf-texlive/fonts/type1/p
ublic/inconsolata/Inconsolata.pfb></usr/share/texmf-texlive/fonts/type1/urw/hel
vetic/uhvr8a.pfb></usr/share/texmf-texlive/fonts/type1/urw/times/utmb8a.pfb></u
sr/share/texmf-texlive/fonts/type1/urw/times/utmr8a.pfb></usr/share/texmf-texli
ve/fonts/type1/urw/times/utmr8a.pfb></usr/share/texmf-texlive/fonts/type1/urw/t
imes/utmri8a.pfb>
Output written on Rd2.pdf (64 pages, 304498 bytes).
Transcript written on Rd2.log.
This is makeindex, version 2.15 [TeX Live 2009] (kpathsea + Thai support).
Scanning input file Rd2.idx....done (212 entries accepted, 0 rejected).
Sorting entries.....done (1743 comparisons).
Generating output file Rd2.ind....done (225 lines written, 13 warnings).
Output written in Rd2.ind.
Transcript written in Rd2.ilg.
This is pdfTeX, Version 3.1415926-1.40.10 (TeX Live 2009/Debian)
entering extended mode
LaTeX2e <2009/09/24>
Babel <v3.8l> and hyphenation patterns for english, usenglishmax, dumylang, noh
yphenation, loaded.
(./Rd2.tex (/usr/share/texmf-texlive/tex/latex/base/book.cls
Document Class: book 2007/10/19 v1.4h Standard LaTeX document class
(/usr/share/texmf-texlive/tex/latex/base/bk10.clo))
(/home/hpages/test-puck5/bbs-2.10-bioc/R/share/texmf/tex/latex/Rd.sty
(/usr/share/texmf-texlive/tex/latex/base/ifthen.sty)
(/usr/share/texmf-texlive/tex/latex/tools/longtable.sty)
(/usr/share/texmf-texlive/tex/latex/tools/bm.sty)
(/usr/share/texmf-texlive/tex/latex/base/alltt.sty)
(/usr/share/texmf-texlive/tex/latex/tools/verbatim.sty)
(/usr/share/texmf-texlive/tex/latex/ltxmisc/url.sty) NOT loading ae
(/usr/share/texmf-texlive/tex/latex/base/fontenc.sty
(/usr/share/texmf-texlive/tex/latex/base/t1enc.def))
(/usr/share/texmf-texlive/tex/latex/psnfss/times.sty) NOT loading lmodern
(/usr/share/texmf-texlive/tex/latex/inconsolata/inconsolata.sty
(/usr/share/texmf-texlive/tex/latex/base/textcomp.sty
(/usr/share/texmf-texlive/tex/latex/base/ts1enc.def))
(/usr/share/texmf-texlive/tex/latex/graphics/keyval.sty))
(/usr/share/texmf-texlive/tex/latex/graphics/color.sty
(/etc/texmf/tex/latex/config/color.cfg)
(/usr/share/texmf-texlive/tex/latex/pdftex-def/pdftex.def))
(/usr/share/texmf-texlive/tex/latex/hyperref/hyperref.sty
(/usr/share/texmf-texlive/tex/generic/oberdiek/ifpdf.sty)
(/usr/share/texmf-texlive/tex/generic/oberdiek/ifvtex.sty)
(/usr/share/texmf-texlive/tex/generic/ifxetex/ifxetex.sty)
(/usr/share/texmf-texlive/tex/latex/oberdiek/hycolor.sty
(/usr/share/texmf-texlive/tex/latex/oberdiek/xcolor-patch.sty))
(/usr/share/texmf-texlive/tex/latex/hyperref/pd1enc.def)
(/usr/share/texmf-texlive/tex/generic/oberdiek/etexcmds.sty
(/usr/share/texmf-texlive/tex/generic/oberdiek/infwarerr.sty))
(/usr/share/texmf-texlive/tex/latex/latexconfig/hyperref.cfg)
(/usr/share/texmf-texlive/tex/latex/oberdiek/kvoptions.sty
(/usr/share/texmf-texlive/tex/generic/oberdiek/kvsetkeys.sty))
Implicit mode ON; LaTeX internals redefined
(/usr/share/texmf-texlive/tex/generic/oberdiek/bitset.sty
(/usr/share/texmf-texlive/tex/generic/oberdiek/intcalc.sty)
(/usr/share/texmf-texlive/tex/generic/oberdiek/bigintcalc.sty
(/usr/share/texmf-texlive/tex/generic/oberdiek/pdftexcmds.sty
(/usr/share/texmf-texlive/tex/generic/oberdiek/ifluatex.sty)
(/usr/share/texmf-texlive/tex/generic/oberdiek/ltxcmds.sty))))
(/usr/share/texmf-texlive/tex/generic/oberdiek/atbegshi.sty))
*hyperref using default driver hpdftex*
(/usr/share/texmf-texlive/tex/latex/hyperref/hpdftex.def)
Package hyperref Warning: Option `hyperindex' has already been used,
(hyperref) setting the option has no effect on input line 356.
Package hyperref Warning: Option `pagebackref' has already been used,
(hyperref) setting the option has no effect on input line 356.
) (/usr/share/texmf-texlive/tex/latex/base/makeidx.sty)
(/usr/share/texmf-texlive/tex/latex/base/inputenc.sty
(/usr/share/texmf-texlive/tex/latex/base/utf8.def
(/usr/share/texmf-texlive/tex/latex/base/t1enc.dfu)
(/usr/share/texmf-texlive/tex/latex/base/ot1enc.dfu)
(/usr/share/texmf-texlive/tex/latex/base/omsenc.dfu)
(/usr/share/texmf-texlive/tex/latex/base/ts1enc.dfu))
(/usr/share/texmf-texlive/tex/latex/base/latin1.def))
Writing index file Rd2.idx
(./Rd2.aux) (/usr/share/texmf-texlive/tex/latex/base/ts1cmr.fd)
(/usr/share/texmf-texlive/tex/latex/psnfss/t1ptm.fd)
(/usr/share/texmf-texlive/tex/context/base/supp-pdf.mkii
[Loading MPS to PDF converter (version 2006.09.02).]
) (/usr/share/texmf-texlive/tex/latex/hyperref/nameref.sty
(/usr/share/texmf-texlive/tex/latex/oberdiek/refcount.sty)) (./Rd2.out)
(./Rd2.out) (/usr/share/texmf-texlive/tex/latex/inconsolata/t1fi4.fd)
(/usr/share/texmf-texlive/tex/latex/psnfss/t1phv.fd) (./Rd2.toc [1{/var/lib/tex
mf/fonts/map/pdftex/updmap/pdftex.map}] [2])
(/usr/share/texmf-texlive/tex/latex/base/utf8.def) [3]
(/usr/share/texmf-texlive/tex/latex/base/utf8.def) [4]
(/usr/share/texmf-texlive/tex/latex/base/utf8.def) [5] [6]
(/usr/share/texmf-texlive/tex/latex/base/utf8.def)
Overfull \hbox (26.44766pt too wide) in paragraph at lines 269--269
[] \T1/fi4/m/n/10 p.adjust.m = c("none", "holm", "hochberg", "hommel", "bonfe
rroni", "BH", "BY", "fdr"))[]
[7] (/usr/share/texmf-texlive/tex/latex/base/utf8.def) [8]
(/usr/share/texmf-texlive/tex/latex/base/utf8.def) [9]
(/usr/share/texmf-texlive/tex/latex/base/utf8.def) [10] [11]
(/usr/share/texmf-texlive/tex/latex/base/utf8.def)
Overfull \hbox (8.95699pt too wide) in paragraph at lines 552--553
[]\T1/ptm/m/n/10 A char-ac-ter string spec-i-fy-ing the al-ter-na-tive hy-poth-
e-sis, must be one of "two.sided"
[12] (/usr/share/texmf-texlive/tex/latex/base/utf8.def)
Overfull \hbox (23.38692pt too wide) in paragraph at lines 626--627
[]\T1/ptm/m/n/10 This dataset has been gen-er-ated by the In-ter-na-tional Ge-n
omics Con-sor-tium us-ing Affymetrix hgu133plus2
[13] (/usr/share/texmf-texlive/tex/latex/base/utf8.def)
Overfull \hbox (86.44766pt too wide) in paragraph at lines 654--654
[]\T1/fi4/m/n/10 fuzzy.ttest(x, w1, w2, alternative=c("two.sided", "less", "gr
eater"), check.w = TRUE, na.rm = FALSE)[]
Overfull \hbox (6.17755pt too wide) in paragraph at lines 670--671
[]\T1/ptm/m/n/10 a char-ac-ter string spec-i-fy-ing the al-ter-na-tive hy-poth-
e-sis, must be one of "two.sided"
[14]
Overfull \hbox (137.18091pt too wide) in paragraph at lines 696--698
[][][]$\T1/fi4/m/n/10 http : / / en . wikipedia . org / wiki / T _ test$[][] []
[]$http : / / www . nicebread . de / blog / files / fc02e1635792cb0f2b3cbd1f7e6
c580b-[]10 .
Overfull \hbox (176.28088pt too wide) in paragraph at lines 722--722
[]\T1/fi4/m/n/9 randst <- apply(rands, 1, function(x, xx, ww1, ww2) { return(f
uzzy.ttest(x=xx, w1=ww1[x], w2=ww2[x])[2]) }, xx=xx, ww1=ww1, ww2=ww2)[]
(/usr/share/texmf-texlive/tex/latex/base/utf8.def) [15] [16]
(/usr/share/texmf-texlive/tex/latex/base/utf8.def) [17]
(/usr/share/texmf-texlive/tex/latex/base/utf8.def) [18]
(/usr/share/texmf-texlive/tex/latex/base/utf8.def) [19]
Overfull \hbox (2.38757pt too wide) in paragraph at lines 982--983
\T1/ptm/m/n/10 based com-pu-ta-tional ap-proach im-proves breast can-cer prog-n
os-ti-ca-tion", \T1/ptm/m/it/10 Genome Bi-ol-ogy\T1/ptm/m/n/10 , \T1/ptm/b/n/10
11\T1/ptm/m/n/10 (2):R18
[20] (/usr/share/texmf-texlive/tex/latex/base/utf8.def) [21]
(/usr/share/texmf-texlive/tex/latex/base/utf8.def) [22] [23]
(/usr/share/texmf-texlive/tex/latex/base/utf8.def) [24] [25]
(/usr/share/texmf-texlive/tex/latex/base/utf8.def)
Overfull \hbox (111.44766pt too wide) in paragraph at lines 1272--1272
[]\T1/fi4/m/n/10 map.datasets(datas, annots, do.mapping = FALSE, mapping.coln
= "EntrezGene.ID", mapping, verbose = FALSE)[]
[26]
Overfull \hbox (0.47766pt too wide) in paragraph at lines 1279--1280
[]\T1/ptm/m/n/10 List of ma-tri-ces of gene ex-pres-sions with sam-ples in rows
and probes in columns,
Overfull \hbox (0.49751pt too wide) in paragraph at lines 1282--1283
[]\T1/ptm/m/n/10 List of ma-tri-ces of an-no-ta-tions with at least one col-umn
named "En-trez-Gene.ID",
[27] (/usr/share/texmf-texlive/tex/latex/base/utf8.def)
(/usr/share/texmf-texlive/tex/latex/base/utf8.def) [28]
(/usr/share/texmf-texlive/tex/latex/base/utf8.def) [29]
(/usr/share/texmf-texlive/tex/latex/base/utf8.def) [30]
(/usr/share/texmf-texlive/tex/latex/base/utf8.def) [31]
(/usr/share/texmf-texlive/tex/latex/base/utf8.def) [32]
Overfull \hbox (11.59784pt too wide) in paragraph at lines 1619--1620
[]\T1/ptm/m/n/10 Use of the of-fi-cial cen-troids with ro-bust scal-ing of the
gene ex-pres-sions (see [][]\T1/fi4/m/n/10 rescale[][][]\T1/ptm/m/n/10 ).
[33] (/usr/share/texmf-texlive/tex/latex/base/utf8.def) [34]
(/usr/share/texmf-texlive/tex/latex/base/utf8.def) [35]
(/usr/share/texmf-texlive/tex/latex/base/utf8.def) [36]
(/usr/share/texmf-texlive/tex/latex/base/utf8.def)
(/usr/share/texmf-texlive/tex/latex/base/utf8.def) [37] [38]
(/usr/share/texmf-texlive/tex/latex/base/utf8.def) [39]
(/usr/share/texmf-texlive/tex/latex/base/utf8.def)
(/usr/share/texmf-texlive/tex/latex/base/utf8.def) [40]
(/usr/share/texmf-texlive/tex/latex/base/utf8.def) [41]
(/usr/share/texmf-texlive/tex/latex/base/utf8.def) [42]
Overfull \hbox (15.78088pt too wide) in paragraph at lines 2087--2088
[][][]$\T1/fi4/m/n/10 http : / / www . thelancet . com / journals / lancet / ar
ticle / PIIS0140-[]6736(05 ) 17947-[]1 / abstract$[][]
(/usr/share/texmf-texlive/tex/latex/base/utf8.def)
Overfull \hbox (2.38757pt too wide) in paragraph at lines 2119--2120
\T1/ptm/m/n/10 based com-pu-ta-tional ap-proach im-proves breast can-cer prog-n
os-ti-ca-tion", \T1/ptm/m/it/10 Genome Bi-ol-ogy\T1/ptm/m/n/10 , \T1/ptm/b/n/10
11\T1/ptm/m/n/10 (2):R18
[43] (/usr/share/texmf-texlive/tex/latex/base/utf8.def)
(/usr/share/texmf-texlive/tex/latex/base/utf8.def) [44]
(/usr/share/texmf-texlive/tex/latex/base/utf8.def) [45]
(/usr/share/texmf-texlive/tex/latex/base/utf8.def) [46]
(/usr/share/texmf-texlive/tex/latex/base/utf8.def)
Underfull \hbox (badness 3009) in paragraph at lines 2301--2301
[]\T1/ptm/m/it/10 Tamoxifen Re-sis-tance sig-na-ture com-posed of 13 gene clus-
ters
[47] (/usr/share/texmf-texlive/tex/latex/base/utf8.def) [48]
(/usr/share/texmf-texlive/tex/latex/base/utf8.def) [49] [50]
(/usr/share/texmf-texlive/tex/latex/base/utf8.def) [51]
(/usr/share/texmf-texlive/tex/latex/base/utf8.def) [52]
(/usr/share/texmf-texlive/tex/latex/base/utf8.def) [53] [54]
(/usr/share/texmf-texlive/tex/latex/base/utf8.def) [55]
(/usr/share/texmf-texlive/tex/latex/base/utf8.def) [56] [57]
Overfull \hbox (10.84094pt too wide) in paragraph at lines 2787--2788
[][][]\T1/fi4/m/n/10 subtype.cluster.predict[][][]\T1/ptm/m/n/10 , [][]\T1/fi4/
m/n/10 intrinsic.cluster[][][]\T1/ptm/m/n/10 , [][]\T1/fi4/m/n/10 intrinsic.clu
ster.predict[][][]\T1/ptm/m/n/10 , [][]\T1/fi4/m/n/10 scmod1.robust[][][]\T1/pt
m/m/n/10 ,
(/usr/share/texmf-texlive/tex/latex/base/utf8.def) [58] [59]
(/usr/share/texmf-texlive/tex/latex/base/utf8.def) [60] [61]
(/usr/share/texmf-texlive/tex/latex/base/utf8.def) [62]
(/usr/share/texmf-texlive/tex/latex/base/utf8.def)
Overfull \hbox (11.68091pt too wide) in paragraph at lines 3078--3080
[][][]$\T1/fi4/m/n/10 http : / / www . ncbi . nlm . nih . gov / geo / query / a
cc . cgi ? acc = GSE2034$[][] [][]$http : / / www . ncbi . nlm . nih .
[63] (/usr/share/texmf-texlive/tex/latex/base/utf8.def) [64]
(/usr/share/texmf-texlive/tex/latex/base/utf8.def) (./Rd2.ind [65]
LaTeX Font Warning: Font shape `T1/fi4/m/it' undefined
(Font) using `T1/fi4/m/n' instead on input line 73.
[66] [67]) (./Rd2.aux)
LaTeX Font Warning: Some font shapes were not available, defaults substituted.
)
(see the transcript file for additional information)pdfTeX warning (dest): name
{Rfn.chron} has been referenced but does not exist, replaced by a fixed one
pdfTeX warning (dest): name{Rfn.stresc} has been referenced but does not exist,
replaced by a fixed one
pdfTeX warning (dest): name{Rfn.read.csv} has been referenced but does not exis
t, replaced by a fixed one
pdfTeX warning (dest): name{Rfn.scale} has been referenced but does not exist,
replaced by a fixed one
pdfTeX warning (dest): name{Rfn.weighted.mean} has been referenced but does not
exist, replaced by a fixed one
pdfTeX warning (dest): name{Rfn.t.test} has been referenced but does not exist,
replaced by a fixed one
pdfTeX warning (dest): name{Rfn.cor} has been referenced but does not exist, re
placed by a fixed one
pdfTeX warning (dest): name{Rfn.cordif.dep} has been referenced but does not ex
ist, replaced by a fixed one
pdfTeX warning (dest): name{Rfn.p.adjust} has been referenced but does not exis
t, replaced by a fixed one
pdfTeX warning (dest): name{Rfn.jitter} has been referenced but does not exist,
replaced by a fixed one
pdfTeX warning (dest): name{Rfn.boxplot} has been referenced but does not exist
, replaced by a fixed one
pdfTeX warning (dest): name{Rfn.points} has been referenced but does not exist,
replaced by a fixed one
pdfTeX warning (dest): name{Rfn.Mclust} has been referenced but does not exist,
replaced by a fixed one
{/usr/share/texmf-texlive/fonts/enc/dvips/base/8r.enc}{/usr/share/texmf-texlive
/fonts/enc/dvips/inconsolata/fi4-ec.enc}</usr/share/texmf-texlive/fonts/type1/p
ublic/inconsolata/Inconsolata.pfb></usr/share/texmf-texlive/fonts/type1/public/
amsfonts/cm/cmsy10.pfb></usr/share/texmf-texlive/fonts/type1/urw/helvetic/uhvr8
a.pfb></usr/share/texmf-texlive/fonts/type1/urw/times/utmb8a.pfb></usr/share/te
xmf-texlive/fonts/type1/urw/times/utmr8a.pfb></usr/share/texmf-texlive/fonts/ty
pe1/urw/times/utmr8a.pfb></usr/share/texmf-texlive/fonts/type1/urw/times/utmri8
a.pfb>
Output written on Rd2.pdf (67 pages, 362933 bytes).
Transcript written on Rd2.log.
This is makeindex, version 2.15 [TeX Live 2009] (kpathsea + Thai support).
Scanning input file Rd2.idx....done (212 entries accepted, 0 rejected).
Sorting entries.....done (1738 comparisons).
Generating output file Rd2.ind....done (225 lines written, 12 warnings).
Output written in Rd2.ind.
Transcript written in Rd2.ilg.
This is pdfTeX, Version 3.1415926-1.40.10 (TeX Live 2009/Debian)
entering extended mode
LaTeX2e <2009/09/24>
Babel <v3.8l> and hyphenation patterns for english, usenglishmax, dumylang, noh
yphenation, loaded.
(./Rd2.tex (/usr/share/texmf-texlive/tex/latex/base/book.cls
Document Class: book 2007/10/19 v1.4h Standard LaTeX document class
(/usr/share/texmf-texlive/tex/latex/base/bk10.clo))
(/home/hpages/test-puck5/bbs-2.10-bioc/R/share/texmf/tex/latex/Rd.sty
(/usr/share/texmf-texlive/tex/latex/base/ifthen.sty)
(/usr/share/texmf-texlive/tex/latex/tools/longtable.sty)
(/usr/share/texmf-texlive/tex/latex/tools/bm.sty)
(/usr/share/texmf-texlive/tex/latex/base/alltt.sty)
(/usr/share/texmf-texlive/tex/latex/tools/verbatim.sty)
(/usr/share/texmf-texlive/tex/latex/ltxmisc/url.sty) NOT loading ae
(/usr/share/texmf-texlive/tex/latex/base/fontenc.sty
(/usr/share/texmf-texlive/tex/latex/base/t1enc.def))
(/usr/share/texmf-texlive/tex/latex/psnfss/times.sty) NOT loading lmodern
(/usr/share/texmf-texlive/tex/latex/inconsolata/inconsolata.sty
(/usr/share/texmf-texlive/tex/latex/base/textcomp.sty
(/usr/share/texmf-texlive/tex/latex/base/ts1enc.def))
(/usr/share/texmf-texlive/tex/latex/graphics/keyval.sty))
(/usr/share/texmf-texlive/tex/latex/graphics/color.sty
(/etc/texmf/tex/latex/config/color.cfg)
(/usr/share/texmf-texlive/tex/latex/pdftex-def/pdftex.def))
(/usr/share/texmf-texlive/tex/latex/hyperref/hyperref.sty
(/usr/share/texmf-texlive/tex/generic/oberdiek/ifpdf.sty)
(/usr/share/texmf-texlive/tex/generic/oberdiek/ifvtex.sty)
(/usr/share/texmf-texlive/tex/generic/ifxetex/ifxetex.sty)
(/usr/share/texmf-texlive/tex/latex/oberdiek/hycolor.sty
(/usr/share/texmf-texlive/tex/latex/oberdiek/xcolor-patch.sty))
(/usr/share/texmf-texlive/tex/latex/hyperref/pd1enc.def)
(/usr/share/texmf-texlive/tex/generic/oberdiek/etexcmds.sty
(/usr/share/texmf-texlive/tex/generic/oberdiek/infwarerr.sty))
(/usr/share/texmf-texlive/tex/latex/latexconfig/hyperref.cfg)
(/usr/share/texmf-texlive/tex/latex/oberdiek/kvoptions.sty
(/usr/share/texmf-texlive/tex/generic/oberdiek/kvsetkeys.sty))
Implicit mode ON; LaTeX internals redefined
(/usr/share/texmf-texlive/tex/generic/oberdiek/bitset.sty
(/usr/share/texmf-texlive/tex/generic/oberdiek/intcalc.sty)
(/usr/share/texmf-texlive/tex/generic/oberdiek/bigintcalc.sty
(/usr/share/texmf-texlive/tex/generic/oberdiek/pdftexcmds.sty
(/usr/share/texmf-texlive/tex/generic/oberdiek/ifluatex.sty)
(/usr/share/texmf-texlive/tex/generic/oberdiek/ltxcmds.sty))))
(/usr/share/texmf-texlive/tex/generic/oberdiek/atbegshi.sty))
*hyperref using default driver hpdftex*
(/usr/share/texmf-texlive/tex/latex/hyperref/hpdftex.def)
Package hyperref Warning: Option `hyperindex' has already been used,
(hyperref) setting the option has no effect on input line 356.
Package hyperref Warning: Option `pagebackref' has already been used,
(hyperref) setting the option has no effect on input line 356.
) (/usr/share/texmf-texlive/tex/latex/base/makeidx.sty)
(/usr/share/texmf-texlive/tex/latex/base/inputenc.sty
(/usr/share/texmf-texlive/tex/latex/base/utf8.def
(/usr/share/texmf-texlive/tex/latex/base/t1enc.dfu)
(/usr/share/texmf-texlive/tex/latex/base/ot1enc.dfu)
(/usr/share/texmf-texlive/tex/latex/base/omsenc.dfu)
(/usr/share/texmf-texlive/tex/latex/base/ts1enc.dfu))
(/usr/share/texmf-texlive/tex/latex/base/latin1.def))
Writing index file Rd2.idx
(./Rd2.aux) (/usr/share/texmf-texlive/tex/latex/base/ts1cmr.fd)
(/usr/share/texmf-texlive/tex/latex/psnfss/t1ptm.fd)
(/usr/share/texmf-texlive/tex/context/base/supp-pdf.mkii
[Loading MPS to PDF converter (version 2006.09.02).]
) (/usr/share/texmf-texlive/tex/latex/hyperref/nameref.sty
(/usr/share/texmf-texlive/tex/latex/oberdiek/refcount.sty)) (./Rd2.out)
(./Rd2.out) (/usr/share/texmf-texlive/tex/latex/inconsolata/t1fi4.fd)
(/usr/share/texmf-texlive/tex/latex/psnfss/t1phv.fd) (./Rd2.toc [1{/var/lib/tex
mf/fonts/map/pdftex/updmap/pdftex.map}] [2])
(/usr/share/texmf-texlive/tex/latex/base/utf8.def) [3]
(/usr/share/texmf-texlive/tex/latex/base/utf8.def) [4]
(/usr/share/texmf-texlive/tex/latex/base/utf8.def) [5] [6]
(/usr/share/texmf-texlive/tex/latex/base/utf8.def)
Overfull \hbox (26.44766pt too wide) in paragraph at lines 269--269
[] \T1/fi4/m/n/10 p.adjust.m = c("none", "holm", "hochberg", "hommel", "bonfe
rroni", "BH", "BY", "fdr"))[]
[7] (/usr/share/texmf-texlive/tex/latex/base/utf8.def) [8]
(/usr/share/texmf-texlive/tex/latex/base/utf8.def) [9]
(/usr/share/texmf-texlive/tex/latex/base/utf8.def) [10] [11]
(/usr/share/texmf-texlive/tex/latex/base/utf8.def)
Overfull \hbox (8.95699pt too wide) in paragraph at lines 552--553
[]\T1/ptm/m/n/10 A char-ac-ter string spec-i-fy-ing the al-ter-na-tive hy-poth-
e-sis, must be one of "two.sided"
[12] (/usr/share/texmf-texlive/tex/latex/base/utf8.def)
Overfull \hbox (23.38692pt too wide) in paragraph at lines 626--627
[]\T1/ptm/m/n/10 This dataset has been gen-er-ated by the In-ter-na-tional Ge-n
omics Con-sor-tium us-ing Affymetrix hgu133plus2
[13] (/usr/share/texmf-texlive/tex/latex/base/utf8.def)
Overfull \hbox (86.44766pt too wide) in paragraph at lines 654--654
[]\T1/fi4/m/n/10 fuzzy.ttest(x, w1, w2, alternative=c("two.sided", "less", "gr
eater"), check.w = TRUE, na.rm = FALSE)[]
Overfull \hbox (6.17755pt too wide) in paragraph at lines 670--671
[]\T1/ptm/m/n/10 a char-ac-ter string spec-i-fy-ing the al-ter-na-tive hy-poth-
e-sis, must be one of "two.sided"
[14]
Overfull \hbox (137.18091pt too wide) in paragraph at lines 696--698
[][][]$\T1/fi4/m/n/10 http : / / en . wikipedia . org / wiki / T _ test$[][] []
[]$http : / / www . nicebread . de / blog / files / fc02e1635792cb0f2b3cbd1f7e6
c580b-[]10 .
Overfull \hbox (176.28088pt too wide) in paragraph at lines 722--722
[]\T1/fi4/m/n/9 randst <- apply(rands, 1, function(x, xx, ww1, ww2) { return(f
uzzy.ttest(x=xx, w1=ww1[x], w2=ww2[x])[2]) }, xx=xx, ww1=ww1, ww2=ww2)[]
(/usr/share/texmf-texlive/tex/latex/base/utf8.def) [15] [16]
(/usr/share/texmf-texlive/tex/latex/base/utf8.def) [17]
(/usr/share/texmf-texlive/tex/latex/base/utf8.def) [18]
(/usr/share/texmf-texlive/tex/latex/base/utf8.def) [19]
Overfull \hbox (2.38757pt too wide) in paragraph at lines 982--983
\T1/ptm/m/n/10 based com-pu-ta-tional ap-proach im-proves breast can-cer prog-n
os-ti-ca-tion", \T1/ptm/m/it/10 Genome Bi-ol-ogy\T1/ptm/m/n/10 , \T1/ptm/b/n/10
11\T1/ptm/m/n/10 (2):R18
[20] (/usr/share/texmf-texlive/tex/latex/base/utf8.def) [21]
(/usr/share/texmf-texlive/tex/latex/base/utf8.def) [22] [23]
(/usr/share/texmf-texlive/tex/latex/base/utf8.def) [24] [25]
(/usr/share/texmf-texlive/tex/latex/base/utf8.def)
Overfull \hbox (111.44766pt too wide) in paragraph at lines 1272--1272
[]\T1/fi4/m/n/10 map.datasets(datas, annots, do.mapping = FALSE, mapping.coln
= "EntrezGene.ID", mapping, verbose = FALSE)[]
[26]
Overfull \hbox (0.47766pt too wide) in paragraph at lines 1279--1280
[]\T1/ptm/m/n/10 List of ma-tri-ces of gene ex-pres-sions with sam-ples in rows
and probes in columns,
Overfull \hbox (0.49751pt too wide) in paragraph at lines 1282--1283
[]\T1/ptm/m/n/10 List of ma-tri-ces of an-no-ta-tions with at least one col-umn
named "En-trez-Gene.ID",
[27] (/usr/share/texmf-texlive/tex/latex/base/utf8.def)
(/usr/share/texmf-texlive/tex/latex/base/utf8.def) [28]
(/usr/share/texmf-texlive/tex/latex/base/utf8.def) [29]
(/usr/share/texmf-texlive/tex/latex/base/utf8.def) [30]
(/usr/share/texmf-texlive/tex/latex/base/utf8.def) [31]
(/usr/share/texmf-texlive/tex/latex/base/utf8.def) [32]
Overfull \hbox (11.59784pt too wide) in paragraph at lines 1619--1620
[]\T1/ptm/m/n/10 Use of the of-fi-cial cen-troids with ro-bust scal-ing of the
gene ex-pres-sions (see [][]\T1/fi4/m/n/10 rescale[][][]\T1/ptm/m/n/10 ).
[33] (/usr/share/texmf-texlive/tex/latex/base/utf8.def) [34]
(/usr/share/texmf-texlive/tex/latex/base/utf8.def) [35]
(/usr/share/texmf-texlive/tex/latex/base/utf8.def) [36]
(/usr/share/texmf-texlive/tex/latex/base/utf8.def)
(/usr/share/texmf-texlive/tex/latex/base/utf8.def) [37] [38]
(/usr/share/texmf-texlive/tex/latex/base/utf8.def) [39]
(/usr/share/texmf-texlive/tex/latex/base/utf8.def)
(/usr/share/texmf-texlive/tex/latex/base/utf8.def) [40]
(/usr/share/texmf-texlive/tex/latex/base/utf8.def) [41]
(/usr/share/texmf-texlive/tex/latex/base/utf8.def) [42]
Overfull \hbox (15.78088pt too wide) in paragraph at lines 2087--2088
[][][]$\T1/fi4/m/n/10 http : / / www . thelancet . com / journals / lancet / ar
ticle / PIIS0140-[]6736(05 ) 17947-[]1 / abstract$[][]
(/usr/share/texmf-texlive/tex/latex/base/utf8.def)
Overfull \hbox (2.38757pt too wide) in paragraph at lines 2119--2120
\T1/ptm/m/n/10 based com-pu-ta-tional ap-proach im-proves breast can-cer prog-n
os-ti-ca-tion", \T1/ptm/m/it/10 Genome Bi-ol-ogy\T1/ptm/m/n/10 , \T1/ptm/b/n/10
11\T1/ptm/m/n/10 (2):R18
[43] (/usr/share/texmf-texlive/tex/latex/base/utf8.def)
(/usr/share/texmf-texlive/tex/latex/base/utf8.def) [44]
(/usr/share/texmf-texlive/tex/latex/base/utf8.def) [45]
(/usr/share/texmf-texlive/tex/latex/base/utf8.def) [46]
(/usr/share/texmf-texlive/tex/latex/base/utf8.def)
Underfull \hbox (badness 3009) in paragraph at lines 2301--2301
[]\T1/ptm/m/it/10 Tamoxifen Re-sis-tance sig-na-ture com-posed of 13 gene clus-
ters
[47] (/usr/share/texmf-texlive/tex/latex/base/utf8.def) [48]
(/usr/share/texmf-texlive/tex/latex/base/utf8.def) [49] [50]
(/usr/share/texmf-texlive/tex/latex/base/utf8.def) [51]
(/usr/share/texmf-texlive/tex/latex/base/utf8.def) [52]
(/usr/share/texmf-texlive/tex/latex/base/utf8.def) [53] [54]
(/usr/share/texmf-texlive/tex/latex/base/utf8.def) [55]
(/usr/share/texmf-texlive/tex/latex/base/utf8.def) [56] [57]
Overfull \hbox (10.84094pt too wide) in paragraph at lines 2787--2788
[][][]\T1/fi4/m/n/10 subtype.cluster.predict[][][]\T1/ptm/m/n/10 , [][]\T1/fi4/
m/n/10 intrinsic.cluster[][][]\T1/ptm/m/n/10 , [][]\T1/fi4/m/n/10 intrinsic.clu
ster.predict[][][]\T1/ptm/m/n/10 , [][]\T1/fi4/m/n/10 scmod1.robust[][][]\T1/pt
m/m/n/10 ,
(/usr/share/texmf-texlive/tex/latex/base/utf8.def) [58] [59]
(/usr/share/texmf-texlive/tex/latex/base/utf8.def) [60] [61]
(/usr/share/texmf-texlive/tex/latex/base/utf8.def) [62]
(/usr/share/texmf-texlive/tex/latex/base/utf8.def)
Overfull \hbox (11.68091pt too wide) in paragraph at lines 3078--3080
[][][]$\T1/fi4/m/n/10 http : / / www . ncbi . nlm . nih . gov / geo / query / a
cc . cgi ? acc = GSE2034$[][] [][]$http : / / www . ncbi . nlm . nih .
[63] (/usr/share/texmf-texlive/tex/latex/base/utf8.def) [64]
(/usr/share/texmf-texlive/tex/latex/base/utf8.def) (./Rd2.ind [65]
LaTeX Font Warning: Font shape `T1/fi4/m/it' undefined
(Font) using `T1/fi4/m/n' instead on input line 73.
[66] [67]) (./Rd2.aux)
LaTeX Font Warning: Some font shapes were not available, defaults substituted.
)
(see the transcript file for additional information)pdfTeX warning (dest): name
{Rfn.chron} has been referenced but does not exist, replaced by a fixed one
pdfTeX warning (dest): name{Rfn.stresc} has been referenced but does not exist,
replaced by a fixed one
pdfTeX warning (dest): name{Rfn.read.csv} has been referenced but does not exis
t, replaced by a fixed one
pdfTeX warning (dest): name{Rfn.scale} has been referenced but does not exist,
replaced by a fixed one
pdfTeX warning (dest): name{Rfn.weighted.mean} has been referenced but does not
exist, replaced by a fixed one
pdfTeX warning (dest): name{Rfn.t.test} has been referenced but does not exist,
replaced by a fixed one
pdfTeX warning (dest): name{Rfn.cor} has been referenced but does not exist, re
placed by a fixed one
pdfTeX warning (dest): name{Rfn.cordif.dep} has been referenced but does not ex
ist, replaced by a fixed one
pdfTeX warning (dest): name{Rfn.p.adjust} has been referenced but does not exis
t, replaced by a fixed one
pdfTeX warning (dest): name{Rfn.jitter} has been referenced but does not exist,
replaced by a fixed one
pdfTeX warning (dest): name{Rfn.boxplot} has been referenced but does not exist
, replaced by a fixed one
pdfTeX warning (dest): name{Rfn.points} has been referenced but does not exist,
replaced by a fixed one
pdfTeX warning (dest): name{Rfn.Mclust} has been referenced but does not exist,
replaced by a fixed one
{/usr/share/texmf-texlive/fonts/enc/dvips/base/8r.enc}{/usr/share/texmf-texlive
/fonts/enc/dvips/inconsolata/fi4-ec.enc}</usr/share/texmf-texlive/fonts/type1/p
ublic/inconsolata/Inconsolata.pfb></usr/share/texmf-texlive/fonts/type1/public/
amsfonts/cm/cmsy10.pfb></usr/share/texmf-texlive/fonts/type1/urw/helvetic/uhvr8
a.pfb></usr/share/texmf-texlive/fonts/type1/urw/times/utmb8a.pfb></usr/share/te
xmf-texlive/fonts/type1/urw/times/utmr8a.pfb></usr/share/texmf-texlive/fonts/ty
pe1/urw/times/utmr8a.pfb></usr/share/texmf-texlive/fonts/type1/urw/times/utmri8
a.pfb>
Output written on Rd2.pdf (67 pages, 363422 bytes).
Transcript written on Rd2.log.
Saving output to '/tmp/RtmpbB50h4/Rbuild5dc62221e6bb/genefu/build/genefu.pdf' ...
Done
* creating vignettes ... OK
* checking for LF line-endings in source and make files
* checking for empty or unneeded directories
* looking to see if a 'data/datalist' file should be added
* building 'genefu_1.6.0.tar.gz'