iBBiG 1.0.2 Aedin Culhane
Snapshot Date: 2012-09-23 17:01:39 -0700 (Sun, 23 Sep 2012) | URL: https://hedgehog.fhcrc.org/bioconductor/branches/RELEASE_2_10/madman/Rpacks/iBBiG | Last Changed Rev: 68922 / Revision: 69725 | Last Changed Date: 2012-08-29 12:17:15 -0700 (Wed, 29 Aug 2012) |
| lamb2 | Linux (openSUSE 11.4) / x86_64 | OK | OK | |
moscato2 | Windows Server 2008 R2 Enterprise SP1 (64-bit) / x64 | OK | OK | [ OK ] |
petty | Mac OS X Leopard (10.5.8) / i386 | OK | OK | OK |
install for i386
* installing *source* package 'iBBiG' ...
** libs
gcc -I"E:/biocbld/BBS-2˜1.10-/R/include" -DNDEBUG -O3 -Wall -std=gnu99 -mtune=core2 -c R_init_iBBiG.c -o R_init_iBBiG.o
gcc -I"E:/biocbld/BBS-2˜1.10-/R/include" -DNDEBUG -O3 -Wall -std=gnu99 -mtune=core2 -c iBBiG.c -o iBBiG.o
iBBiG.c: In function 'clusterCovsC':
iBBiG.c:300:6: warning: implicit declaration of function 'time' [-Wimplicit-function-declaration]
gcc -shared -s -static-libgcc -o iBBiG.dll tmp.def R_init_iBBiG.o iBBiG.o -LE:/biocbld/BBS-2˜1.10-/R/bin/i386 -lR
installing to E:/biocbld/bbs-2.10-bioc/meat/iBBiG.buildbin-libdir/iBBiG/libs/i386
** R
** inst
** preparing package for lazy loading
** help
*** installing help indices
** building package indices
** installing vignettes
'tutorial.Rnw'
** testing if installed package can be loaded
install for x64
* installing *source* package 'iBBiG' ...
** libs
gcc -m64 -I"E:/biocbld/BBS-2˜1.10-/R/include" -DNDEBUG -I"d:/RCompile/CRANpkg/extralibs64/local/include" -O2 -Wall -std=gnu99 -mtune=core2 -c R_init_iBBiG.c -o R_init_iBBiG.o
gcc -m64 -I"E:/biocbld/BBS-2˜1.10-/R/include" -DNDEBUG -I"d:/RCompile/CRANpkg/extralibs64/local/include" -O2 -Wall -std=gnu99 -mtune=core2 -c iBBiG.c -o iBBiG.o
iBBiG.c: In function 'clusterCovsC':
iBBiG.c:300:6: warning: implicit declaration of function 'time' [-Wimplicit-function-declaration]
gcc -m64 -shared -s -static-libgcc -o iBBiG.dll tmp.def R_init_iBBiG.o iBBiG.o -Ld:/RCompile/CRANpkg/extralibs64/local/lib/x64 -Ld:/RCompile/CRANpkg/extralibs64/local/lib -LE:/biocbld/BBS-2~1.10-/R/bin/x64 -lR
installing to E:/biocbld/bbs-2.10-bioc/meat/iBBiG.buildbin-libdir/iBBiG/libs/x64
** testing if installed package can be loaded
* MD5 sums
packaged installation of 'iBBiG' as iBBiG_1.0.2.zip
* DONE (iBBiG)