iBBiG 1.0.2 Aedin Culhane
Snapshot Date: 2012-09-23 17:01:39 -0700 (Sun, 23 Sep 2012) | URL: https://hedgehog.fhcrc.org/bioconductor/branches/RELEASE_2_10/madman/Rpacks/iBBiG | Last Changed Rev: 68922 / Revision: 69725 | Last Changed Date: 2012-08-29 12:17:15 -0700 (Wed, 29 Aug 2012) |
| lamb2 | Linux (openSUSE 11.4) / x86_64 | OK | OK | |
moscato2 | Windows Server 2008 R2 Enterprise SP1 (64-bit) / x64 | [ OK ] | OK | OK |
petty | Mac OS X Leopard (10.5.8) / i386 | OK | OK | OK |
* checking for file 'iBBiG/DESCRIPTION' ... OK
* preparing 'iBBiG':
* checking DESCRIPTION meta-information ... OK
* cleaning src
* installing the package to re-build vignettes
* creating vignettes ... OK
* cleaning src
* checking for LF line-endings in source and make files
* checking for empty or unneeded directories
* building 'iBBiG_1.0.2.tar.gz'