mcaGUI 1.4.0 Wade K. Copeland
Snapshot Date: 2012-09-23 17:01:39 -0700 (Sun, 23 Sep 2012) | URL: https://hedgehog.fhcrc.org/bioconductor/branches/RELEASE_2_10/madman/Rpacks/mcaGUI | Last Changed Rev: 64678 / Revision: 69725 | Last Changed Date: 2012-03-30 15:05:02 -0700 (Fri, 30 Mar 2012) |
| lamb2 | Linux (openSUSE 11.4) / x86_64 | OK | OK | |
moscato2 | Windows Server 2008 R2 Enterprise SP1 (64-bit) / x64 | OK | OK | [ OK ] |
petty | Mac OS X Leopard (10.5.8) / i386 | OK | OK | OK |
install for i386
* installing *source* package 'mcaGUI' ...
** R
** inst
** preparing package for lazy loading
Warning in .simpleDuplicateClass(def, prev) :
A specification for class ".ShortReadBase" in package 'OTUbase' seems equivalent to one from package 'ShortRead' and is not turning on duplicate class definitions for this class
** help
*** installing help indices
** building package indices
** installing vignettes
** testing if installed package can be loaded
Warning in .simpleDuplicateClass(def, prev) :
A specification for class ".ShortReadBase" in package 'OTUbase' seems equivalent to one from package 'ShortRead' and is not turning on duplicate class definitions for this class
Loading mcaGUI()
[1] "You can access the mcaGUI vignette by browsing to: "
[1] "E:/biocbld/bbs-2.10-bioc/meat/mcaGUI.buildbin-libdir/mcaGUI/doc/An_Introduction_and_User_Guide_for_mcaGUI.pdf"
GUI requires an interactive environment
install for x64
* installing *source* package 'mcaGUI' ...
** testing if installed package can be loaded
Warning in .simpleDuplicateClass(def, prev) :
A specification for class ".ShortReadBase" in package 'OTUbase' seems equivalent to one from package 'ShortRead' and is not turning on duplicate class definitions for this class
Loading mcaGUI()
[1] "You can access the mcaGUI vignette by browsing to: "
[1] "E:/biocbld/bbs-2.10-bioc/meat/mcaGUI.buildbin-libdir/mcaGUI/doc/An_Introduction_and_User_Guide_for_mcaGUI.pdf"
GUI requires an interactive environment
* MD5 sums
packaged installation of 'mcaGUI' as mcaGUI_1.4.0.zip
* DONE (mcaGUI)