Back to the "Multiple platform build/check report" A  B  C  D  E  F  G  H  I  J  K  L  M  N  O [P] Q  R  S  T  U  V  W  X  Y  Z 

Package 393/554HostnameOS / ArchBUILDCHECKBUILD BIN
pcaMethods 1.42.0
Wolfram Stacklies
Snapshot Date: 2012-03-31 17:01:49 -0700 (Sat, 31 Mar 2012)
URL: https://hedgehog.fhcrc.org/bioconductor/branches/RELEASE_2_10/madman/Rpacks/pcaMethods
Last Changed Rev: 64678 / Revision: 64719
Last Changed Date: 2012-03-30 15:05:02 -0700 (Fri, 30 Mar 2012)
lamb2 Linux (openSUSE 11.4) / x86_64  OK  OK 
puck5 Linux (Ubuntu 12.04) / x86_64  OK [ OK ]
moscato2 Windows Server 2008 R2 Enterprise SP1 (64-bit) / x64  OK  OK  OK 
petty Mac OS X Leopard (10.5.8) / i386  OK  OK  OK 

Summary

Package: pcaMethods
Version: 1.42.0
Command: /home/hpages/test-puck5/bbs-2.10-bioc/R/bin/R CMD check --no-vignettes --timings pcaMethods_1.42.0.tar.gz
StartedAt: 2012-04-01 02:36:36 -0700 (Sun, 01 Apr 2012)
EndedAt: 2012-04-01 02:38:44 -0700 (Sun, 01 Apr 2012)
EllapsedTime: 127.9 seconds
RetCode: 0
Status:  OK 
CheckDir: pcaMethods.Rcheck
Warnings: 0

Command output

* using log directory '/loc/home/hpages/test-puck5/bbs-2.10-bioc/meat/pcaMethods.Rcheck'
* using R version 2.15.0 RC (2012-03-22 r58802)
* using platform: x86_64-unknown-linux-gnu (64-bit)
* using session charset: ISO8859-1
* using option '--no-vignettes'
* checking for file 'pcaMethods/DESCRIPTION' ... OK
* this is package 'pcaMethods' version '1.42.0'
* checking package namespace information ... OK
* checking package dependencies ... OK
* checking if this is a source package ... OK
* checking if there is a namespace ... OK
* checking whether package 'pcaMethods' can be installed ... OK
* checking installed package size ... OK
* checking package directory ... OK
* checking for portable file names ... OK
* checking for sufficient/correct file permissions ... OK
* checking DESCRIPTION meta-information ... OK
* checking top-level files ... OK
* checking index information ... OK
* checking package subdirectories ... OK
* checking R files for non-ASCII characters ... OK
* checking R files for syntax errors ... OK
* checking whether the package can be loaded ... OK
* checking whether the package can be loaded with stated dependencies ... OK
* checking whether the package can be unloaded cleanly ... OK
* checking whether the namespace can be loaded with stated dependencies ... OK
* checking whether the namespace can be unloaded cleanly ... OK
* checking for unstated dependencies in R code ... OK
* checking S3 generic/method consistency ... OK
* checking replacement functions ... OK
* checking foreign function calls ... OK
* checking R code for possible problems ... NOTE
File 'pcaMethods/R/pca.R':
  .onLoad calls:
    require("methods")

Package startup functions should not change the search path.
See section 'Good practice' in ?.onAttach.

* checking Rd files ... OK
* checking Rd metadata ... OK
* checking Rd cross-references ... OK
* checking for missing documentation entries ... OK
* checking for code/documentation mismatches ... OK
* checking Rd \usage sections ... NOTE
S3 methods shown with full name in documentation object 'biplot.pcaRes':
  'biplot.pcaRes'

S3 methods shown with full name in documentation object 'dim.pcaRes':
  'dim.pcaRes'

S3 methods shown with full name in documentation object 'fitted.pcaRes':
  'fitted.pcaRes'

S3 methods shown with full name in documentation object 'loadings.pcaRes':
  'loadings.pcaRes'

S3 methods shown with full name in documentation object 'plot.pcaRes':
  'plot.pcaRes'

S3 methods shown with full name in documentation object 'predict.pcaRes':
  'predict.pcaRes'

S3 methods shown with full name in documentation object 'residuals.pcaRes':
  'residuals.pcaRes'

S3 methods shown with full name in documentation object 'scores.pcaRes':
  'scores.pcaRes'

The \usage entries for S3 methods should use the \method markup and not
their full name.
See the chapter 'Writing R documentation files' in the 'Writing R
Extensions' manual.
* checking Rd contents ... OK
* checking for unstated dependencies in examples ... OK
* checking contents of 'data' directory ... OK
* checking data for non-ASCII characters ... OK
* checking data for ASCII and uncompressed saves ... OK
* checking line endings in C/C++/Fortran sources/headers ... OK
* checking line endings in Makefiles ... OK
* checking for portable compilation flags in Makevars ... OK
* checking for portable use of $(BLAS_LIBS) and $(LAPACK_LIBS) ... OK
* checking compiled code ... OK
* checking installed files from 'inst/doc' ... OK
* checking examples ... OK
* checking for unstated dependencies in vignettes ... NOTE
'library' or 'require' call not declared from: 'lattice'
* checking package vignettes in 'inst/doc' ... OK
* checking running R code from vignettes ... SKIPPED
* checking re-building of vignettes ... SKIPPED
* checking PDF version of manual ... OK

NOTE: There were 3 notes.
See
  '/loc/home/hpages/test-puck5/bbs-2.10-bioc/meat/pcaMethods.Rcheck/00check.log'
for details.

pcaMethods.Rcheck/00install.out:

* installing *source* package 'pcaMethods' ...
** libs
g++ -I/home/hpages/test-puck5/bbs-2.10-bioc/R/include -DNDEBUG  -I/usr/local/include -I"/loc/home/hpages/test-puck5/bbs-2.10-bioc/R/library/Rcpp/include"   -fpic  -g -O2  -c nipals.cpp -o nipals.o
g++ -shared -L/usr/local/lib -o pcaMethods.so nipals.o -L/loc/home/hpages/test-puck5/bbs-2.10-bioc/R/library/Rcpp/lib -lRcpp -Wl,-rpath,/loc/home/hpages/test-puck5/bbs-2.10-bioc/R/library/Rcpp/lib -L/home/hpages/test-puck5/bbs-2.10-bioc/R/lib -lR
installing to /loc/home/hpages/test-puck5/bbs-2.10-bioc/meat/pcaMethods.Rcheck/pcaMethods/libs
** R
** data
** inst
** preparing package for lazy loading
Creating a generic function for 'print' from package 'base' in package 'pcaMethods'
Creating a generic function for 'biplot' from package 'stats' in package 'pcaMethods'
Creating a generic function for 'summary' from package 'base' in package 'pcaMethods'
Creating a generic function for 'predict' from package 'stats' in package 'pcaMethods'
Creating a generic function for 'resid' from package 'stats' in package 'pcaMethods'
Creating a generic function for 'fitted' from package 'stats' in package 'pcaMethods'
** help
*** installing help indices
** building package indices
** installing vignettes
   'missingValues.Rnw' 
   'outliers.Rnw' 
   'pcaMethods.Rnw' 
** testing if installed package can be loaded

* DONE (pcaMethods)

pcaMethods.Rcheck/pcaMethods-Ex.timings:

nameusersystemelapsed
DModX0.0840.0080.109
Q20.1080.0000.123
RnipalsPca0.3000.0000.311
biplot-dot-pcaRes0.0120.0040.029
bpca1.3960.0041.408
cvseg0.0120.0000.011
fitted-dot-pcaRes0.0080.0000.008
kEstimate21.137 0.00021.163
kEstimateFast0.2640.0000.275
leverage0.0160.0000.034
llsImpute0.2600.0000.269
nipalsPca0.0160.0000.024
nlpca1.6440.0001.658
nni0.2080.0000.217
pca0.0680.0040.105
plot-dot-pcaRes0.2440.0000.254
plotPcs0.0200.0000.037
ppca0.1320.0040.148
predict-dot-pcaRes0.0120.0040.029
prep0.0000.0000.001
residuals-dot-pcaRes0.0160.0000.030
robustPca14.721 0.02814.815
robustSvd35.306 0.01235.395
slplot0.0240.0000.041
svdImpute0.1360.0000.147
svdPca0.0200.0040.034
wasna0.0160.0000.037