plier 1.26.0 Crispin Miller
Snapshot Date: 2012-09-23 17:01:39 -0700 (Sun, 23 Sep 2012) | URL: https://hedgehog.fhcrc.org/bioconductor/branches/RELEASE_2_10/madman/Rpacks/plier | Last Changed Rev: 64678 / Revision: 69725 | Last Changed Date: 2012-03-30 15:05:02 -0700 (Fri, 30 Mar 2012) |
| lamb2 | Linux (openSUSE 11.4) / x86_64 | OK | OK | |
moscato2 | Windows Server 2008 R2 Enterprise SP1 (64-bit) / x64 | OK | OK | [ OK ] |
petty | Mac OS X Leopard (10.5.8) / i386 | OK | OK | OK |
install for i386
* installing *source* package 'plier' ...
** libs
g++ -I"E:/biocbld/BBS-2˜1.10-/R/include" -DNDEBUG -O2 -Wall -mtune=core2 -c affyplier.cpp -o affyplier.o
g++ -I"E:/biocbld/BBS-2˜1.10-/R/include" -DNDEBUG -O2 -Wall -mtune=core2 -c plier_impl.cpp -o plier_impl.o
g++ -I"E:/biocbld/BBS-2˜1.10-/R/include" -DNDEBUG -O2 -Wall -mtune=core2 -c plieralg.cpp -o plieralg.o
plieralg.cpp: In function 'long int NewtonPlier(plier_data*, double&)':
plieralg.cpp:905:14: warning: variable 'icount' set but not used [-Wunused-but-set-variable]
plieralg.cpp:1257:30: warning: 'LogLikelihood' may be used uninitialized in this function [-Wuninitialized]
plieralg.cpp: At global scope:
plieralg.cpp:49:12: warning: 'g_ErrorCode' defined but not used [-Wunused-variable]
g++ -I"E:/biocbld/BBS-2˜1.10-/R/include" -DNDEBUG -O2 -Wall -mtune=core2 -c rwrapper.cpp -o rwrapper.o
g++ -shared -s -static-libgcc -o plier.dll tmp.def affyplier.o plier_impl.o plieralg.o rwrapper.o -LE:/biocbld/BBS-2˜1.10-/R/bin/i386 -lR
installing to E:/biocbld/bbs-2.10-bioc/meat/plier.buildbin-libdir/plier/libs/i386
** R
** preparing package for lazy loading
** help
*** installing help indices
** building package indices
** testing if installed package can be loaded
install for x64
* installing *source* package 'plier' ...
** libs
g++ -m64 -I"E:/biocbld/BBS-2˜1.10-/R/include" -DNDEBUG -I"d:/RCompile/CRANpkg/extralibs64/local/include" -O2 -Wall -mtune=core2 -c affyplier.cpp -o affyplier.o
g++ -m64 -I"E:/biocbld/BBS-2˜1.10-/R/include" -DNDEBUG -I"d:/RCompile/CRANpkg/extralibs64/local/include" -O2 -Wall -mtune=core2 -c plier_impl.cpp -o plier_impl.o
g++ -m64 -I"E:/biocbld/BBS-2˜1.10-/R/include" -DNDEBUG -I"d:/RCompile/CRANpkg/extralibs64/local/include" -O2 -Wall -mtune=core2 -c plieralg.cpp -o plieralg.o
plieralg.cpp: In function 'long int NewtonPlier(plier_data*, double&)':
plieralg.cpp:905:14: warning: variable 'icount' set but not used [-Wunused-but-set-variable]
plieralg.cpp:1257:30: warning: 'LogLikelihood' may be used uninitialized in this function [-Wuninitialized]
plieralg.cpp: At global scope:
plieralg.cpp:49:12: warning: 'g_ErrorCode' defined but not used [-Wunused-variable]
g++ -m64 -I"E:/biocbld/BBS-2˜1.10-/R/include" -DNDEBUG -I"d:/RCompile/CRANpkg/extralibs64/local/include" -O2 -Wall -mtune=core2 -c rwrapper.cpp -o rwrapper.o
g++ -m64 -shared -s -static-libgcc -o plier.dll tmp.def affyplier.o plier_impl.o plieralg.o rwrapper.o -Ld:/RCompile/CRANpkg/extralibs64/local/lib/x64 -Ld:/RCompile/CRANpkg/extralibs64/local/lib -LE:/biocbld/BBS-2~1.10-/R/bin/x64 -lR
installing to E:/biocbld/bbs-2.10-bioc/meat/plier.buildbin-libdir/plier/libs/x64
** testing if installed package can be loaded
* MD5 sums
packaged installation of 'plier' as plier_1.26.0.zip
* DONE (plier)