Back to the "Multiple platform build/check report" | A B C D E F G H I J K L M N O [P] Q R S T U V W X Y Z |
Package 409/553 | Hostname | OS / Arch | BUILD | CHECK | BUILD BIN | ||||
plier 1.26.0 Crispin Miller
| lamb2 | Linux (openSUSE 11.4) / x86_64 | OK | OK | |||||
moscato2 | Windows Server 2008 R2 Enterprise SP1 (64-bit) / x64 | [ OK ] | OK | OK | |||||
petty | Mac OS X Leopard (10.5.8) / i386 | OK | OK | OK |
Package: plier |
Version: 1.26.0 |
Command: chmod a+r plier -R && E:\biocbld\bbs-2.10-bioc\R\bin\R.exe CMD build --keep-empty-dirs --no-resave-data plier |
StartedAt: 2012-09-23 22:04:29 -0700 (Sun, 23 Sep 2012) |
EndedAt: 2012-09-23 22:04:33 -0700 (Sun, 23 Sep 2012) |
EllapsedTime: 4.1 seconds |
RetCode: 0 |
Status: OK |
PackageFile: plier_1.26.0.tar.gz |
PackageFileSize: 20.5 KiB |
* checking for file 'plier/DESCRIPTION' ... OK * preparing 'plier': * checking DESCRIPTION meta-information ... OK * cleaning src * checking for LF line-endings in source and make files * checking for empty or unneeded directories * building 'plier_1.26.0.tar.gz'