QUALIFIER 1.3.1 Mike Jiang
Snapshot Date: 2013-01-01 17:01:08 -0800 (Tue, 01 Jan 2013) | URL: https://hedgehog.fhcrc.org/bioconductor/trunk/madman/Rpacks/QUALIFIER | Last Changed Rev: 71791 / Revision: 72222 | Last Changed Date: 2012-12-10 21:44:06 -0800 (Mon, 10 Dec 2012) |
| george2 | Linux (Ubuntu 12.04.1 LTS) / x86_64 | OK | OK | |
lamb2 | Linux (openSUSE 11.4) / x86_64 | OK | OK | |
moscato2 | Windows Server 2008 R2 Enterprise SP1 (64-bit) / x64 | OK | OK | [ OK ] |
petty | Mac OS X Leopard (10.5.8) / i386 | OK | OK | OK |
install for i386
* installing *source* package 'QUALIFIER' ...
** R
** data
** inst
** preparing package for lazy loading
** help
*** installing help indices
** building package indices
** installing vignettes
'QUALIFIER.Rnw'
** testing if installed package can be loaded
install for x64
* installing *source* package 'QUALIFIER' ...
** testing if installed package can be loaded
* MD5 sums
packaged installation of 'QUALIFIER' as QUALIFIER_1.3.1.zip
* DONE (QUALIFIER)