RpsiXML 2.0.0 Jitao David Zhang
Snapshot Date: 2013-03-19 17:01:12 -0700 (Tue, 19 Mar 2013) | URL: https://hedgehog.fhcrc.org/bioconductor/trunk/madman/Rpacks/RpsiXML | Last Changed Rev: 70811 / Revision: 74585 | Last Changed Date: 2012-10-28 00:37:54 -0700 (Sun, 28 Oct 2012) |
| george2 | Linux (Ubuntu 12.04.1 LTS) / x86_64 | OK | OK | |
moscato2 | Windows Server 2008 R2 Enterprise SP1 (64-bit) / x64 | OK | OK | OK |
petty | Mac OS X Leopard (10.5.8) / i386 | OK | OK | OK |
pelham | Mac OS X Snow Leopard (10.6.8) / x86_64 | OK | OK | [ OK ] |
* installing *source* package 'RpsiXML' ...
** R
** inst
** preparing package for lazy loading
** help
*** installing help indices
** building package indices
** installing vignettes
'RpsiXML.Rnw'
'RpsiXMLApp.Rnw'
** testing if installed package can be loaded
packaged installation of 'RpsiXML' as 'RpsiXML_2.0.0.tgz'
* DONE (RpsiXML)