Back to the "Multiple platform build/check report" A  B  C  D  E  F  G  H  I  J  K  L  M  N  O  P  Q [R] S  T  U  V  W  X  Y  Z 

Package 551/653HostnameOS / ArchBUILDCHECKBUILD BIN
RpsiXML 2.0.0
Jitao David Zhang
Snapshot Date: 2013-03-19 17:01:12 -0700 (Tue, 19 Mar 2013)
URL: https://hedgehog.fhcrc.org/bioconductor/trunk/madman/Rpacks/RpsiXML
Last Changed Rev: 70811 / Revision: 74585
Last Changed Date: 2012-10-28 00:37:54 -0700 (Sun, 28 Oct 2012)
george2 Linux (Ubuntu 12.04.1 LTS) / x86_64  OK  OK 
moscato2 Windows Server 2008 R2 Enterprise SP1 (64-bit) / x64  OK  OK  OK 
petty Mac OS X Leopard (10.5.8) / i386  OK  OK  OK 
pelham Mac OS X Snow Leopard (10.6.8) / x86_64  OK [ OK ] OK 

Summary

Package: RpsiXML
Version: 2.0.0
Command: /Library/Frameworks/R.framework/Versions/Current/Resources/bin/R CMD check --no-vignettes --timings --no-multiarch RpsiXML_2.0.0.tar.gz
StartedAt: 2013-03-20 09:58:21 -0700 (Wed, 20 Mar 2013)
EndedAt: 2013-03-20 10:03:24 -0700 (Wed, 20 Mar 2013)
EllapsedTime: 302.6 seconds
RetCode: 0
Status:  OK 
CheckDir: RpsiXML.Rcheck
Warnings: 0

Command output

* using log directory '/Users/biocbuild/bbs-2.12-bioc/meat/RpsiXML.Rcheck'
* using R version 3.0.0 alpha (2013-03-16 r62280)
* using platform: x86_64-apple-darwin10.8.0 (64-bit)
* using session charset: ASCII
* using option '--no-vignettes'
* checking for file 'RpsiXML/DESCRIPTION' ... OK
* this is package 'RpsiXML' version '2.0.0'
* checking package namespace information ... OK
* checking package dependencies ... OK
* checking if this is a source package ... OK
* checking if there is a namespace ... OK
* checking for hidden files and directories ... OK
* checking for portable file names ... OK
* checking for sufficient/correct file permissions ... OK
* checking whether package 'RpsiXML' can be installed ... [19s/29s] OK
* checking installed package size ... NOTE
  installed size is 33.8Mb
  sub-directories of 1Mb or more:
    extdata  32.7Mb
* checking package directory ... OK
* checking DESCRIPTION meta-information ... OK
* checking top-level files ... OK
* checking for left-over files ... OK
* checking index information ... OK
* checking package subdirectories ... OK
* checking R files for non-ASCII characters ... OK
* checking R files for syntax errors ... OK
* checking whether the package can be loaded ... OK
* checking whether the package can be loaded with stated dependencies ... OK
* checking whether the package can be unloaded cleanly ... OK
* checking whether the namespace can be loaded with stated dependencies ... OK
* checking whether the namespace can be unloaded cleanly ... OK
* checking for unstated dependencies in R code ... OK
* checking S3 generic/method consistency ... OK
* checking replacement functions ... OK
* checking foreign function calls ... OK
* checking R code for possible problems ... OK
* checking Rd files ... OK
* checking Rd metadata ... OK
* checking Rd cross-references ... OK
* checking for missing documentation entries ... OK
* checking for code/documentation mismatches ... OK
* checking Rd \usage sections ... OK
* checking Rd contents ... OK
* checking for unstated dependencies in examples ... OK
* checking installed files from 'inst/doc' ... NOTE
The following files should probably not be installed:
  'underscore.sty'

Consider the use of a .Rinstignore file: see 'Writing R Extensions',
or move the vignette sources from 'inst/doc' to 'vignettes'.
* checking examples ... [55s/57s] OK
Examples with CPU or elapsed time > 5s
                       user system elapsed
translateID           9.565  0.158   9.849
graphSpeciesConverter 4.951  0.182   5.235
* checking for unstated dependencies in tests ... OK
* checking tests ...
  Running 'psimi25Source_test.R' [45s/45s]
 [46s/46s] OK
* checking for unstated dependencies in vignettes ... OK
* checking package vignettes in 'inst/doc' ... OK
* checking running R code from vignettes ... SKIPPED
* checking re-building of vignettes ... SKIPPED
* checking PDF version of manual ... OK

NOTE: There were 2 notes.
See
  '/Users/biocbuild/bbs-2.12-bioc/meat/RpsiXML.Rcheck/00check.log'
for details.

RpsiXML.Rcheck/00install.out:

* installing *source* package 'RpsiXML' ...
** R
** inst
** preparing package for lazy loading
** help
*** installing help indices
** building package indices
** installing vignettes
   'RpsiXML.Rnw' 
   'RpsiXMLApp.Rnw' 
** testing if installed package can be loaded
* DONE (RpsiXML)

RpsiXML.Rcheck/RpsiXML-Ex.timings:

nameusersystemelapsed
availableXrefs0.1400.0080.149
bait0.0970.0070.123
buildPCHypergraph3.7220.0693.858
complexName3.3330.0703.470
complexes4.2650.1494.516
eListHandler0.0290.0040.033
getAbstractByPMID0.7860.0391.989
graphSpeciesConverter4.9510.1825.235
interactionType0.4480.0240.478
interactions0.1230.0110.152
interactorInfo0.1040.0070.112
interactors3.4550.1313.674
null2na0.0090.0030.012
parsePsimi25Interaction4.4440.0764.536
psimi25Complex-class0.0090.0040.014
psimi25ComplexEntry-class0.0100.0040.014
psimi25Experiment-class0.0090.0030.012
psimi25Graph-class0.0100.0040.014
psimi25Hypergraph-class3.4190.0273.467
psimi25Hypergraph2GraphNEL0.0090.0030.011
psimi25Interaction-class0.0170.0040.020
psimi25InteractionEntry-class0.0150.0030.019
psimi25Interactor-class0.0110.0040.016
psimi25Source-class0.0110.0030.014
psimi25XML2Graph4.4210.0624.511
separateXMLDataByExpt0.8790.0320.912
translateID9.5650.1589.849
uniprot0.0100.0040.014
validatePSIMI250.1120.0340.187