cosmo 1.25.1 Oliver Bembom
Snapshot Date: 2013-01-15 17:01:14 -0800 (Tue, 15 Jan 2013) | URL: https://hedgehog.fhcrc.org/bioconductor/trunk/madman/Rpacks/cosmo | Last Changed Rev: 70686 / Revision: 72575 | Last Changed Date: 2012-10-19 12:17:05 -0700 (Fri, 19 Oct 2012) |
| george2 | Linux (Ubuntu 12.04.1 LTS) / x86_64 | ERROR | skipped | |
lamb2 | Linux (openSUSE 11.4) / x86_64 | [ ERROR ] | skipped | |
moscato2 | Windows Server 2008 R2 Enterprise SP1 (64-bit) / x64 | ERROR | skipped | skipped |
petty | Mac OS X Leopard (10.5.8) / i386 | ERROR | skipped | skipped |
* checking for file ‘cosmo/DESCRIPTION’ ... OK
* preparing ‘cosmo’:
* checking DESCRIPTION meta-information ... OK
* cleaning src
* running ‘cleanup’
* installing the package to re-build vignettes
-----------------------------------
* installing *source* package ‘cosmo’ ...
** libs
gcc -std=gnu99 -I/home/biocbuild/bbs-2.12-bioc/R/include -DNDEBUG -IINCLUDE -I/usr/local/include -fpic -g -O2 -c alloc.c -o alloc.o
In file included from alloc.c:66:0:
INCLUDE/cosmo.h:57:30: error: ‘Rf_eval’ redeclared as different kind of symbol
/home/biocbuild/bbs-2.12-bioc/R/include/Rinternals.h:664:6: note: previous declaration of ‘Rf_eval’ was here
make: *** [alloc.o] Error 1
ERROR: compilation failed for package ‘cosmo’
* removing ‘/tmp/RtmppnM3Ta/Rinst76c03b09af71/cosmo’
-----------------------------------
ERROR: package installation failed