phyloseq 1.4.2 Paul J. McMurdie
Snapshot Date: 2013-04-30 17:01:37 -0700 (Tue, 30 Apr 2013) | URL: https://hedgehog.fhcrc.org/bioconductor/branches/RELEASE_2_12/madman/Rpacks/phyloseq | Last Changed Rev: 75919 / Revision: 76155 | Last Changed Date: 2013-04-22 22:10:18 -0700 (Mon, 22 Apr 2013) |
| george2 | Linux (Ubuntu 12.04.1 LTS) / x86_64 | OK | OK | |
moscato2 | Windows Server 2008 R2 Enterprise SP1 (64-bit) / x64 | OK | OK | OK |
petty | Mac OS X Snow Leopard (10.6.8) / x86_64 | OK | OK | OK |
pelham | Mac OS X Snow Leopard (10.6.8) / x86_64 | OK | [ OK ] | OK |
* using log directory '/Users/biocbuild/bbs-2.12-bioc/meat/phyloseq.Rcheck'
* using R version 3.0.0 Patched (2013-04-08 r62531)
* using platform: x86_64-apple-darwin10.8.0 (64-bit)
* using session charset: ASCII
* using option '--no-vignettes'
* checking for file 'phyloseq/DESCRIPTION' ... OK
* this is package 'phyloseq' version '1.4.2'
* checking package namespace information ... OK
* checking package dependencies ... OK
* checking if this is a source package ... OK
* checking if there is a namespace ... OK
* checking for hidden files and directories ... OK
* checking for portable file names ... OK
* checking for sufficient/correct file permissions ... OK
* checking whether package 'phyloseq' can be installed ... [23s/25s] OK
* checking installed package size ... OK
* checking package directory ... OK
* checking DESCRIPTION meta-information ... OK
* checking top-level files ... OK
* checking for left-over files ... OK
* checking index information ... OK
* checking package subdirectories ... OK
* checking R files for non-ASCII characters ... OK
* checking R files for syntax errors ... OK
* checking whether the package can be loaded ... OK
* checking whether the package can be loaded with stated dependencies ... OK
* checking whether the package can be unloaded cleanly ... OK
* checking whether the namespace can be loaded with stated dependencies ... OK
* checking whether the namespace can be unloaded cleanly ... OK
* checking for unstated dependencies in R code ... OK
* checking S3 generic/method consistency ... OK
* checking replacement functions ... OK
* checking foreign function calls ... OK
* checking R code for possible problems ... NOTE
JSD: no visible binding for global variable 'i'
fastUniFrac: no visible binding for global variable 'i'
import_qiime_otu_tax: no visible binding for global variable 'i'
nodeplotboot : <anonymous>: no visible binding for global variable 'x'
nodeplotboot : <anonymous>: no visible binding for global variable 'y'
nodeplotdefault : <anonymous>: no visible binding for global variable
'x'
nodeplotdefault : <anonymous>: no visible binding for global variable
'y'
nodeplotdefault : <anonymous>: no visible binding for global variable
'label'
originalUniFrac: no visible binding for global variable 'i'
otu2df : trimdf: no visible binding for global variable 'TaxaGroup'
otu2df : trimdf: no visible binding for global variable 'Abundance'
plot_heatmap: no visible binding for global variable 'x'
plot_heatmap: no visible binding for global variable 'y'
plot_heatmap: no visible binding for global variable 'value'
plot_network: no visible binding for global variable 'x'
plot_network: no visible binding for global variable 'y'
plot_richness: no visible binding for global variable 'variable'
plot_richness: no visible binding for global variable 'value'
plot_richness: no visible binding for global variable 'se'
plot_richness_estimates: no visible binding for global variable
'variable'
plot_richness_estimates: no visible binding for global variable 'value'
plot_richness_estimates: no visible binding for global variable 'se'
plot_scree: no visible binding for global variable 'eigenvalue'
plot_taxa_bar: no visible binding for global variable 'Abundance'
plot_tree_only: no visible binding for global variable 'x'
plot_tree_only: no visible binding for global variable 'y'
plot_tree_only: no visible binding for global variable 'xend'
plot_tree_only: no visible binding for global variable 'yend'
plot_tree_sampledodge: no visible binding for global variable 'value'
plot_tree_sampledodge: no visible binding for global variable 'x'
plot_tree_sampledodge: no visible binding for global variable 'x.adj'
plot_tree_sampledodge: no visible binding for global variable 'y'
plot_tree_sampledodge: no visible binding for global variable
'tipLabels'
taxaplot: no visible binding for global variable 'Abundance'
merge_phyloseq_pair,sample_data-sample_data : <anonymous>: no visible
binding for global variable 'X0'
plot_phyloseq,phyloseq: no visible binding for global variable
'esophagus'
* checking Rd files ... OK
* checking Rd metadata ... OK
* checking Rd cross-references ... OK
* checking for missing documentation entries ... OK
* checking for code/documentation mismatches ... OK
* checking Rd \usage sections ... OK
* checking Rd contents ... OK
* checking for unstated dependencies in examples ... OK
* checking contents of 'data' directory ... OK
* checking data for non-ASCII characters ... OK
* checking data for ASCII and uncompressed saves ... OK
* checking installed files from 'inst/doc' ... OK
* checking examples ... [269s/273s] OK
Examples with CPU or elapsed time > 5s
user system elapsed
plot_scree 49.504 6.137 56.034
plot_ordination 27.423 3.491 31.179
plot_tree 25.101 0.588 25.888
data-soilrep 15.217 1.420 16.833
data-GlobalPatterns 13.925 1.779 15.973
plot_richness 12.772 2.460 15.367
nodeplotblank 9.633 0.246 10.108
data-enterotype 7.459 0.328 7.886
make_network 7.533 0.212 7.809
threshrank 4.462 2.077 6.579
plot_network 6.126 0.159 6.351
rarefy_even_depth 5.848 0.426 6.360
plot-taxa-bar 5.430 0.343 5.889
merge_samples-methods 5.167 0.565 5.825
plot_phyloseq-methods 5.574 0.141 5.770
plot_bar 5.119 0.371 5.719
* checking for unstated dependencies in tests ... OK
* checking tests ...
Running 'testthat-phyloseq.R' [63s/64s]
[64s/65s] OK
* checking for unstated dependencies in vignettes ... OK
* checking package vignettes in 'inst/doc' ... OK
* checking running R code from vignettes ... SKIPPED
* checking re-building of vignettes ... SKIPPED
* checking PDF version of manual ... OK
NOTE: There was 1 note.
See
'/Users/biocbuild/bbs-2.12-bioc/meat/phyloseq.Rcheck/00check.log'
for details.
* installing *source* package 'phyloseq' ...
** R
** data
** inst
** preparing package for lazy loading
Warning in .simpleDuplicateClass(def, prev) :
the specification for S3 class "AsIs" in package 'RJSONIO' seems equivalent to one from package 'BiocGenerics' and is not turning on duplicate class definitions for this class
** help
*** installing help indices
** building package indices
** installing vignettes
** testing if installed package can be loaded
Warning in .simpleDuplicateClass(def, prev) :
the specification for S3 class "AsIs" in package 'RJSONIO' seems equivalent to one from package 'BiocGenerics' and is not turning on duplicate class definitions for this class
* DONE (phyloseq)