MANOR 1.32.0 Pierre Neuvial
Snapshot Date: 2013-10-08 17:00:48 -0700 (Tue, 08 Oct 2013) | URL: https://hedgehog.fhcrc.org/bioconductor/branches/RELEASE_2_12/madman/Rpacks/MANOR | Last Changed Rev: 75263 / Revision: 81334 | Last Changed Date: 2013-04-03 14:32:27 -0700 (Wed, 03 Apr 2013) |
| george2 | Linux (Ubuntu 12.04.1 LTS) / x86_64 | OK | WARNINGS | |
moscato2 | Windows Server 2008 R2 Enterprise SP1 (64-bit) / x64 | OK | OK | [ OK ] |
petty | Mac OS X Snow Leopard (10.6.8) / x86_64 | OK | WARNINGS | OK |
install for i386
* installing *source* package 'MANOR' ...
** libs
gcc -m32 -I"E:/biocbld/BBS-2˜1.12-/R/include" -DNDEBUG -I"d:/RCompile/CRANpkg/extralibs64/local/include" -O3 -Wall -std=gnu99 -mtune=core2 -c Rnem_arg.c -o Rnem_arg.o
gcc -m32 -I"E:/biocbld/BBS-2˜1.12-/R/include" -DNDEBUG -I"d:/RCompile/CRANpkg/extralibs64/local/include" -O3 -Wall -std=gnu99 -mtune=core2 -c Rnem_exe.c -o Rnem_exe.o
gcc -m32 -I"E:/biocbld/BBS-2˜1.12-/R/include" -DNDEBUG -I"d:/RCompile/CRANpkg/extralibs64/local/include" -O3 -Wall -std=gnu99 -mtune=core2 -c exememo.c -o exememo.o
exememo.c: In function 'GenAlloc':
exememo.c:39:6: warning: format '%ld' expects argument of type 'long int', but argument 5 has type 'size_t' [-Wformat]
exememo.c:39:6: warning: format '%ld' expects argument of type 'long int', but argument 6 has type 'size_t' [-Wformat]
gcc -m32 -I"E:/biocbld/BBS-2˜1.12-/R/include" -DNDEBUG -I"d:/RCompile/CRANpkg/extralibs64/local/include" -O3 -Wall -std=gnu99 -mtune=core2 -c lib_io.c -o lib_io.o
lib_io.c: In function 'CountLinesColumns':
lib_io.c:399:16: warning: 'mincols' may be used uninitialized in this function [-Wuninitialized]
gcc -m32 -I"E:/biocbld/BBS-2˜1.12-/R/include" -DNDEBUG -I"d:/RCompile/CRANpkg/extralibs64/local/include" -O3 -Wall -std=gnu99 -mtune=core2 -c nem_alg.c -o nem_alg.o
gcc -m32 -I"E:/biocbld/BBS-2˜1.12-/R/include" -DNDEBUG -I"d:/RCompile/CRANpkg/extralibs64/local/include" -O3 -Wall -std=gnu99 -mtune=core2 -c nem_hlp.c -o nem_hlp.o
gcc -m32 -I"E:/biocbld/BBS-2˜1.12-/R/include" -DNDEBUG -I"d:/RCompile/CRANpkg/extralibs64/local/include" -O3 -Wall -std=gnu99 -mtune=core2 -c nem_mod.c -o nem_mod.o
gcc -m32 -I"E:/biocbld/BBS-2˜1.12-/R/include" -DNDEBUG -I"d:/RCompile/CRANpkg/extralibs64/local/include" -O3 -Wall -std=gnu99 -mtune=core2 -c nem_nei.c -o nem_nei.o
gcc -m32 -I"E:/biocbld/BBS-2˜1.12-/R/include" -DNDEBUG -I"d:/RCompile/CRANpkg/extralibs64/local/include" -O3 -Wall -std=gnu99 -mtune=core2 -c nem_rnd.c -o nem_rnd.o
gcc -m32 -I"E:/biocbld/BBS-2˜1.12-/R/include" -DNDEBUG -I"d:/RCompile/CRANpkg/extralibs64/local/include" -O3 -Wall -std=gnu99 -mtune=core2 -c nem_ver.c -o nem_ver.o
gcc -m32 -shared -s -static-libgcc -o MANOR.dll tmp.def Rnem_arg.o Rnem_exe.o exememo.o lib_io.o nem_alg.o nem_hlp.o nem_mod.o nem_nei.o nem_rnd.o nem_ver.o -Ld:/RCompile/CRANpkg/extralibs64/local/lib/i386 -Ld:/RCompile/CRANpkg/extralibs64/local/lib -LE:/biocbld/BBS-2˜1.12-/R/bin/i386 -lR
installing to E:/biocbld/bbs-2.12-bioc/meat/MANOR.buildbin-libdir/MANOR/libs/i386
** R
** data
** inst
** preparing package for lazy loading
** help
*** installing help indices
** building package indices
** installing vignettes
** testing if installed package can be loaded
install for x64
* installing *source* package 'MANOR' ...
** libs
gcc -m64 -I"E:/biocbld/BBS-2˜1.12-/R/include" -DNDEBUG -I"d:/RCompile/CRANpkg/extralibs64/local/include" -O2 -Wall -std=gnu99 -mtune=core2 -c Rnem_arg.c -o Rnem_arg.o
gcc -m64 -I"E:/biocbld/BBS-2˜1.12-/R/include" -DNDEBUG -I"d:/RCompile/CRANpkg/extralibs64/local/include" -O2 -Wall -std=gnu99 -mtune=core2 -c Rnem_exe.c -o Rnem_exe.o
Rnem_exe.c: In function 'MakeErrinfo':
Rnem_exe.c:216:20: warning: cast from pointer to integer of different size [-Wpointer-to-int-cast]
gcc -m64 -I"E:/biocbld/BBS-2˜1.12-/R/include" -DNDEBUG -I"d:/RCompile/CRANpkg/extralibs64/local/include" -O2 -Wall -std=gnu99 -mtune=core2 -c exememo.c -o exememo.o
exememo.c: In function 'GenAlloc':
exememo.c:39:6: warning: format '%ld' expects argument of type 'long int', but argument 5 has type 'size_t' [-Wformat]
exememo.c:39:6: warning: format '%ld' expects argument of type 'long int', but argument 6 has type 'size_t' [-Wformat]
gcc -m64 -I"E:/biocbld/BBS-2˜1.12-/R/include" -DNDEBUG -I"d:/RCompile/CRANpkg/extralibs64/local/include" -O2 -Wall -std=gnu99 -mtune=core2 -c lib_io.c -o lib_io.o
lib_io.c: In function 'CountLinesColumns':
lib_io.c:399:16: warning: 'mincols' may be used uninitialized in this function [-Wuninitialized]
gcc -m64 -I"E:/biocbld/BBS-2˜1.12-/R/include" -DNDEBUG -I"d:/RCompile/CRANpkg/extralibs64/local/include" -O2 -Wall -std=gnu99 -mtune=core2 -c nem_alg.c -o nem_alg.o
gcc -m64 -I"E:/biocbld/BBS-2˜1.12-/R/include" -DNDEBUG -I"d:/RCompile/CRANpkg/extralibs64/local/include" -O2 -Wall -std=gnu99 -mtune=core2 -c nem_hlp.c -o nem_hlp.o
gcc -m64 -I"E:/biocbld/BBS-2˜1.12-/R/include" -DNDEBUG -I"d:/RCompile/CRANpkg/extralibs64/local/include" -O2 -Wall -std=gnu99 -mtune=core2 -c nem_mod.c -o nem_mod.o
gcc -m64 -I"E:/biocbld/BBS-2˜1.12-/R/include" -DNDEBUG -I"d:/RCompile/CRANpkg/extralibs64/local/include" -O2 -Wall -std=gnu99 -mtune=core2 -c nem_nei.c -o nem_nei.o
gcc -m64 -I"E:/biocbld/BBS-2˜1.12-/R/include" -DNDEBUG -I"d:/RCompile/CRANpkg/extralibs64/local/include" -O2 -Wall -std=gnu99 -mtune=core2 -c nem_rnd.c -o nem_rnd.o
gcc -m64 -I"E:/biocbld/BBS-2˜1.12-/R/include" -DNDEBUG -I"d:/RCompile/CRANpkg/extralibs64/local/include" -O2 -Wall -std=gnu99 -mtune=core2 -c nem_ver.c -o nem_ver.o
gcc -m64 -shared -s -static-libgcc -o MANOR.dll tmp.def Rnem_arg.o Rnem_exe.o exememo.o lib_io.o nem_alg.o nem_hlp.o nem_mod.o nem_nei.o nem_rnd.o nem_ver.o -Ld:/RCompile/CRANpkg/extralibs64/local/lib/x64 -Ld:/RCompile/CRANpkg/extralibs64/local/lib -LE:/biocbld/BBS-2˜1.12-/R/bin/x64 -lR
installing to E:/biocbld/bbs-2.12-bioc/meat/MANOR.buildbin-libdir/MANOR/libs/x64
** testing if installed package can be loaded
* MD5 sums
packaged installation of 'MANOR' as MANOR_1.32.0.zip
* DONE (MANOR)