SNAData 1.8.1 Denise Scholtens
Snapshot Date: 2009-08-10 00:27:00 -0700 (Mon, 10 Aug 2009) | URL: https://hedgehog.fhcrc.org/bioc-data/trunk/experiment/pkgs/SNAData | Last Changed Rev: 733 / Revision: 938 | Last Changed Date: 2008-10-27 10:59:54 -0700 (Mon, 27 Oct 2008) |
| wilson1 | Linux (openSUSE 11.1) / x86_64 | OK | OK | |
liverpool | Windows Server 2003 R2 (32-bit) / x64 | OK | OK | [ OK ] |
pitt | Mac OS X Tiger (10.4.11) / i386 | OK | OK | OK |
pelham | Mac OS X Leopard (10.5.7) / i386 | OK | OK | OK |
* Installing *source* package 'SNAData' ...
Using auto-selected zip options ''
** R
** data
** inst
** preparing package for lazy loading
** help
*** installing help indices
>>> Building/Updating help pages for package 'SNAData'
Formats: text html latex example chm
CEOclubs text html latex example chm
Countries text html latex example chm
Florentine text html latex example chm
Freeman text html latex example chm
Krackhardt text html latex example chm
Microsoft HTML Help Compiler 4.74.8702
Compiling e:\biocbld\bbs-2.4-data-experiment\tmpdir\RtmpLqjM2y\R.INSTALL678418be\SNAData\chm\SNAData.chm
Compile time: 0 minutes, 4 seconds
6 Topics
24 Local links
0 Internet links
1 Graphic
Created e:\biocbld\bbs-2.4-data-experiment\tmpdir\RtmpLqjM2y\R.INSTALL678418be\SNAData\chm\SNAData.chm, 22,754 bytes
Compression decreased file by 1,412 bytes.
** building package indices ...
** MD5 sums
packaged installation of 'SNAData' as SNAData_1.8.1.zip
* DONE (SNAData)