SNAData 1.8.1 Denise Scholtens
Snapshot Date: 2009-08-10 00:27:00 -0700 (Mon, 10 Aug 2009) | URL: https://hedgehog.fhcrc.org/bioc-data/trunk/experiment/pkgs/SNAData | Last Changed Rev: 733 / Revision: 938 | Last Changed Date: 2008-10-27 10:59:54 -0700 (Mon, 27 Oct 2008) |
| wilson1 | Linux (openSUSE 11.1) / x86_64 | OK | OK | |
liverpool | Windows Server 2003 R2 (32-bit) / x64 | OK | [ OK ] | OK |
pitt | Mac OS X Tiger (10.4.11) / i386 | OK | OK | OK |
pelham | Mac OS X Leopard (10.5.7) / i386 | OK | OK | OK |
* checking for working pdflatex ... OK
* using log directory 'E:/biocbld/bbs-2.4-data-experiment/meat/SNAData.Rcheck'
* using R version 2.9.1 (2009-06-26)
* using session charset: ISO8859-1
* using options '--no-vignettes'
* checking for file 'SNAData/DESCRIPTION' ... OK
* this is package 'SNAData' version '1.8.1'
* checking package dependencies ... OK
* checking if this is a source package ... OK
* checking whether package 'SNAData' can be installed ... OK
* checking package directory ... OK
* checking for portable file names ... OK
* checking DESCRIPTION meta-information ... OK
* checking top-level files ... OK
* checking index information ... OK
* checking package subdirectories ... OK
* checking R files for non-ASCII characters ... OK
* checking R files for syntax errors ... OK
* checking whether the package can be loaded ... OK
* checking whether the package can be loaded with stated dependencies ... OK
* checking for unstated dependencies in R code ... OK
* checking S3 generic/method consistency ... OK
* checking replacement functions ... OK
* checking foreign function calls ... OK
* checking R code for possible problems ... OK
* checking Rd files ... OK
* checking Rd files against version 2 parser ... OK
* checking Rd cross-references ... OK
* checking for missing documentation entries ... OK
* checking for code/documentation mismatches ... OK
* checking Rd \usage sections ... OK
* checking data for non-ASCII characters ... OK
* checking examples ... OK
* checking package vignettes in 'inst/doc' ... SKIPPED
* checking PDF version of manual ... OK
* Installing *source* package 'SNAData' ...
** R
** data
** inst
** preparing package for lazy loading
** help
*** installing help indices
>>> Building/Updating help pages for package 'SNAData'
Formats: text html latex example chm
CEOclubs text html latex example chm
Countries text html latex example chm
Florentine text html latex example chm
Freeman text html latex example chm
Krackhardt text html latex example chm
Microsoft HTML Help Compiler 4.74.8702
Compiling e:\biocbld\BBS-2~2.4-D\meat\SNADAT~1.RCH\00_PKG~1\SNAData\chm\SNAData.chm
Compile time: 0 minutes, 2 seconds
6 Topics
24 Local links
0 Internet links
1 Graphic
Created e:\biocbld\BBS-2~2.4-D\meat\SNADAT~1.RCH\00_PKG~1\SNAData\chm\SNAData.chm, 22,754 bytes
Compression decreased file by 1,412 bytes.
** building package indices ...
** MD5 sums
* DONE (SNAData)