flagme 1.2.0 Mark Robinson
Snapshot Date: 2010-04-02 23:28:25 -0700 (Fri, 02 Apr 2010) | URL: https://hedgehog.fhcrc.org/bioconductor/branches/RELEASE_2_5/madman/Rpacks/flagme | Last Changed Rev: 42684 / Revision: 45705 | Last Changed Date: 2009-10-27 16:33:29 -0700 (Tue, 27 Oct 2009) |
| wilson2 | Linux (openSUSE 11.1) / x86_64 | OK | WARNINGS | |
liverpool | Windows Server 2003 R2 (32-bit) / x64 | OK | WARNINGS | OK |
pitt | Mac OS X Tiger (10.4.11) / i386 | OK | WARNINGS | [ OK ] |
pelham | Mac OS X Leopard (10.5.8) / i386 | OK | WARNINGS | OK |
INSTALLATION WITH 'R CMD INSTALL --preclean --library=flagme.buildbin-libdir flagme_1.2.0.tar.gz'
* installing *source* package ‘flagme’ ...
** libs
** arch - i386
gcc -arch i386 -std=gnu99 -I/Library/Frameworks/R.framework/Versions/2.10/Resources/include -I/Library/Frameworks/R.framework/Versions/2.10/Resources/include/i386 -I/usr/local/include -fPIC -g -O2 -Wall -c dp.c -o dp.o
dp.c: In function ‘dp’:
dp.c:217: warning: ‘tb’ may be used uninitialized in this function
dp.c:218: warning: ‘cur_min’ may be used uninitialized in this function
gcc -arch i386 -std=gnu99 -I/Library/Frameworks/R.framework/Versions/2.10/Resources/include -I/Library/Frameworks/R.framework/Versions/2.10/Resources/include/i386 -I/usr/local/include -fPIC -g -O2 -Wall -c init.c -o init.o
gcc -arch i386 -std=gnu99 -dynamiclib -Wl,-headerpad_max_install_names -mmacosx-version-min=10.4 -undefined dynamic_lookup -single_module -multiply_defined suppress -L/usr/local/lib -o flagme.so dp.o init.o -F/Library/Frameworks/R.framework/.. -framework R -Wl,-framework -Wl,CoreFoundation
** arch - ppc
gcc -arch ppc -std=gnu99 -I/Library/Frameworks/R.framework/Versions/2.10/Resources/include -I/Library/Frameworks/R.framework/Versions/2.10/Resources/include/ppc -I/usr/local/include -fPIC -g -O2 -c dp.c -o dp.o
gcc -arch ppc -std=gnu99 -I/Library/Frameworks/R.framework/Versions/2.10/Resources/include -I/Library/Frameworks/R.framework/Versions/2.10/Resources/include/ppc -I/usr/local/include -fPIC -g -O2 -c init.c -o init.o
gcc -arch ppc -std=gnu99 -dynamiclib -Wl,-headerpad_max_install_names -mmacosx-version-min=10.4 -undefined dynamic_lookup -single_module -multiply_defined suppress -L/usr/local/lib -o flagme.so dp.o init.o -F/Library/Frameworks/R.framework/.. -framework R -Wl,-framework -Wl,CoreFoundation
** R
** inst
** preparing package for lazy loading
Package SparseM (0.85) loaded.
To cite, see citation("SparseM")
Attaching package: 'SparseM'
The following object(s) are masked from package:base :
backsolve
Warning: replacing previous import ‘image’ when loading ‘SparseM’
Creating a new generic function for "plot" in "flagme"
** help
*** installing help indices
** building package indices ...
* DONE (flagme)