Back to the "Multiple platform build/check report" | A B C D [E] F G H I J K L M N O P Q R S T U V W X Y Z |
Package 121/419 | Hostname | OS / Arch | BUILD | CHECK | BUILD BIN | ||||
edgeR 2.0.5 Mark Robinson
| lamb2 | Linux (openSUSE 11.2) / x86_64 | [ OK ] | OK | |||||
liverpool | Windows Server 2003 R2 (32-bit) / x64 | OK | OK | OK | |||||
gewurz | Windows Server 2008 R2 Enterprise (64-bit) / x64 | OK | OK | OK | |||||
pelham | Mac OS X Leopard (10.5.8) / i386 | OK | OK | OK |
Package: edgeR |
Version: 2.0.5 |
Command: /home/biocbuild/bbs-2.7-bioc/R/bin/R CMD build edgeR |
StartedAt: 2011-03-31 02:25:29 -0700 (Thu, 31 Mar 2011) |
EndedAt: 2011-03-31 02:25:41 -0700 (Thu, 31 Mar 2011) |
EllapsedTime: 12.5 seconds |
RetCode: 0 |
Status: OK |
PackageFile: edgeR_2.0.5.tar.gz |
PackageFileSize: 1.392 MiB |
* checking for file ‘edgeR/DESCRIPTION’ ... OK * preparing ‘edgeR’: * checking DESCRIPTION meta-information ... OK * installing the package to re-build vignettes * creating vignettes ... OK * checking for LF line-endings in source and make files * checking for empty or unneeded directories * building ‘edgeR_2.0.5.tar.gz’