Back to the "Multiple platform build/check report" |
Package 20/82 | Hostname | OS / Arch | BUILD | CHECK | BUILD BIN | ||||
ecoliLeucine 1.2.5 Laurent Gautier
| lamb2 | Linux (openSUSE 11.2) / x86_64 | OK | OK | |||||
gewurz | Windows Server 2008 R2 Enterprise (64-bit) / x64 | OK | OK | OK | |||||
pelham | Mac OS X Leopard (10.5.8) / i386 | OK | OK | [ OK ] |
Package: ecoliLeucine |
Version: 1.2.5 |
Command: /Users/biocbuild/BBS/utils/build-universal.sh ecoliLeucine_1.2.5.tar.gz /Library/Frameworks/R.framework/Versions/2.12/Resources/bin/R ecoliLeucine.buildbin-libdir |
StartedAt: 2011-02-27 15:19:40 -0800 (Sun, 27 Feb 2011) |
EndedAt: 2011-02-27 15:19:47 -0800 (Sun, 27 Feb 2011) |
EllapsedTime: 7.2 seconds |
RetCode: 0 |
Status: OK |
PackageFile: ecoliLeucine_1.2.5.tgz |
PackageFileSize: 5.94 MiB |
>>>>>>> >>>>>>> INSTALLATION WITH 'R CMD INSTALL --preclean --library=ecoliLeucine.buildbin-libdir ecoliLeucine_1.2.5.tar.gz' >>>>>>> * installing *source* package ‘ecoliLeucine’ ... ** data ** help *** installing help indices ** building package indices ... ** testing if installed package can be loaded * DONE (ecoliLeucine)