MSnbase 1.1.17 Laurent Gatto
Snapshot Date: 2011-07-06 19:21:50 -0700 (Wed, 06 Jul 2011) | URL: https://hedgehog.fhcrc.org/bioconductor/trunk/madman/Rpacks/MSnbase | Last Changed Rev: 56585 / Revision: 56603 | Last Changed Date: 2011-07-06 08:04:43 -0700 (Wed, 06 Jul 2011) |
| wilson2 | Linux (openSUSE 11.4) / x86_64 | OK | OK | |
liverpool | Windows Server 2003 R2 (32-bit) / x64 | OK | ERROR | OK |
gewurz | Windows Server 2008 R2 Enterprise (64-bit) / x64 | OK | OK | OK |
moscato1 | Windows Server 2008 R2 Enterprise (64-bit) / x64 | OK | OK | [ OK ] |
pitt | Mac OS X Leopard (10.5.8) / i386 | OK | OK | OK |
install for i386
* installing *source* package 'MSnbase' ...
** R
** data
** moving datasets to lazyload DB
Loading required package: Biobase
Welcome to Bioconductor
Vignettes contain introductory material. To view, type
'browseVignettes()'. To cite Bioconductor, see
'citation("Biobase")' and for packages 'citation("pkgname")'.
Creating a generic function for "plot" from package "graphics" in package "MSnbase"
** inst
** preparing package for lazy loading
Warning in FUN(X[[1L]], ...) :
Created a package name, "2011-07-07 07:06:36", when none found
Warning in FUN(X[[1L]], ...) :
Created a package name, "2011-07-07 07:06:36", when none found
Warning in FUN(X[[1L]], ...) :
Created a package name, "2011-07-07 07:06:36", when none found
Warning in FUN(X[[1L]], ...) :
Created a package name, "2011-07-07 07:06:36", when none found
Warning in FUN(X[[1L]], ...) :
Created a package name, "2011-07-07 07:06:36", when none found
Warning in FUN(X[[1L]], ...) :
Created a package name, "2011-07-07 07:06:36", when none found
Warning in FUN(X[[1L]], ...) :
Created a package name, "2011-07-07 07:06:36", when none found
Warning in FUN(X[[1L]], ...) :
Created a package name, "2011-07-07 07:06:36", when none found
Warning in FUN(X[[1L]], ...) :
Created a package name, "2011-07-07 07:06:36", when none found
Warning in FUN(X[[1L]], ...) :
Created a package name, "2011-07-07 07:06:36", when none found
Warning in FUN(X[[1L]], ...) :
Created a package name, "2011-07-07 07:06:36", when none found
Warning in FUN(X[[1L]], ...) :
Created a package name, "2011-07-07 07:06:36", when none found
Warning in FUN(X[[1L]], ...) :
Created a package name, "2011-07-07 07:06:36", when none found
Warning in FUN(X[[1L]], ...) :
Created a package name, "2011-07-07 07:06:36", when none found
Loading required package: reshape
Loading required package: plyr
Attaching package: 'reshape'
The following object(s) are masked from 'package:plyr':
rename, round_any
Loading required package: grid
Loading required package: proto
Creating a generic function for "plot" from package "graphics" in package "MSnbase"
** help
*** installing help indices
** building package indices ...
*** tangling vignette sources ...
'MSnbase-demo.Rnw'
'MSnbase-development.Rnw'
** testing if installed package can be loaded
add DLL for x64
* installing *source* package 'MSnbase' ...
** testing if installed package can be loaded
* MD5 sums
packaged installation of 'MSnbase' as MSnbase_1.1.17.zip
* DONE (MSnbase)