simpIntLists 0.99.0 Kircicegi Korkmaz
Snapshot Date: 2011-07-06 11:15:18 -0700 (Wed, 06 Jul 2011) | URL: https://hedgehog.fhcrc.org/bioc-data/trunk/experiment/pkgs/simpIntLists | Last Changed Rev: 1466 / Revision: 1678 | Last Changed Date: 2011-03-24 13:25:09 -0700 (Thu, 24 Mar 2011) |
| wilson2 | Linux (openSUSE 11.4) / x86_64 | OK | OK | |
liverpool | Windows Server 2003 R2 (32-bit) / x64 | OK | OK | [ OK ] |
pitt | Mac OS X Leopard (10.5.8) / i386 | OK | OK | OK |
* installing *source* package 'simpIntLists' ...
** R
** data
** inst
** preparing package for lazy loading
** help
*** installing help indices
** building package indices ...
*** tangling vignette sources ...
'simpIntLists.Rnw'
** testing if installed package can be loaded
* MD5 sums
packaged installation of 'simpIntLists' as simpIntLists_0.99.0.zip
* DONE (simpIntLists)