simpIntLists 0.99.0 Kircicegi Korkmaz
Snapshot Date: 2011-07-06 11:15:18 -0700 (Wed, 06 Jul 2011) | URL: https://hedgehog.fhcrc.org/bioc-data/trunk/experiment/pkgs/simpIntLists | Last Changed Rev: 1466 / Revision: 1678 | Last Changed Date: 2011-03-24 13:25:09 -0700 (Thu, 24 Mar 2011) |
| wilson2 | Linux (openSUSE 11.4) / x86_64 | OK | OK | |
liverpool | Windows Server 2003 R2 (32-bit) / x64 | [ OK ] | OK | OK |
pitt | Mac OS X Leopard (10.5.8) / i386 | OK | OK | OK |
* checking for file 'simpIntLists/DESCRIPTION' ... OK
* preparing 'simpIntLists':
* checking DESCRIPTION meta-information ... OK
* installing the package to re-build vignettes
* creating vignettes ... OK
* checking for LF line-endings in source and make files
* checking for empty or unneeded directories
* looking to see if a 'data/datalist' file should be added
* building 'simpIntLists_0.99.0.tar.gz'