Back to Multiple platform build/check report for BioC 3.10 |
|
This page was generated on 2020-03-12 13:26:12 -0400 (Thu, 12 Mar 2020).
Package 372/1823 | Hostname | OS / Arch | INSTALL | BUILD | CHECK | BUILD BIN | ||||||
CountClust 1.14.0 Kushal Dey
| malbec1 | Linux (Ubuntu 18.04.4 LTS) / x86_64 | ERROR | ERROR | skipped | |||||||
tokay1 | Windows Server 2012 R2 Standard / x64 | ERROR | ERROR | skipped | skipped | |||||||
merida1 | OS X 10.11.6 El Capitan / x86_64 | OK | OK | OK | [ OK ] |
Package: CountClust |
Version: 1.14.0 |
Command: rm -rf CountClust.buildbin-libdir && mkdir CountClust.buildbin-libdir && /Users/biocbuild/BBS/utils/build-universal.sh CountClust_1.14.0.tar.gz /Library/Frameworks/R.framework/Versions/Current/Resources/bin/R CountClust.buildbin-libdir |
StartedAt: 2020-03-12 07:24:57 -0400 (Thu, 12 Mar 2020) |
EndedAt: 2020-03-12 07:25:43 -0400 (Thu, 12 Mar 2020) |
EllapsedTime: 46.3 seconds |
RetCode: 0 |
Status: OK |
PackageFile: CountClust_1.14.0.tgz |
PackageFileSize: 6.712 MiB |
############################################################################## ############################################################################## ### ### Running command: ### ### rm -rf CountClust.buildbin-libdir && mkdir CountClust.buildbin-libdir && /Users/biocbuild/BBS/utils/build-universal.sh CountClust_1.14.0.tar.gz /Library/Frameworks/R.framework/Versions/Current/Resources/bin/R CountClust.buildbin-libdir ### ############################################################################## ############################################################################## >>>>>>> >>>>>>> INSTALLATION WITH 'R CMD INSTALL --preclean --no-multiarch --library=CountClust.buildbin-libdir CountClust_1.14.0.tar.gz' >>>>>>> * installing *source* package ‘CountClust’ ... ** using staged installation ** R ** data *** moving datasets to lazyload DB ** inst ** byte-compile and prepare package for lazy loading ** help *** installing help indices ** building package indices ** installing vignettes ** testing if installed package can be loaded from temporary location ** testing if installed package can be loaded from final location ** testing if installed package keeps a record of temporary installation path * DONE (CountClust)