Back to Multiple platform build/check report for BioC 3.10 |
|
This page was generated on 2020-03-12 13:26:12 -0400 (Thu, 12 Mar 2020).
Package 372/1823 | Hostname | OS / Arch | INSTALL | BUILD | CHECK | BUILD BIN | ||||||
CountClust 1.14.0 Kushal Dey
| malbec1 | Linux (Ubuntu 18.04.4 LTS) / x86_64 | ERROR | ERROR | skipped | |||||||
tokay1 | Windows Server 2012 R2 Standard / x64 | ERROR | ERROR | skipped | skipped | |||||||
merida1 | OS X 10.11.6 El Capitan / x86_64 | OK | OK | [ OK ] | OK |
Package: CountClust |
Version: 1.14.0 |
Command: /Library/Frameworks/R.framework/Versions/Current/Resources/bin/R CMD check --install=check:CountClust.install-out.txt --library=/Library/Frameworks/R.framework/Versions/Current/Resources/library --no-vignettes --timings CountClust_1.14.0.tar.gz |
StartedAt: 2020-03-12 01:43:13 -0400 (Thu, 12 Mar 2020) |
EndedAt: 2020-03-12 01:45:07 -0400 (Thu, 12 Mar 2020) |
EllapsedTime: 113.7 seconds |
RetCode: 0 |
Status: OK |
CheckDir: CountClust.Rcheck |
Warnings: 0 |
############################################################################## ############################################################################## ### ### Running command: ### ### /Library/Frameworks/R.framework/Versions/Current/Resources/bin/R CMD check --install=check:CountClust.install-out.txt --library=/Library/Frameworks/R.framework/Versions/Current/Resources/library --no-vignettes --timings CountClust_1.14.0.tar.gz ### ############################################################################## ############################################################################## * using log directory ‘/Users/biocbuild/bbs-3.10-bioc/meat/CountClust.Rcheck’ * using R version 3.6.2 (2019-12-12) * using platform: x86_64-apple-darwin15.6.0 (64-bit) * using session charset: UTF-8 * using option ‘--no-vignettes’ * checking for file ‘CountClust/DESCRIPTION’ ... OK * checking extension type ... Package * this is package ‘CountClust’ version ‘1.14.0’ * package encoding: UTF-8 * checking package namespace information ... OK * checking package dependencies ... OK * checking if this is a source package ... OK * checking if there is a namespace ... OK * checking for hidden files and directories ... OK * checking for portable file names ... OK * checking for sufficient/correct file permissions ... OK * checking whether package ‘CountClust’ can be installed ... OK * checking installed package size ... NOTE installed size is 7.5Mb sub-directories of 1Mb or more: data 7.3Mb * checking package directory ... OK * checking ‘build’ directory ... OK * checking DESCRIPTION meta-information ... OK * checking top-level files ... OK * checking for left-over files ... OK * checking index information ... OK * checking package subdirectories ... OK * checking R files for non-ASCII characters ... OK * checking R files for syntax errors ... OK * checking whether the package can be loaded ... OK * checking whether the package can be loaded with stated dependencies ... OK * checking whether the package can be unloaded cleanly ... OK * checking whether the namespace can be loaded with stated dependencies ... OK * checking whether the namespace can be unloaded cleanly ... OK * checking dependencies in R code ... OK * checking S3 generic/method consistency ... OK * checking replacement functions ... OK * checking foreign function calls ... OK * checking R code for possible problems ... OK * checking Rd files ... OK * checking Rd metadata ... OK * checking Rd cross-references ... OK * checking for missing documentation entries ... OK * checking for code/documentation mismatches ... OK * checking Rd \usage sections ... OK * checking Rd contents ... OK * checking for unstated dependencies in examples ... OK * checking contents of ‘data’ directory ... OK * checking data for non-ASCII characters ... OK * checking data for ASCII and uncompressed saves ... OK * checking files in ‘vignettes’ ... OK * checking examples ... OK Examples with CPU or elapsed time > 5s user system elapsed compGoM 10.782 1.829 13.407 * checking for unstated dependencies in vignettes ... OK * checking package vignettes in ‘inst/doc’ ... OK * checking running R code from vignettes ... SKIPPED * checking re-building of vignette outputs ... SKIPPED * checking PDF version of manual ... OK * DONE Status: 1 NOTE See ‘/Users/biocbuild/bbs-3.10-bioc/meat/CountClust.Rcheck/00check.log’ for details.
CountClust.Rcheck/00install.out
############################################################################## ############################################################################## ### ### Running command: ### ### /Library/Frameworks/R.framework/Versions/Current/Resources/bin/R CMD INSTALL CountClust ### ############################################################################## ############################################################################## * installing to library ‘/Library/Frameworks/R.framework/Versions/3.6/Resources/library’ * installing *source* package ‘CountClust’ ... ** using staged installation ** R ** data *** moving datasets to lazyload DB ** inst ** byte-compile and prepare package for lazy loading ** help *** installing help indices ** building package indices ** installing vignettes ** testing if installed package can be loaded from temporary location ** testing if installed package can be loaded from final location ** testing if installed package keeps a record of temporary installation path * DONE (CountClust)
CountClust.Rcheck/CountClust-Ex.timings
name | user | system | elapsed | |
BatchCorrectedCounts | 1.042 | 0.080 | 1.131 | |
ExtractTopFeatures | 2.450 | 0.096 | 2.580 | |
FitGoM | 3.909 | 0.318 | 4.266 | |
RemoveSparseFeatures | 0.002 | 0.001 | 0.002 | |
StructureGGplot | 0.866 | 0.024 | 0.894 | |
compGoM | 10.782 | 1.829 | 13.407 | |
compare_omega | 0.053 | 0.001 | 0.053 | |
handleNA | 0.002 | 0.000 | 0.002 | |
nullmodel_GoM | 3.332 | 0.609 | 3.966 | |