CHECK report for GenoGAM on merida1
This page was generated on 2020-04-15 12:43:26 -0400 (Wed, 15 Apr 2020).
GenoGAM 2.4.0 Georg Stricker
Snapshot Date: 2020-04-14 16:46:13 -0400 (Tue, 14 Apr 2020) |
URL: https://git.bioconductor.org/packages/GenoGAM |
Branch: RELEASE_3_10 |
Last Commit: 6753a93 |
Last Changed Date: 2019-10-29 13:09:36 -0400 (Tue, 29 Oct 2019) |
| malbec1 | Linux (Ubuntu 18.04.4 LTS) / x86_64 | OK | OK | WARNINGS | | |
tokay1 | Windows Server 2012 R2 Standard / x64 | OK | OK | WARNINGS | OK | |
merida1 | OS X 10.11.6 El Capitan / x86_64 | OK | OK | [ WARNINGS ] | OK | |
Summary
Command output
Installation output
GenoGAM.Rcheck/00install.out
Tests output
GenoGAM.Rcheck/tests/testthat.Rout
R version 3.6.3 (2020-02-29) -- "Holding the Windsock"
Copyright (C) 2020 The R Foundation for Statistical Computing
Platform: x86_64-apple-darwin15.6.0 (64-bit)
R is free software and comes with ABSOLUTELY NO WARRANTY.
You are welcome to redistribute it under certain conditions.
Type 'license()' or 'licence()' for distribution details.
R is a collaborative project with many contributors.
Type 'contributors()' for more information and
'citation()' on how to cite R or R packages in publications.
Type 'demo()' for some demos, 'help()' for on-line help, or
'help.start()' for an HTML browser interface to help.
Type 'q()' to quit R.
> library(testthat)
> library(GenoGAM)
Loading required package: SummarizedExperiment
Loading required package: GenomicRanges
Loading required package: stats4
Loading required package: BiocGenerics
Loading required package: parallel
Attaching package: 'BiocGenerics'
The following objects are masked from 'package:parallel':
clusterApply, clusterApplyLB, clusterCall, clusterEvalQ,
clusterExport, clusterMap, parApply, parCapply, parLapply,
parLapplyLB, parRapply, parSapply, parSapplyLB
The following objects are masked from 'package:stats':
IQR, mad, sd, var, xtabs
The following objects are masked from 'package:base':
Filter, Find, Map, Position, Reduce, anyDuplicated, append,
as.data.frame, basename, cbind, colnames, dirname, do.call,
duplicated, eval, evalq, get, grep, grepl, intersect, is.unsorted,
lapply, mapply, match, mget, order, paste, pmax, pmax.int, pmin,
pmin.int, rank, rbind, rownames, sapply, setdiff, sort, table,
tapply, union, unique, unsplit, which, which.max, which.min
Loading required package: S4Vectors
Attaching package: 'S4Vectors'
The following object is masked from 'package:base':
expand.grid
Loading required package: IRanges
Loading required package: GenomeInfoDb
Loading required package: Biobase
Welcome to Bioconductor
Vignettes contain introductory material; view with
'browseVignettes()'. To cite Bioconductor, see
'citation("Biobase")', and for packages 'citation("pkgname")'.
Loading required package: DelayedArray
Loading required package: matrixStats
Attaching package: 'matrixStats'
The following objects are masked from 'package:Biobase':
anyMissing, rowMedians
Loading required package: BiocParallel
Attaching package: 'DelayedArray'
The following objects are masked from 'package:matrixStats':
colMaxs, colMins, colRanges, rowMaxs, rowMins, rowRanges
The following objects are masked from 'package:base':
aperm, apply, rowsum
Loading required package: HDF5Array
Loading required package: rhdf5
Loading required package: Matrix
Attaching package: 'Matrix'
The following object is masked from 'package:S4Vectors':
expand
Loading required package: data.table
Attaching package: 'data.table'
The following object is masked from 'package:SummarizedExperiment':
shift
The following object is masked from 'package:GenomicRanges':
shift
The following object is masked from 'package:IRanges':
shift
The following objects are masked from 'package:S4Vectors':
first, second
Warning message:
replacing previous import 'S4Vectors::na.omit' by 'stats::na.omit' when loading 'GenoGAM'
>
> test_check("GenoGAM")
INFO [2020-04-15 02:40:43] Creating GenoGAMDataSet
INFO [2020-04-15 02:40:46] GenoGAMDataSet created
INFO [2020-04-15 02:40:46] Creating GenoGAMDataSet
INFO [2020-04-15 02:40:46] Creating GenoGAMDataSet
INFO [2020-04-15 02:40:46] Creating GenoGAMDataSet
INFO [2020-04-15 02:40:47] Creating GenoGAMDataSet
INFO [2020-04-15 02:40:47] Creating GenoGAMDataSet
INFO [2020-04-15 02:40:47] Reading in data
INFO [2020-04-15 02:40:47] Reading in wt_1
INFO [2020-04-15 02:40:49] Reading in wt_2
INFO [2020-04-15 02:40:50] Reading in mutant_1
INFO [2020-04-15 02:40:50] Reading in mutant_2
INFO [2020-04-15 02:40:51] Finished reading in data
INFO [2020-04-15 02:40:51] GenoGAMDataSet created
INFO [2020-04-15 02:40:51] Creating GenoGAMDataSet
INFO [2020-04-15 02:40:52] Reading in data
INFO [2020-04-15 02:40:52] Reading in wt_1
INFO [2020-04-15 02:40:52] Reading in wt_2
INFO [2020-04-15 02:40:53] Reading in mutant_1
INFO [2020-04-15 02:40:53] Reading in mutant_2
INFO [2020-04-15 02:40:54] Finished reading in data
INFO [2020-04-15 02:40:54] GenoGAMDataSet created
INFO [2020-04-15 02:40:54] Creating GenoGAMDataSet
ERROR [2020-04-15 02:40:54] The data does not match the region specification in the bamParams settings.
INFO [2020-04-15 02:40:54] GenoGAMDataSet created
WARN [2020-04-15 02:40:54] Checks dismissed due to empty object or forgotten setting
INFO [2020-04-15 02:40:54] Creating GenoGAMDataSet
ERROR [2020-04-15 02:40:54] No chromosomes to read in. Check either the specified settings or the header of BAM file
INFO [2020-04-15 02:40:54] GenoGAMDataSet created
WARN [2020-04-15 02:40:54] Checks dismissed due to empty object or forgotten setting
INFO [2020-04-15 02:40:54] Creating GenoGAMDataSet
INFO [2020-04-15 02:40:55] Reading in data
INFO [2020-04-15 02:40:55] Reading in wt_1
INFO [2020-04-15 02:40:56] Reading in wt_2
INFO [2020-04-15 02:40:56] Reading in mutant_1
INFO [2020-04-15 02:40:57] Reading in mutant_2
INFO [2020-04-15 02:40:57] Finished reading in data
ERROR [2020-04-15 02:40:57] Checks failed. Following settings display errors:
formula
"'by' variables in design don't match colData"
INFO [2020-04-15 02:40:58] GenoGAMDataSet created
ERROR [2020-04-15 02:40:58] Checks failed. Following settings display errors:
formula
"'by' variables in design don't match colData"
WARN [2020-04-15 02:41:01] Settings checking deactivated. Modeling on these tiles might yield wrong results.
WARN [2020-04-15 02:41:01] Checks dismissed due to empty object or forgotten setting
ERROR [2020-04-15 02:41:01] 'by' variables could not be found in colData
INFO [2020-04-15 02:41:03] Reading in data
INFO [2020-04-15 02:41:03] Reading in wt_1
INFO [2020-04-15 02:41:03] Reading in wt_2
INFO [2020-04-15 02:41:04] Reading in mutant_1
INFO [2020-04-15 02:41:04] Reading in mutant_2
INFO [2020-04-15 02:41:05] Finished reading in data
INFO [2020-04-15 02:41:06] Creating GenoGAMDataSet
INFO [2020-04-15 02:41:06] Reading in data
INFO [2020-04-15 02:41:06] Reading in wt_1
INFO [2020-04-15 02:41:07] Reading in wt_2
INFO [2020-04-15 02:41:07] Reading in mutant_1
INFO [2020-04-15 02:41:07] Reading in mutant_2
INFO [2020-04-15 02:41:08] Finished reading in data
INFO [2020-04-15 02:41:08] GenoGAMDataSet created
INFO [2020-04-15 02:41:11] Creating GenoGAMDataSet
INFO [2020-04-15 02:41:12] GenoGAMDataSet created
INFO [2020-04-15 02:41:13] Creating GenoGAMDataSet
INFO [2020-04-15 02:41:14] GenoGAMDataSet created
INFO [2020-04-15 02:41:15] Creating GenoGAMDataSet
INFO [2020-04-15 02:41:16] GenoGAMDataSet created
INFO [2020-04-15 02:41:17] Creating GenoGAMDataSet
INFO [2020-04-15 02:41:18] GenoGAMDataSet created
INFO [2020-04-15 02:41:18] Creating GenoGAMDataSet
INFO [2020-04-15 02:41:19] Reading in data
INFO [2020-04-15 02:41:19] Reading in wt_1
INFO [2020-04-15 02:41:19] Reading in wt_2
INFO [2020-04-15 02:41:19] Reading in mutant_1
INFO [2020-04-15 02:41:20] Reading in mutant_2
INFO [2020-04-15 02:41:20] Finished reading in data
INFO [2020-04-15 02:41:21] GenoGAMDataSet created
INFO [2020-04-15 02:41:21] Creating GenoGAMDataSet
INFO [2020-04-15 02:41:22] Reading in data
INFO [2020-04-15 02:41:22] Reading in wt_1
INFO [2020-04-15 02:41:22] Reading in wt_2
INFO [2020-04-15 02:41:23] Reading in mutant_1
INFO [2020-04-15 02:41:23] Reading in mutant_2
INFO [2020-04-15 02:41:23] Finished reading in data
INFO [2020-04-15 02:41:24] GenoGAMDataSet created
INFO [2020-04-15 02:41:24] Creating GenoGAMDataSet
INFO [2020-04-15 02:41:25] Reading in data
INFO [2020-04-15 02:41:25] Reading in wt_1
INFO [2020-04-15 02:41:25] Reading in wt_2
INFO [2020-04-15 02:41:26] Reading in mutant_1
INFO [2020-04-15 02:41:26] Reading in mutant_2
INFO [2020-04-15 02:41:26] Finished reading in data
INFO [2020-04-15 02:41:27] GenoGAMDataSet created
INFO [2020-04-15 02:41:28] Creating GenoGAMDataSet
ERROR [2020-04-15 02:41:28] The data does not match the region specification in the bamParams settings.
INFO [2020-04-15 02:41:28] GenoGAMDataSet created
WARN [2020-04-15 02:41:28] Checks dismissed due to empty object or forgotten setting
INFO [2020-04-15 02:41:28] Creating GenoGAMDataSet
ERROR [2020-04-15 02:41:28] The data does not match the region specification in the bamParams settings.
INFO [2020-04-15 02:41:28] GenoGAMDataSet created
WARN [2020-04-15 02:41:28] Checks dismissed due to empty object or forgotten setting
INFO [2020-04-15 02:41:28] Creating GenoGAMDataSet
INFO [2020-04-15 02:41:29] Reading in data
INFO [2020-04-15 02:41:29] Reading in wt_1
INFO [2020-04-15 02:41:29] Reading in wt_2
INFO [2020-04-15 02:41:30] Reading in mutant_1
INFO [2020-04-15 02:41:30] Reading in mutant_2
INFO [2020-04-15 02:41:31] Finished reading in data
ERROR [2020-04-15 02:41:32] Checks failed. Following settings display errors:
formula
"'by' variables in design don't match colData"
INFO [2020-04-15 02:41:32] GenoGAMDataSet created
ERROR [2020-04-15 02:41:32] Checks failed. Following settings display errors:
formula
"'by' variables in design don't match colData"
WARN [2020-04-15 02:41:33] Settings checking deactivated. Modeling on these tiles might yield wrong results.
WARN [2020-04-15 02:41:33] Checks dismissed due to empty object or forgotten setting
INFO [2020-04-15 02:41:34] Creating GenoGAMDataSet
INFO [2020-04-15 02:41:35] Reading in data
INFO [2020-04-15 02:41:35] Reading in wt_1
INFO [2020-04-15 02:41:35] Reading in wt_2
INFO [2020-04-15 02:41:36] Reading in mutant_1
INFO [2020-04-15 02:41:36] Reading in mutant_2
INFO [2020-04-15 02:41:36] Finished reading in data
INFO [2020-04-15 02:41:37] GenoGAMDataSet created
ERROR [2020-04-15 02:41:37] 'by' variables could not be found in colData
WARN [2020-04-15 02:41:55] Some supplied parameters aren't valid and won't be used
WARN [2020-04-15 02:41:55] Some supplied parameters aren't valid and won't be used
INFO [2020-04-15 02:41:56] Creating GenoGAMDataSet
INFO [2020-04-15 02:41:57] GenoGAMDataSet created
INFO [2020-04-15 02:41:57] Creating GenoGAMDataSet
INFO [2020-04-15 02:41:58] GenoGAMDataSet created
ERROR [2020-04-15 02:42:02] The overhang size covers the entire tile. Change parameter to a lower meaningful value. See getOverhangSize().
INFO [2020-04-15 02:42:02] Creating GenoGAMDataSet
INFO [2020-04-15 02:42:03] GenoGAMDataSet created
WARN [2020-04-15 02:42:05] Some supplied parameters aren't valid and won't be used
INFO [2020-04-15 02:42:07] Creating GenoGAMDataSet
INFO [2020-04-15 02:42:08] GenoGAMDataSet created
INFO [2020-04-15 02:42:09] Computing size factors
INFO [2020-04-15 02:42:09] DONE
INFO [2020-04-15 02:42:10] Computing size factors
INFO [2020-04-15 02:42:10] Creating GenoGAMDataSet
INFO [2020-04-15 02:42:10] GenoGAMDataSet created
INFO [2020-04-15 02:42:11] Computing size factors
ERROR [2020-04-15 02:42:11] GenoGAMDataSet doesn't have column names. No size factors computed.
INFO [2020-04-15 02:42:11] Creating GenoGAMDataSet
INFO [2020-04-15 02:42:12] GenoGAMDataSet created
══ testthat results ═══════════════════════════════════════════════════════════
[ OK: 427 | SKIPPED: 0 | WARNINGS: 109 | FAILED: 0 ]
>
> proc.time()
user system elapsed
108.574 13.462 104.539
Example timings
GenoGAM.Rcheck/GenoGAM-Ex.timings