GenoGAM.Rcheck/tests_i386/testthat.Rout
R version 3.6.3 (2020-02-29) -- "Holding the Windsock"
Copyright (C) 2020 The R Foundation for Statistical Computing
Platform: i386-w64-mingw32/i386 (32-bit)
R is free software and comes with ABSOLUTELY NO WARRANTY.
You are welcome to redistribute it under certain conditions.
Type 'license()' or 'licence()' for distribution details.
R is a collaborative project with many contributors.
Type 'contributors()' for more information and
'citation()' on how to cite R or R packages in publications.
Type 'demo()' for some demos, 'help()' for on-line help, or
'help.start()' for an HTML browser interface to help.
Type 'q()' to quit R.
> library(testthat)
> library(GenoGAM)
Loading required package: SummarizedExperiment
Loading required package: GenomicRanges
Loading required package: stats4
Loading required package: BiocGenerics
Loading required package: parallel
Attaching package: 'BiocGenerics'
The following objects are masked from 'package:parallel':
clusterApply, clusterApplyLB, clusterCall, clusterEvalQ,
clusterExport, clusterMap, parApply, parCapply, parLapply,
parLapplyLB, parRapply, parSapply, parSapplyLB
The following objects are masked from 'package:stats':
IQR, mad, sd, var, xtabs
The following objects are masked from 'package:base':
Filter, Find, Map, Position, Reduce, anyDuplicated, append,
as.data.frame, basename, cbind, colnames, dirname, do.call,
duplicated, eval, evalq, get, grep, grepl, intersect, is.unsorted,
lapply, mapply, match, mget, order, paste, pmax, pmax.int, pmin,
pmin.int, rank, rbind, rownames, sapply, setdiff, sort, table,
tapply, union, unique, unsplit, which, which.max, which.min
Loading required package: S4Vectors
Attaching package: 'S4Vectors'
The following object is masked from 'package:base':
expand.grid
Loading required package: IRanges
Attaching package: 'IRanges'
The following object is masked from 'package:grDevices':
windows
Loading required package: GenomeInfoDb
Loading required package: Biobase
Welcome to Bioconductor
Vignettes contain introductory material; view with
'browseVignettes()'. To cite Bioconductor, see
'citation("Biobase")', and for packages 'citation("pkgname")'.
Loading required package: DelayedArray
Loading required package: matrixStats
Attaching package: 'matrixStats'
The following objects are masked from 'package:Biobase':
anyMissing, rowMedians
Loading required package: BiocParallel
Attaching package: 'DelayedArray'
The following objects are masked from 'package:matrixStats':
colMaxs, colMins, colRanges, rowMaxs, rowMins, rowRanges
The following objects are masked from 'package:base':
aperm, apply, rowsum
Loading required package: HDF5Array
Loading required package: rhdf5
Loading required package: Matrix
Attaching package: 'Matrix'
The following object is masked from 'package:S4Vectors':
expand
Loading required package: data.table
Attaching package: 'data.table'
The following object is masked from 'package:SummarizedExperiment':
shift
The following object is masked from 'package:GenomicRanges':
shift
The following object is masked from 'package:IRanges':
shift
The following objects are masked from 'package:S4Vectors':
first, second
Warning message:
replacing previous import 'S4Vectors::na.omit' by 'stats::na.omit' when loading 'GenoGAM'
>
> test_check("GenoGAM")
INFO [2020-04-15 03:36:13] Creating GenoGAMDataSet
INFO [2020-04-15 03:36:15] GenoGAMDataSet created
INFO [2020-04-15 03:36:15] Creating GenoGAMDataSet
INFO [2020-04-15 03:36:15] Creating GenoGAMDataSet
INFO [2020-04-15 03:36:15] Creating GenoGAMDataSet
INFO [2020-04-15 03:36:15] Creating GenoGAMDataSet
INFO [2020-04-15 03:36:15] Creating GenoGAMDataSet
INFO [2020-04-15 03:36:16] Reading in data
INFO [2020-04-15 03:36:16] Reading in wt_1
INFO [2020-04-15 03:36:18] Reading in wt_2
INFO [2020-04-15 03:36:19] Reading in mutant_1
INFO [2020-04-15 03:36:19] Reading in mutant_2
INFO [2020-04-15 03:36:19] Finished reading in data
INFO [2020-04-15 03:36:20] GenoGAMDataSet created
INFO [2020-04-15 03:36:20] Creating GenoGAMDataSet
INFO [2020-04-15 03:36:20] Reading in data
INFO [2020-04-15 03:36:20] Reading in wt_1
INFO [2020-04-15 03:36:21] Reading in wt_2
INFO [2020-04-15 03:36:21] Reading in mutant_1
INFO [2020-04-15 03:36:22] Reading in mutant_2
INFO [2020-04-15 03:36:22] Finished reading in data
INFO [2020-04-15 03:36:22] GenoGAMDataSet created
INFO [2020-04-15 03:36:22] Creating GenoGAMDataSet
ERROR [2020-04-15 03:36:22] The data does not match the region specification in the bamParams settings.
INFO [2020-04-15 03:36:22] GenoGAMDataSet created
WARN [2020-04-15 03:36:22] Checks dismissed due to empty object or forgotten setting
INFO [2020-04-15 03:36:22] Creating GenoGAMDataSet
ERROR [2020-04-15 03:36:22] No chromosomes to read in. Check either the specified settings or the header of BAM file
INFO [2020-04-15 03:36:22] GenoGAMDataSet created
WARN [2020-04-15 03:36:22] Checks dismissed due to empty object or forgotten setting
INFO [2020-04-15 03:36:22] Creating GenoGAMDataSet
INFO [2020-04-15 03:36:23] Reading in data
INFO [2020-04-15 03:36:23] Reading in wt_1
INFO [2020-04-15 03:36:24] Reading in wt_2
INFO [2020-04-15 03:36:24] Reading in mutant_1
INFO [2020-04-15 03:36:25] Reading in mutant_2
INFO [2020-04-15 03:36:26] Finished reading in data
ERROR [2020-04-15 03:36:26] Checks failed. Following settings display errors:
formula
"'by' variables in design don't match colData"
INFO [2020-04-15 03:36:26] GenoGAMDataSet created
ERROR [2020-04-15 03:36:26] Checks failed. Following settings display errors:
formula
"'by' variables in design don't match colData"
WARN [2020-04-15 03:37:31] Settings checking deactivated. Modeling on these tiles might yield wrong results.
WARN [2020-04-15 03:37:31] Checks dismissed due to empty object or forgotten setting
ERROR [2020-04-15 03:37:31] 'by' variables could not be found in colData
INFO [2020-04-15 03:37:33] Reading in data
INFO [2020-04-15 03:37:33] Reading in wt_1
INFO [2020-04-15 03:37:33] Reading in wt_2
INFO [2020-04-15 03:37:34] Reading in mutant_1
INFO [2020-04-15 03:37:35] Reading in mutant_2
INFO [2020-04-15 03:37:35] Finished reading in data
INFO [2020-04-15 03:37:36] Creating GenoGAMDataSet
INFO [2020-04-15 03:37:36] Reading in data
INFO [2020-04-15 03:37:36] Reading in wt_1
INFO [2020-04-15 03:37:37] Reading in wt_2
INFO [2020-04-15 03:37:37] Reading in mutant_1
INFO [2020-04-15 03:37:38] Reading in mutant_2
INFO [2020-04-15 03:37:38] Finished reading in data
INFO [2020-04-15 03:37:38] GenoGAMDataSet created
INFO [2020-04-15 03:37:40] Creating GenoGAMDataSet
INFO [2020-04-15 03:37:41] GenoGAMDataSet created
INFO [2020-04-15 03:37:42] Creating GenoGAMDataSet
INFO [2020-04-15 03:37:43] GenoGAMDataSet created
INFO [2020-04-15 03:37:45] Creating GenoGAMDataSet
INFO [2020-04-15 03:37:46] GenoGAMDataSet created
INFO [2020-04-15 03:37:46] Creating GenoGAMDataSet
INFO [2020-04-15 03:37:47] GenoGAMDataSet created
INFO [2020-04-15 03:37:47] Creating GenoGAMDataSet
INFO [2020-04-15 03:37:48] Reading in data
INFO [2020-04-15 03:37:48] Reading in wt_1
INFO [2020-04-15 03:37:48] Reading in wt_2
INFO [2020-04-15 03:37:48] Reading in mutant_1
INFO [2020-04-15 03:37:49] Reading in mutant_2
INFO [2020-04-15 03:37:49] Finished reading in data
INFO [2020-04-15 03:37:50] GenoGAMDataSet created
INFO [2020-04-15 03:37:50] Creating GenoGAMDataSet
INFO [2020-04-15 03:37:50] Reading in data
INFO [2020-04-15 03:37:50] Reading in wt_1
INFO [2020-04-15 03:37:50] Reading in wt_2
INFO [2020-04-15 03:37:51] Reading in mutant_1
INFO [2020-04-15 03:37:51] Reading in mutant_2
INFO [2020-04-15 03:37:51] Finished reading in data
INFO [2020-04-15 03:37:52] GenoGAMDataSet created
INFO [2020-04-15 03:37:52] Creating GenoGAMDataSet
INFO [2020-04-15 03:37:53] Reading in data
INFO [2020-04-15 03:37:53] Reading in wt_1
INFO [2020-04-15 03:37:53] Reading in wt_2
INFO [2020-04-15 03:37:53] Reading in mutant_1
INFO [2020-04-15 03:37:54] Reading in mutant_2
INFO [2020-04-15 03:37:54] Finished reading in data
INFO [2020-04-15 03:37:55] GenoGAMDataSet created
INFO [2020-04-15 03:37:55] Creating GenoGAMDataSet
ERROR [2020-04-15 03:37:55] The data does not match the region specification in the bamParams settings.
INFO [2020-04-15 03:37:55] GenoGAMDataSet created
WARN [2020-04-15 03:37:55] Checks dismissed due to empty object or forgotten setting
INFO [2020-04-15 03:37:55] Creating GenoGAMDataSet
ERROR [2020-04-15 03:37:55] The data does not match the region specification in the bamParams settings.
INFO [2020-04-15 03:37:55] GenoGAMDataSet created
WARN [2020-04-15 03:37:55] Checks dismissed due to empty object or forgotten setting
INFO [2020-04-15 03:37:55] Creating GenoGAMDataSet
INFO [2020-04-15 03:37:56] Reading in data
INFO [2020-04-15 03:37:56] Reading in wt_1
INFO [2020-04-15 03:37:56] Reading in wt_2
INFO [2020-04-15 03:37:57] Reading in mutant_1
INFO [2020-04-15 03:37:57] Reading in mutant_2
INFO [2020-04-15 03:37:58] Finished reading in data
ERROR [2020-04-15 03:37:58] Checks failed. Following settings display errors:
formula
"'by' variables in design don't match colData"
INFO [2020-04-15 03:37:58] GenoGAMDataSet created
ERROR [2020-04-15 03:37:58] Checks failed. Following settings display errors:
formula
"'by' variables in design don't match colData"
WARN [2020-04-15 03:38:13] Settings checking deactivated. Modeling on these tiles might yield wrong results.
WARN [2020-04-15 03:38:13] Checks dismissed due to empty object or forgotten setting
INFO [2020-04-15 03:38:13] Creating GenoGAMDataSet
INFO [2020-04-15 03:38:14] Reading in data
INFO [2020-04-15 03:38:14] Reading in wt_1
INFO [2020-04-15 03:38:14] Reading in wt_2
INFO [2020-04-15 03:38:14] Reading in mutant_1
INFO [2020-04-15 03:38:14] Reading in mutant_2
INFO [2020-04-15 03:38:15] Finished reading in data
INFO [2020-04-15 03:38:15] GenoGAMDataSet created
ERROR [2020-04-15 03:38:15] 'by' variables could not be found in colData
WARN [2020-04-15 03:40:57] Some supplied parameters aren't valid and won't be used
WARN [2020-04-15 03:40:57] Some supplied parameters aren't valid and won't be used
INFO [2020-04-15 03:40:58] Creating GenoGAMDataSet
INFO [2020-04-15 03:40:58] GenoGAMDataSet created
INFO [2020-04-15 03:40:58] Creating GenoGAMDataSet
INFO [2020-04-15 03:40:59] GenoGAMDataSet created
ERROR [2020-04-15 03:44:53] The overhang size covers the entire tile. Change parameter to a lower meaningful value. See getOverhangSize().
INFO [2020-04-15 03:44:53] Creating GenoGAMDataSet
INFO [2020-04-15 03:44:54] GenoGAMDataSet created
WARN [2020-04-15 03:44:56] Some supplied parameters aren't valid and won't be used
INFO [2020-04-15 03:45:16] Creating GenoGAMDataSet
INFO [2020-04-15 03:45:16] GenoGAMDataSet created
INFO [2020-04-15 03:45:16] Computing size factors
INFO [2020-04-15 03:45:17] DONE
INFO [2020-04-15 03:45:17] Computing size factors
INFO [2020-04-15 03:45:17] Creating GenoGAMDataSet
INFO [2020-04-15 03:45:18] GenoGAMDataSet created
INFO [2020-04-15 03:45:18] Computing size factors
ERROR [2020-04-15 03:45:18] GenoGAMDataSet doesn't have column names. No size factors computed.
INFO [2020-04-15 03:45:18] Creating GenoGAMDataSet
INFO [2020-04-15 03:45:19] GenoGAMDataSet created
== testthat results ===========================================================
[ OK: 427 | SKIPPED: 0 | WARNINGS: 109 | FAILED: 0 ]
>
> proc.time()
user system elapsed
92.68 2.68 562.54
|
GenoGAM.Rcheck/tests_x64/testthat.Rout
R version 3.6.3 (2020-02-29) -- "Holding the Windsock"
Copyright (C) 2020 The R Foundation for Statistical Computing
Platform: x86_64-w64-mingw32/x64 (64-bit)
R is free software and comes with ABSOLUTELY NO WARRANTY.
You are welcome to redistribute it under certain conditions.
Type 'license()' or 'licence()' for distribution details.
R is a collaborative project with many contributors.
Type 'contributors()' for more information and
'citation()' on how to cite R or R packages in publications.
Type 'demo()' for some demos, 'help()' for on-line help, or
'help.start()' for an HTML browser interface to help.
Type 'q()' to quit R.
> library(testthat)
> library(GenoGAM)
Loading required package: SummarizedExperiment
Loading required package: GenomicRanges
Loading required package: stats4
Loading required package: BiocGenerics
Loading required package: parallel
Attaching package: 'BiocGenerics'
The following objects are masked from 'package:parallel':
clusterApply, clusterApplyLB, clusterCall, clusterEvalQ,
clusterExport, clusterMap, parApply, parCapply, parLapply,
parLapplyLB, parRapply, parSapply, parSapplyLB
The following objects are masked from 'package:stats':
IQR, mad, sd, var, xtabs
The following objects are masked from 'package:base':
Filter, Find, Map, Position, Reduce, anyDuplicated, append,
as.data.frame, basename, cbind, colnames, dirname, do.call,
duplicated, eval, evalq, get, grep, grepl, intersect, is.unsorted,
lapply, mapply, match, mget, order, paste, pmax, pmax.int, pmin,
pmin.int, rank, rbind, rownames, sapply, setdiff, sort, table,
tapply, union, unique, unsplit, which, which.max, which.min
Loading required package: S4Vectors
Attaching package: 'S4Vectors'
The following object is masked from 'package:base':
expand.grid
Loading required package: IRanges
Attaching package: 'IRanges'
The following object is masked from 'package:grDevices':
windows
Loading required package: GenomeInfoDb
Loading required package: Biobase
Welcome to Bioconductor
Vignettes contain introductory material; view with
'browseVignettes()'. To cite Bioconductor, see
'citation("Biobase")', and for packages 'citation("pkgname")'.
Loading required package: DelayedArray
Loading required package: matrixStats
Attaching package: 'matrixStats'
The following objects are masked from 'package:Biobase':
anyMissing, rowMedians
Loading required package: BiocParallel
Attaching package: 'DelayedArray'
The following objects are masked from 'package:matrixStats':
colMaxs, colMins, colRanges, rowMaxs, rowMins, rowRanges
The following objects are masked from 'package:base':
aperm, apply, rowsum
Loading required package: HDF5Array
Loading required package: rhdf5
Loading required package: Matrix
Attaching package: 'Matrix'
The following object is masked from 'package:S4Vectors':
expand
Loading required package: data.table
Attaching package: 'data.table'
The following object is masked from 'package:SummarizedExperiment':
shift
The following object is masked from 'package:GenomicRanges':
shift
The following object is masked from 'package:IRanges':
shift
The following objects are masked from 'package:S4Vectors':
first, second
Warning message:
replacing previous import 'S4Vectors::na.omit' by 'stats::na.omit' when loading 'GenoGAM'
>
> test_check("GenoGAM")
INFO [2020-04-15 03:45:37] Creating GenoGAMDataSet
INFO [2020-04-15 03:45:40] GenoGAMDataSet created
INFO [2020-04-15 03:45:40] Creating GenoGAMDataSet
INFO [2020-04-15 03:45:40] Creating GenoGAMDataSet
INFO [2020-04-15 03:45:40] Creating GenoGAMDataSet
INFO [2020-04-15 03:45:40] Creating GenoGAMDataSet
INFO [2020-04-15 03:45:40] Creating GenoGAMDataSet
INFO [2020-04-15 03:45:41] Reading in data
INFO [2020-04-15 03:45:41] Reading in wt_1
INFO [2020-04-15 03:45:42] Reading in wt_2
INFO [2020-04-15 03:45:43] Reading in mutant_1
INFO [2020-04-15 03:45:43] Reading in mutant_2
INFO [2020-04-15 03:45:44] Finished reading in data
INFO [2020-04-15 03:45:44] GenoGAMDataSet created
INFO [2020-04-15 03:45:44] Creating GenoGAMDataSet
INFO [2020-04-15 03:45:45] Reading in data
INFO [2020-04-15 03:45:45] Reading in wt_1
INFO [2020-04-15 03:45:46] Reading in wt_2
INFO [2020-04-15 03:45:46] Reading in mutant_1
INFO [2020-04-15 03:45:46] Reading in mutant_2
INFO [2020-04-15 03:45:47] Finished reading in data
INFO [2020-04-15 03:45:47] GenoGAMDataSet created
INFO [2020-04-15 03:45:47] Creating GenoGAMDataSet
ERROR [2020-04-15 03:45:47] The data does not match the region specification in the bamParams settings.
INFO [2020-04-15 03:45:47] GenoGAMDataSet created
WARN [2020-04-15 03:45:47] Checks dismissed due to empty object or forgotten setting
INFO [2020-04-15 03:45:47] Creating GenoGAMDataSet
ERROR [2020-04-15 03:45:47] No chromosomes to read in. Check either the specified settings or the header of BAM file
INFO [2020-04-15 03:45:47] GenoGAMDataSet created
WARN [2020-04-15 03:45:47] Checks dismissed due to empty object or forgotten setting
INFO [2020-04-15 03:45:47] Creating GenoGAMDataSet
INFO [2020-04-15 03:45:48] Reading in data
INFO [2020-04-15 03:45:48] Reading in wt_1
INFO [2020-04-15 03:45:49] Reading in wt_2
INFO [2020-04-15 03:45:49] Reading in mutant_1
INFO [2020-04-15 03:45:50] Reading in mutant_2
INFO [2020-04-15 03:45:50] Finished reading in data
ERROR [2020-04-15 03:45:50] Checks failed. Following settings display errors:
formula
"'by' variables in design don't match colData"
INFO [2020-04-15 03:45:50] GenoGAMDataSet created
ERROR [2020-04-15 03:45:50] Checks failed. Following settings display errors:
formula
"'by' variables in design don't match colData"
WARN [2020-04-15 03:47:03] Settings checking deactivated. Modeling on these tiles might yield wrong results.
WARN [2020-04-15 03:47:03] Checks dismissed due to empty object or forgotten setting
ERROR [2020-04-15 03:47:03] 'by' variables could not be found in colData
INFO [2020-04-15 03:47:05] Reading in data
INFO [2020-04-15 03:47:05] Reading in wt_1
INFO [2020-04-15 03:47:06] Reading in wt_2
INFO [2020-04-15 03:47:06] Reading in mutant_1
INFO [2020-04-15 03:47:07] Reading in mutant_2
INFO [2020-04-15 03:47:07] Finished reading in data
INFO [2020-04-15 03:47:08] Creating GenoGAMDataSet
INFO [2020-04-15 03:47:09] Reading in data
INFO [2020-04-15 03:47:09] Reading in wt_1
INFO [2020-04-15 03:47:09] Reading in wt_2
INFO [2020-04-15 03:47:10] Reading in mutant_1
INFO [2020-04-15 03:47:10] Reading in mutant_2
INFO [2020-04-15 03:47:11] Finished reading in data
INFO [2020-04-15 03:47:11] GenoGAMDataSet created
INFO [2020-04-15 03:47:14] Creating GenoGAMDataSet
INFO [2020-04-15 03:47:15] GenoGAMDataSet created
INFO [2020-04-15 03:47:16] Creating GenoGAMDataSet
INFO [2020-04-15 03:47:17] GenoGAMDataSet created
INFO [2020-04-15 03:47:19] Creating GenoGAMDataSet
INFO [2020-04-15 03:47:20] GenoGAMDataSet created
INFO [2020-04-15 03:47:21] Creating GenoGAMDataSet
INFO [2020-04-15 03:47:22] GenoGAMDataSet created
INFO [2020-04-15 03:47:22] Creating GenoGAMDataSet
INFO [2020-04-15 03:47:23] Reading in data
INFO [2020-04-15 03:47:23] Reading in wt_1
INFO [2020-04-15 03:47:23] Reading in wt_2
INFO [2020-04-15 03:47:24] Reading in mutant_1
INFO [2020-04-15 03:47:24] Reading in mutant_2
INFO [2020-04-15 03:47:25] Finished reading in data
INFO [2020-04-15 03:47:26] GenoGAMDataSet created
INFO [2020-04-15 03:47:26] Creating GenoGAMDataSet
INFO [2020-04-15 03:47:27] Reading in data
INFO [2020-04-15 03:47:27] Reading in wt_1
INFO [2020-04-15 03:47:27] Reading in wt_2
INFO [2020-04-15 03:47:28] Reading in mutant_1
INFO [2020-04-15 03:47:28] Reading in mutant_2
INFO [2020-04-15 03:47:29] Finished reading in data
INFO [2020-04-15 03:47:30] GenoGAMDataSet created
INFO [2020-04-15 03:47:30] Creating GenoGAMDataSet
INFO [2020-04-15 03:47:31] Reading in data
INFO [2020-04-15 03:47:31] Reading in wt_1
INFO [2020-04-15 03:47:32] Reading in wt_2
INFO [2020-04-15 03:47:32] Reading in mutant_1
INFO [2020-04-15 03:47:32] Reading in mutant_2
INFO [2020-04-15 03:47:33] Finished reading in data
INFO [2020-04-15 03:47:35] GenoGAMDataSet created
INFO [2020-04-15 03:47:35] Creating GenoGAMDataSet
ERROR [2020-04-15 03:47:35] The data does not match the region specification in the bamParams settings.
INFO [2020-04-15 03:47:35] GenoGAMDataSet created
WARN [2020-04-15 03:47:35] Checks dismissed due to empty object or forgotten setting
INFO [2020-04-15 03:47:35] Creating GenoGAMDataSet
ERROR [2020-04-15 03:47:35] The data does not match the region specification in the bamParams settings.
INFO [2020-04-15 03:47:35] GenoGAMDataSet created
WARN [2020-04-15 03:47:35] Checks dismissed due to empty object or forgotten setting
INFO [2020-04-15 03:47:35] Creating GenoGAMDataSet
INFO [2020-04-15 03:47:36] Reading in data
INFO [2020-04-15 03:47:36] Reading in wt_1
INFO [2020-04-15 03:47:37] Reading in wt_2
INFO [2020-04-15 03:47:37] Reading in mutant_1
INFO [2020-04-15 03:47:38] Reading in mutant_2
INFO [2020-04-15 03:47:39] Finished reading in data
ERROR [2020-04-15 03:47:40] Checks failed. Following settings display errors:
formula
"'by' variables in design don't match colData"
INFO [2020-04-15 03:47:40] GenoGAMDataSet created
ERROR [2020-04-15 03:47:40] Checks failed. Following settings display errors:
formula
"'by' variables in design don't match colData"
WARN [2020-04-15 03:48:00] Settings checking deactivated. Modeling on these tiles might yield wrong results.
WARN [2020-04-15 03:48:00] Checks dismissed due to empty object or forgotten setting
INFO [2020-04-15 03:48:00] Creating GenoGAMDataSet
INFO [2020-04-15 03:48:01] Reading in data
INFO [2020-04-15 03:48:01] Reading in wt_1
INFO [2020-04-15 03:48:01] Reading in wt_2
INFO [2020-04-15 03:48:02] Reading in mutant_1
INFO [2020-04-15 03:48:02] Reading in mutant_2
INFO [2020-04-15 03:48:03] Finished reading in data
INFO [2020-04-15 03:48:03] GenoGAMDataSet created
ERROR [2020-04-15 03:48:03] 'by' variables could not be found in colData
WARN [2020-04-15 03:51:13] Some supplied parameters aren't valid and won't be used
WARN [2020-04-15 03:51:13] Some supplied parameters aren't valid and won't be used
INFO [2020-04-15 03:51:13] Creating GenoGAMDataSet
INFO [2020-04-15 03:51:14] GenoGAMDataSet created
INFO [2020-04-15 03:51:14] Creating GenoGAMDataSet
INFO [2020-04-15 03:51:15] GenoGAMDataSet created
ERROR [2020-04-15 03:55:53] The overhang size covers the entire tile. Change parameter to a lower meaningful value. See getOverhangSize().
INFO [2020-04-15 03:55:53] Creating GenoGAMDataSet
INFO [2020-04-15 03:55:54] GenoGAMDataSet created
WARN [2020-04-15 03:55:57] Some supplied parameters aren't valid and won't be used
INFO [2020-04-15 03:56:19] Creating GenoGAMDataSet
INFO [2020-04-15 03:56:20] GenoGAMDataSet created
INFO [2020-04-15 03:56:20] Computing size factors
INFO [2020-04-15 03:56:20] DONE
INFO [2020-04-15 03:56:21] Computing size factors
INFO [2020-04-15 03:56:21] Creating GenoGAMDataSet
INFO [2020-04-15 03:56:21] GenoGAMDataSet created
INFO [2020-04-15 03:56:21] Computing size factors
ERROR [2020-04-15 03:56:21] GenoGAMDataSet doesn't have column names. No size factors computed.
INFO [2020-04-15 03:56:21] Creating GenoGAMDataSet
INFO [2020-04-15 03:56:22] GenoGAMDataSet created
== testthat results ===========================================================
[ OK: 427 | SKIPPED: 0 | WARNINGS: 109 | FAILED: 0 ]
>
> proc.time()
user system elapsed
113.39 1.48 660.98
|