Back to Multiple platform build/check report for BioC 3.10 |
|
This page was generated on 2020-04-15 12:49:54 -0400 (Wed, 15 Apr 2020).
Package 1084/1823 | Hostname | OS / Arch | INSTALL | BUILD | CHECK | BUILD BIN | ||||||
MOSim 1.0.2 Carlos Martínez
| malbec1 | Linux (Ubuntu 18.04.4 LTS) / x86_64 | OK | OK | OK | ![]() | ||||||
tokay1 | Windows Server 2012 R2 Standard / x64 | OK | OK | OK | OK | ![]() | ||||||
merida1 | OS X 10.11.6 El Capitan / x86_64 | OK | OK | OK | [ OK ] | ![]() |
Package: MOSim |
Version: 1.0.2 |
Command: rm -rf MOSim.buildbin-libdir && mkdir MOSim.buildbin-libdir && /Users/biocbuild/BBS/utils/build-universal.sh MOSim_1.0.2.tar.gz /Library/Frameworks/R.framework/Versions/Current/Resources/bin/R MOSim.buildbin-libdir |
StartedAt: 2020-04-15 08:06:33 -0400 (Wed, 15 Apr 2020) |
EndedAt: 2020-04-15 08:07:32 -0400 (Wed, 15 Apr 2020) |
EllapsedTime: 59.0 seconds |
RetCode: 0 |
Status: OK |
PackageFile: MOSim_1.0.2.tgz |
PackageFileSize: 4.773 MiB |
############################################################################## ############################################################################## ### ### Running command: ### ### rm -rf MOSim.buildbin-libdir && mkdir MOSim.buildbin-libdir && /Users/biocbuild/BBS/utils/build-universal.sh MOSim_1.0.2.tar.gz /Library/Frameworks/R.framework/Versions/Current/Resources/bin/R MOSim.buildbin-libdir ### ############################################################################## ############################################################################## >>>>>>> >>>>>>> INSTALLATION WITH 'R CMD INSTALL --preclean --no-multiarch --library=MOSim.buildbin-libdir MOSim_1.0.2.tar.gz' >>>>>>> * installing *source* package ‘MOSim’ ... ** using staged installation ** R ** data ** inst ** byte-compile and prepare package for lazy loading Creating a new generic function for ‘simulate’ in package ‘MOSim’ ** help *** installing help indices ** building package indices ** installing vignettes ** testing if installed package can be loaded from temporary location ** testing if installed package can be loaded from final location ** testing if installed package keeps a record of temporary installation path * DONE (MOSim)