Back to Multiple platform build/check report for BioC 3.10 |
|
This page was generated on 2020-04-15 12:33:01 -0400 (Wed, 15 Apr 2020).
Package 1084/1823 | Hostname | OS / Arch | INSTALL | BUILD | CHECK | BUILD BIN | ||||||
MOSim 1.0.2 Carlos MartÃnez
| malbec1 | Linux (Ubuntu 18.04.4 LTS) / x86_64 | OK | OK | OK | ![]() | ||||||
tokay1 | Windows Server 2012 R2 Standard / x64 | OK | OK | OK | [ OK ] | ![]() | ||||||
merida1 | OS X 10.11.6 El Capitan / x86_64 | OK | OK | OK | OK | ![]() |
Package: MOSim |
Version: 1.0.2 |
Command: rm -rf MOSim.buildbin-libdir && mkdir MOSim.buildbin-libdir && C:\Users\biocbuild\bbs-3.10-bioc\R\bin\R.exe CMD INSTALL --merge-multiarch --build --library=MOSim.buildbin-libdir MOSim_1.0.2.tar.gz |
StartedAt: 2020-04-15 09:12:39 -0400 (Wed, 15 Apr 2020) |
EndedAt: 2020-04-15 09:13:28 -0400 (Wed, 15 Apr 2020) |
EllapsedTime: 48.2 seconds |
RetCode: 0 |
Status: OK |
PackageFile: MOSim_1.0.2.zip |
PackageFileSize: 4.785 MiB |
############################################################################## ############################################################################## ### ### Running command: ### ### rm -rf MOSim.buildbin-libdir && mkdir MOSim.buildbin-libdir && C:\Users\biocbuild\bbs-3.10-bioc\R\bin\R.exe CMD INSTALL --merge-multiarch --build --library=MOSim.buildbin-libdir MOSim_1.0.2.tar.gz ### ############################################################################## ############################################################################## install for i386 * installing *source* package 'MOSim' ... ** using staged installation ** R ** data ** inst ** byte-compile and prepare package for lazy loading Creating a new generic function for 'simulate' in package 'MOSim' ** help *** installing help indices converting help for package 'MOSim' finding HTML links ... done MOSim-package html MOSimulation-class html MOSimulator-class html Simulator-class html experimentalDesign html is.declared html mosim html omicData html omicResults html omicSettings html omicSim html plotProfile html sampleData html ** building package indices ** installing vignettes ** testing if installed package can be loaded from temporary location ** testing if installed package can be loaded from final location ** testing if installed package keeps a record of temporary installation path install for x64 * installing *source* package 'MOSim' ... ** testing if installed package can be loaded * MD5 sums packaged installation of 'MOSim' as MOSim_1.0.2.zip * DONE (MOSim)