Back to Multiple platform build/check report for BioC 3.10 |
|
This page was generated on 2020-04-15 12:38:27 -0400 (Wed, 15 Apr 2020).
Package 1028/1823 | Hostname | OS / Arch | INSTALL | BUILD | CHECK | BUILD BIN | ||||||
MethylSeekR 1.26.0 Lukas Burger
| malbec1 | Linux (Ubuntu 18.04.4 LTS) / x86_64 | OK | OK | OK | ![]() | ||||||
tokay1 | Windows Server 2012 R2 Standard / x64 | OK | OK | OK | OK | ![]() | ||||||
merida1 | OS X 10.11.6 El Capitan / x86_64 | OK | OK | [ OK ] | OK | ![]() |
Package: MethylSeekR |
Version: 1.26.0 |
Command: /Library/Frameworks/R.framework/Versions/Current/Resources/bin/R CMD check --install=check:MethylSeekR.install-out.txt --library=/Library/Frameworks/R.framework/Versions/Current/Resources/library --no-vignettes --timings MethylSeekR_1.26.0.tar.gz |
StartedAt: 2020-04-15 03:48:49 -0400 (Wed, 15 Apr 2020) |
EndedAt: 2020-04-15 03:57:04 -0400 (Wed, 15 Apr 2020) |
EllapsedTime: 495.3 seconds |
RetCode: 0 |
Status: OK |
CheckDir: MethylSeekR.Rcheck |
Warnings: 0 |
############################################################################## ############################################################################## ### ### Running command: ### ### /Library/Frameworks/R.framework/Versions/Current/Resources/bin/R CMD check --install=check:MethylSeekR.install-out.txt --library=/Library/Frameworks/R.framework/Versions/Current/Resources/library --no-vignettes --timings MethylSeekR_1.26.0.tar.gz ### ############################################################################## ############################################################################## * using log directory ‘/Users/biocbuild/bbs-3.10-bioc/meat/MethylSeekR.Rcheck’ * using R version 3.6.3 (2020-02-29) * using platform: x86_64-apple-darwin15.6.0 (64-bit) * using session charset: UTF-8 * using option ‘--no-vignettes’ * checking for file ‘MethylSeekR/DESCRIPTION’ ... OK * checking extension type ... Package * this is package ‘MethylSeekR’ version ‘1.26.0’ * checking package namespace information ... OK * checking package dependencies ... OK * checking if this is a source package ... OK * checking if there is a namespace ... OK * checking for hidden files and directories ... OK * checking for portable file names ... OK * checking for sufficient/correct file permissions ... OK * checking whether package ‘MethylSeekR’ can be installed ... OK * checking installed package size ... OK * checking package directory ... OK * checking ‘build’ directory ... OK * checking DESCRIPTION meta-information ... NOTE Malformed Description field: should contain one or more complete sentences. Package listed in more than one of Depends, Imports, Suggests, Enhances: ‘parallel’ A package should be listed in only one of these fields. * checking top-level files ... OK * checking for left-over files ... OK * checking index information ... OK * checking package subdirectories ... OK * checking R files for non-ASCII characters ... OK * checking R files for syntax errors ... OK * checking whether the package can be loaded ... OK * checking whether the package can be loaded with stated dependencies ... OK * checking whether the package can be unloaded cleanly ... OK * checking whether the namespace can be loaded with stated dependencies ... OK * checking whether the namespace can be unloaded cleanly ... OK * checking dependencies in R code ... NOTE Namespace in Imports field not imported from: ‘geneplotter’ All declared Imports should be used. Package in Depends field not imported from: ‘rtracklayer’ These packages need to be imported from (in the NAMESPACE file) for when this namespace is loaded but not attached. * checking S3 generic/method consistency ... OK * checking replacement functions ... OK * checking foreign function calls ... OK * checking R code for possible problems ... NOTE PMDviterbiSegmentation : <anonymous>: no visible global function definition for ‘predict’ PMDviterbiSegmentation : <anonymous>: no visible global function definition for ‘Rle’ PMDviterbiSegmentation : <anonymous>: no visible global function definition for ‘runValue’ calculateAlphaDistr : <anonymous>: no visible global function definition for ‘Rle’ calculateFDRs: no visible global function definition for ‘queryHits’ calculateFDRs : <anonymous>: no visible global function definition for ‘Rle’ calculateFDRs : <anonymous>: no visible global function definition for ‘runValue’ createGRangesObjectPMDSegmentation : <anonymous>: no visible global function definition for ‘Rle’ createGRangesObjectPMDSegmentation : <anonymous>: no visible global function definition for ‘nrun’ createGRangesObjectPMDSegmentation : <anonymous>: no visible global function definition for ‘runValue’ plotFinalSegmentation: no visible global function definition for ‘Rle’ removeSNPs: no visible global function definition for ‘queryHits’ segmentUMRsLMRs : <anonymous>: no visible global function definition for ‘Rle’ segmentUMRsLMRs : <anonymous>: no visible global function definition for ‘runValue’ segmentUMRsLMRs: no visible global function definition for ‘queryHits’ segmentUMRsLMRs: no visible global function definition for ‘subjectHits’ segmentUMRsLMRs: no visible global function definition for ‘Rle’ segmentUMRsLMRs: no visible global function definition for ‘DataFrame’ segmentUMRsLMRs: no visible global function definition for ‘colorRampPalette’ Undefined global functions or variables: DataFrame Rle colorRampPalette nrun predict queryHits runValue subjectHits Consider adding importFrom("grDevices", "colorRampPalette") importFrom("stats", "predict") to your NAMESPACE file. * checking Rd files ... OK * checking Rd metadata ... OK * checking Rd cross-references ... OK * checking for missing documentation entries ... OK * checking for code/documentation mismatches ... OK * checking Rd \usage sections ... OK * checking Rd contents ... OK * checking for unstated dependencies in examples ... OK * checking sizes of PDF files under ‘inst/doc’ ... OK * checking files in ‘vignettes’ ... OK * checking examples ... OK Examples with CPU or elapsed time > 5s user system elapsed MethylSeekR-package 74.425 6.055 99.744 plotPMDSegmentation 39.772 3.362 43.545 segmentPMDs 39.978 3.154 44.551 savePMDSegments 33.431 2.924 36.656 plotAlphaDistributionOneChr 7.802 0.630 8.527 calculateFDRs 6.472 1.483 23.338 * checking for unstated dependencies in vignettes ... OK * checking package vignettes in ‘inst/doc’ ... OK * checking running R code from vignettes ... SKIPPED * checking re-building of vignette outputs ... SKIPPED * checking PDF version of manual ... OK * DONE Status: 3 NOTEs See ‘/Users/biocbuild/bbs-3.10-bioc/meat/MethylSeekR.Rcheck/00check.log’ for details.
MethylSeekR.Rcheck/00install.out
############################################################################## ############################################################################## ### ### Running command: ### ### /Library/Frameworks/R.framework/Versions/Current/Resources/bin/R CMD INSTALL MethylSeekR ### ############################################################################## ############################################################################## * installing to library ‘/Library/Frameworks/R.framework/Versions/3.6/Resources/library’ * installing *source* package ‘MethylSeekR’ ... ** using staged installation ** R ** inst ** byte-compile and prepare package for lazy loading ** help *** installing help indices ** building package indices ** installing vignettes ** testing if installed package can be loaded from temporary location ** testing if installed package can be loaded from final location ** testing if installed package keeps a record of temporary installation path * DONE (MethylSeekR)
MethylSeekR.Rcheck/MethylSeekR-Ex.timings
name | user | system | elapsed | |
MethylSeekR-package | 74.425 | 6.055 | 99.744 | |
calculateFDRs | 6.472 | 1.483 | 23.338 | |
plotAlphaDistributionOneChr | 7.802 | 0.630 | 8.527 | |
plotFinalSegmentation | 2.258 | 0.250 | 2.524 | |
plotPMDSegmentation | 39.772 | 3.362 | 43.545 | |
readMethylome | 0.379 | 0.031 | 0.412 | |
readSNPTable | 0.098 | 0.004 | 0.104 | |
removeSNPs | 0.468 | 0.052 | 0.522 | |
savePMDSegments | 33.431 | 2.924 | 36.656 | |
saveUMRLMRSegments | 2.367 | 0.211 | 2.610 | |
segmentPMDs | 39.978 | 3.154 | 44.551 | |
segmentUMRsLMRs | 1.462 | 0.167 | 1.643 | |