Back to Multiple platform build/check report for BioC 3.10 |
|
This page was generated on 2020-04-15 12:21:20 -0400 (Wed, 15 Apr 2020).
Package 1028/1823 | Hostname | OS / Arch | INSTALL | BUILD | CHECK | BUILD BIN | ||||||
MethylSeekR 1.26.0 Lukas Burger
| malbec1 | Linux (Ubuntu 18.04.4 LTS) / x86_64 | OK | OK | OK | ![]() | ||||||
tokay1 | Windows Server 2012 R2 Standard / x64 | [ OK ] | OK | OK | OK | ![]() | ||||||
merida1 | OS X 10.11.6 El Capitan / x86_64 | OK | OK | OK | OK | ![]() |
Package: MethylSeekR |
Version: 1.26.0 |
Command: C:\cygwin\bin\curl.exe -O https://malbec1.bioconductor.org/BBS/3.10/bioc/src/contrib/MethylSeekR_1.26.0.tar.gz && rm -rf MethylSeekR.buildbin-libdir && mkdir MethylSeekR.buildbin-libdir && C:\Users\biocbuild\bbs-3.10-bioc\R\bin\R.exe CMD INSTALL --merge-multiarch --build --library=MethylSeekR.buildbin-libdir MethylSeekR_1.26.0.tar.gz && C:\Users\biocbuild\bbs-3.10-bioc\R\bin\R.exe CMD INSTALL MethylSeekR_1.26.0.zip && rm MethylSeekR_1.26.0.tar.gz MethylSeekR_1.26.0.zip |
StartedAt: 2020-04-14 19:55:09 -0400 (Tue, 14 Apr 2020) |
EndedAt: 2020-04-14 19:56:05 -0400 (Tue, 14 Apr 2020) |
EllapsedTime: 55.9 seconds |
RetCode: 0 |
Status: OK |
############################################################################## ############################################################################## ### ### Running command: ### ### C:\cygwin\bin\curl.exe -O https://malbec1.bioconductor.org/BBS/3.10/bioc/src/contrib/MethylSeekR_1.26.0.tar.gz && rm -rf MethylSeekR.buildbin-libdir && mkdir MethylSeekR.buildbin-libdir && C:\Users\biocbuild\bbs-3.10-bioc\R\bin\R.exe CMD INSTALL --merge-multiarch --build --library=MethylSeekR.buildbin-libdir MethylSeekR_1.26.0.tar.gz && C:\Users\biocbuild\bbs-3.10-bioc\R\bin\R.exe CMD INSTALL MethylSeekR_1.26.0.zip && rm MethylSeekR_1.26.0.tar.gz MethylSeekR_1.26.0.zip ### ############################################################################## ############################################################################## % Total % Received % Xferd Average Speed Time Time Time Current Dload Upload Total Spent Left Speed 0 0 0 0 0 0 0 0 --:--:-- --:--:-- --:--:-- 0 11 1074k 11 128k 0 0 709k 0 0:00:01 --:--:-- 0:00:01 723k 100 1074k 100 1074k 0 0 4412k 0 --:--:-- --:--:-- --:--:-- 4456k install for i386 * installing *source* package 'MethylSeekR' ... ** using staged installation ** R ** inst ** byte-compile and prepare package for lazy loading ** help *** installing help indices converting help for package 'MethylSeekR' finding HTML links ... done MethylSeekR-package html calculateFDRs html plotAlphaDistributionOneChr html plotFinalSegmentation html plotPMDSegmentation html readMethylome html readSNPTable html removeSNPs html savePMDSegments html saveUMRLMRSegments html segmentPMDs html segmentUMRsLMRs html ** building package indices ** installing vignettes ** testing if installed package can be loaded from temporary location ** testing if installed package can be loaded from final location ** testing if installed package keeps a record of temporary installation path install for x64 * installing *source* package 'MethylSeekR' ... ** testing if installed package can be loaded * MD5 sums packaged installation of 'MethylSeekR' as MethylSeekR_1.26.0.zip * DONE (MethylSeekR) * installing to library 'C:/Users/biocbuild/bbs-3.10-bioc/R/library' package 'MethylSeekR' successfully unpacked and MD5 sums checked