Back to Multiple platform build/check report for BioC 3.10 |
|
This page was generated on 2020-04-15 12:44:55 -0400 (Wed, 15 Apr 2020).
Package 1411/1823 | Hostname | OS / Arch | INSTALL | BUILD | CHECK | BUILD BIN | ||||||
REMP 1.10.1 Yinan Zheng
| malbec1 | Linux (Ubuntu 18.04.4 LTS) / x86_64 | OK | OK | OK | ![]() | ||||||
tokay1 | Windows Server 2012 R2 Standard / x64 | OK | OK | OK | OK | ![]() | ||||||
merida1 | OS X 10.11.6 El Capitan / x86_64 | OK | OK | OK | [ OK ] | ![]() |
Package: REMP |
Version: 1.10.1 |
Command: rm -rf REMP.buildbin-libdir && mkdir REMP.buildbin-libdir && /Users/biocbuild/BBS/utils/build-universal.sh REMP_1.10.1.tar.gz /Library/Frameworks/R.framework/Versions/Current/Resources/bin/R REMP.buildbin-libdir |
StartedAt: 2020-04-15 08:32:16 -0400 (Wed, 15 Apr 2020) |
EndedAt: 2020-04-15 08:33:14 -0400 (Wed, 15 Apr 2020) |
EllapsedTime: 57.7 seconds |
RetCode: 0 |
Status: OK |
PackageFile: REMP_1.10.1.tgz |
PackageFileSize: 635 KiB |
############################################################################## ############################################################################## ### ### Running command: ### ### rm -rf REMP.buildbin-libdir && mkdir REMP.buildbin-libdir && /Users/biocbuild/BBS/utils/build-universal.sh REMP_1.10.1.tar.gz /Library/Frameworks/R.framework/Versions/Current/Resources/bin/R REMP.buildbin-libdir ### ############################################################################## ############################################################################## >>>>>>> >>>>>>> INSTALLATION WITH 'R CMD INSTALL --preclean --no-multiarch --library=REMP.buildbin-libdir REMP_1.10.1.tar.gz' >>>>>>> * installing *source* package ‘REMP’ ... ** using staged installation ** R ** data *** moving datasets to lazyload DB ** inst ** byte-compile and prepare package for lazy loading ** help *** installing help indices ** building package indices ** installing vignettes ** testing if installed package can be loaded from temporary location ** testing if installed package can be loaded from final location ** testing if installed package keeps a record of temporary installation path * DONE (REMP)