Back to Multiple platform build/check report for BioC 3.10 |
|
This page was generated on 2020-04-15 12:27:56 -0400 (Wed, 15 Apr 2020).
Package 1411/1823 | Hostname | OS / Arch | INSTALL | BUILD | CHECK | BUILD BIN | ||||||
REMP 1.10.1 Yinan Zheng
| malbec1 | Linux (Ubuntu 18.04.4 LTS) / x86_64 | OK | OK | OK | |||||||
tokay1 | Windows Server 2012 R2 Standard / x64 | OK | OK | OK | [ OK ] | |||||||
merida1 | OS X 10.11.6 El Capitan / x86_64 | OK | OK | OK | OK |
Package: REMP |
Version: 1.10.1 |
Command: rm -rf REMP.buildbin-libdir && mkdir REMP.buildbin-libdir && C:\Users\biocbuild\bbs-3.10-bioc\R\bin\R.exe CMD INSTALL --merge-multiarch --build --library=REMP.buildbin-libdir REMP_1.10.1.tar.gz |
StartedAt: 2020-04-15 09:31:30 -0400 (Wed, 15 Apr 2020) |
EndedAt: 2020-04-15 09:32:33 -0400 (Wed, 15 Apr 2020) |
EllapsedTime: 63.5 seconds |
RetCode: 0 |
Status: OK |
PackageFile: REMP_1.10.1.zip |
PackageFileSize: 660.2 KiB |
############################################################################## ############################################################################## ### ### Running command: ### ### rm -rf REMP.buildbin-libdir && mkdir REMP.buildbin-libdir && C:\Users\biocbuild\bbs-3.10-bioc\R\bin\R.exe CMD INSTALL --merge-multiarch --build --library=REMP.buildbin-libdir REMP_1.10.1.tar.gz ### ############################################################################## ############################################################################## install for i386 * installing *source* package 'REMP' ... ** using staged installation ** R ** data *** moving datasets to lazyload DB ** inst ** byte-compile and prepare package for lazy loading ** help *** installing help indices converting help for package 'REMP' finding HTML links ... done Alu.hg19.demo html finding level-2 HTML links ... done Alu.hg38.demo html GRannot html REMP-package html REMParcel-class html REMProduct-class html fetchRMSK html fetchRefSeqGene html findRECpG html getBackend html getGM12878 html grooMethy html initREMP html options html remp html rempTemplate html remprofile html ** building package indices ** installing vignettes ** testing if installed package can be loaded from temporary location ** testing if installed package can be loaded from final location ** testing if installed package keeps a record of temporary installation path install for x64 * installing *source* package 'REMP' ... ** testing if installed package can be loaded * MD5 sums packaged installation of 'REMP' as REMP_1.10.1.zip * DONE (REMP)