This page was generated on 2020-04-15 12:47:35 -0400 (Wed, 15 Apr 2020).
Rmmquant 1.4.0 Zytnicki Matthias
Snapshot Date: 2020-04-14 16:46:13 -0400 (Tue, 14 Apr 2020) |
URL: https://git.bioconductor.org/packages/Rmmquant |
Branch: RELEASE_3_10 |
Last Commit: cebe4af |
Last Changed Date: 2019-10-29 13:11:13 -0400 (Tue, 29 Oct 2019) |
| malbec1 | Linux (Ubuntu 18.04.4 LTS) / x86_64 | OK | OK | OK | | |
tokay1 | Windows Server 2012 R2 Standard / x64 | OK | OK | OK | OK | |
merida1 | OS X 10.11.6 El Capitan / x86_64 | OK | [ ERROR ] | skipped | skipped | |
##############################################################################
##############################################################################
###
### Running command:
###
### /Library/Frameworks/R.framework/Versions/Current/Resources/bin/R CMD build --keep-empty-dirs --no-resave-data Rmmquant
###
##############################################################################
##############################################################################
* checking for file ‘Rmmquant/DESCRIPTION’ ... OK
* preparing ‘Rmmquant’:
* checking DESCRIPTION meta-information ... OK
* cleaning src
* installing the package to build vignettes
* creating vignettes ...sh: line 1: 88471 Segmentation fault: 11 '/Library/Frameworks/R.framework/Resources/bin/Rscript' --vanilla --default-packages= -e "tools::buildVignettes(dir = '.', tangle = TRUE)" > '/tmp/RtmpdbWDdR/xshell154a64eebfb6d' 2>&1
ERROR
--- re-building ‘Rmmquant.Rmd’ using rmarkdown
*** caught segfault ***
address 0x7fbf1fb9a7f8, cause 'memory not mapped'
Traceback:
1: rcpp_Rmmquant(annotationFile, readsFiles, genomicRanges, genomicRangesList, sampleNames, overlap, strands, sorts, countThreshold, mergeThreshold, printGeneName, quiet, progress, nThreads, formats, nOverlapDiff, pcOverlapDiff)
2: RmmquantRun(genomicRanges = gr, readsFiles = bamFiles, sampleNames = sampleNames, sorts = FALSE)
3: eval(expr, envir, enclos)
4: eval(expr, envir, enclos)
5: withVisible(eval(expr, envir, enclos))
6: withCallingHandlers(withVisible(eval(expr, envir, enclos)), warning = wHandler, error = eHandler, message = mHandler)
7: handle(ev <- withCallingHandlers(withVisible(eval(expr, envir, enclos)), warning = wHandler, error = eHandler, message = mHandler))
8: timing_fn(handle(ev <- withCallingHandlers(withVisible(eval(expr, envir, enclos)), warning = wHandler, error = eHandler, message = mHandler)))
9: evaluate_call(expr, parsed$src[[i]], envir = envir, enclos = enclos, debug = debug, last = i == length(out), use_try = stop_on_error != 2L, keep_warning = keep_warning, keep_message = keep_message, output_handler = output_handler, include_timing = include_timing)
10: evaluate::evaluate(...)
11: evaluate(code, envir = env, new_device = FALSE, keep_warning = !isFALSE(options$warning), keep_message = !isFALSE(options$message), stop_on_error = if (options$error && options$include) 0L else 2L, output_handler = knit_handlers(options$render, options))
12: in_dir(input_dir(), evaluate(code, envir = env, new_device = FALSE, keep_warning = !isFALSE(options$warning), keep_message = !isFALSE(options$message), stop_on_error = if (options$error && options$include) 0L else 2L, output_handler = knit_handlers(options$render, options)))
13: block_exec(params)
14: call_block(x)
15: process_group.block(group)
16: process_group(group)
17: withCallingHandlers(if (tangle) process_tangle(group) else process_group(group), error = function(e) { setwd(wd) cat(res, sep = "\n", file = output %n% "") message("Quitting from lines ", paste(current_lines(i), collapse = "-"), " (", knit_concord$get("infile"), ") ") })
18: process_file(text, output)
19: knitr::knit(knit_input, knit_output, envir = envir, quiet = quiet)
20: rmarkdown::render(file, encoding = encoding, quiet = quiet, envir = globalenv(), output_dir = getwd(), ...)
21: vweave_rmarkdown(...)
22: engine$weave(file, quiet = quiet, encoding = enc)
23: doTryCatch(return(expr), name, parentenv, handler)
24: tryCatchOne(expr, names, parentenv, handlers[[1L]])
25: tryCatchList(expr, classes, parentenv, handlers)
26: tryCatch({ engine$weave(file, quiet = quiet, encoding = enc) setwd(startdir) output <- find_vignette_product(name, by = "weave", engine = engine) if (!have.makefile && vignette_is_tex(output)) { texi2pdf(file = output, clean = FALSE, quiet = quiet) output <- find_vignette_product(name, by = "texi2pdf", engine = engine) } outputs <- c(outputs, output)}, error = function(e) { thisOK <<- FALSE fails <<- c(fails, file) message(gettextf("Error: processing vignette '%s' failed with diagnostics:\n%s", file, conditionMessage(e)))})
27: tools::buildVignettes(dir = ".", tangle = TRUE)
An irrecoverable exception occurred. R is aborting now ...