Back to Multiple platform build/check report for BioC 3.10 |
|
This page was generated on 2020-04-15 12:30:39 -0400 (Wed, 15 Apr 2020).
Package 1448/1823 | Hostname | OS / Arch | INSTALL | BUILD | CHECK | BUILD BIN | ||||||
Rmmquant 1.4.0 Zytnicki Matthias
| malbec1 | Linux (Ubuntu 18.04.4 LTS) / x86_64 | OK | OK | OK | |||||||
tokay1 | Windows Server 2012 R2 Standard / x64 | OK | [ OK ] | OK | OK | |||||||
merida1 | OS X 10.11.6 El Capitan / x86_64 | OK | ERROR | skipped | skipped |
Package: Rmmquant |
Version: 1.4.0 |
Command: chmod a+r Rmmquant -R && C:\Users\biocbuild\bbs-3.10-bioc\R\bin\R.exe CMD build --keep-empty-dirs --no-resave-data Rmmquant |
StartedAt: 2020-04-15 00:09:27 -0400 (Wed, 15 Apr 2020) |
EndedAt: 2020-04-15 00:11:13 -0400 (Wed, 15 Apr 2020) |
EllapsedTime: 105.6 seconds |
RetCode: 0 |
Status: OK |
PackageFile: Rmmquant_1.4.0.tar.gz |
PackageFileSize: 44.5 KiB |
############################################################################## ############################################################################## ### ### Running command: ### ### chmod a+r Rmmquant -R && C:\Users\biocbuild\bbs-3.10-bioc\R\bin\R.exe CMD build --keep-empty-dirs --no-resave-data Rmmquant ### ############################################################################## ############################################################################## * checking for file 'Rmmquant/DESCRIPTION' ... OK * preparing 'Rmmquant': * checking DESCRIPTION meta-information ... OK * cleaning src * installing the package to build vignettes * creating vignettes ... OK * cleaning src * checking for LF line-endings in source and make files and shell scripts * checking for empty or unneeded directories * building 'Rmmquant_1.4.0.tar.gz'