CHECK report for RnBeads on malbec1
This page was generated on 2020-04-15 12:10:04 -0400 (Wed, 15 Apr 2020).
RnBeads 2.4.0 Fabian Mueller
Snapshot Date: 2020-04-14 16:46:13 -0400 (Tue, 14 Apr 2020) |
URL: https://git.bioconductor.org/packages/RnBeads |
Branch: RELEASE_3_10 |
Last Commit: 855fc99 |
Last Changed Date: 2019-10-29 13:09:17 -0400 (Tue, 29 Oct 2019) |
| malbec1 | Linux (Ubuntu 18.04.4 LTS) / x86_64 | OK | OK | [ OK ] | | ![UNNEEDED, same version exists in internal repository UNNEEDED, same version exists in internal repository](../120px-Blue_Light_Icon.svg.png) |
tokay1 | Windows Server 2012 R2 Standard / x64 | OK | OK | OK | OK | ![UNNEEDED, same version exists in internal repository UNNEEDED, same version exists in internal repository](../120px-Blue_Light_Icon.svg.png) |
merida1 | OS X 10.11.6 El Capitan / x86_64 | OK | OK | OK | OK | ![UNNEEDED, same version exists in internal repository UNNEEDED, same version exists in internal repository](../120px-Blue_Light_Icon.svg.png) |
Summary
Command output
Installation output
RnBeads.Rcheck/00install.out
Tests output
RnBeads.Rcheck/tests/runTests.Rout
R version 3.6.3 (2020-02-29) -- "Holding the Windsock"
Copyright (C) 2020 The R Foundation for Statistical Computing
Platform: x86_64-pc-linux-gnu (64-bit)
R is free software and comes with ABSOLUTELY NO WARRANTY.
You are welcome to redistribute it under certain conditions.
Type 'license()' or 'licence()' for distribution details.
R is a collaborative project with many contributors.
Type 'contributors()' for more information and
'citation()' on how to cite R or R packages in publications.
Type 'demo()' for some demos, 'help()' for on-line help, or
'help.start()' for an HTML browser interface to help.
Type 'q()' to quit R.
> BiocGenerics:::testPackage("RnBeads")
Attaching package: 'BiocGenerics'
The following objects are masked from 'package:parallel':
clusterApply, clusterApplyLB, clusterCall, clusterEvalQ,
clusterExport, clusterMap, parApply, parCapply, parLapply,
parLapplyLB, parRapply, parSapply, parSapplyLB
The following objects are masked from 'package:stats':
IQR, mad, sd, var, xtabs
The following objects are masked from 'package:base':
Filter, Find, Map, Position, Reduce, anyDuplicated, append,
as.data.frame, basename, cbind, colnames, dirname, do.call,
duplicated, eval, evalq, get, grep, grepl, intersect, is.unsorted,
lapply, mapply, match, mget, order, paste, pmax, pmax.int, pmin,
pmin.int, rank, rbind, rownames, sapply, setdiff, sort, table,
tapply, union, unique, unsplit, which, which.max, which.min
Attaching package: 'S4Vectors'
The following object is masked from 'package:base':
expand.grid
Attaching package bit
package:bit (c) 2008-2012 Jens Oehlschlaegel (GPL-2)
creators: bit bitwhich
coercion: as.logical as.integer as.bit as.bitwhich which
operator: ! & | xor != ==
querying: print length any all min max range sum summary
bit access: length<- [ [<- [[ [[<-
for more help type ?bit
Attaching package: 'bit'
The following object is masked from 'package:base':
xor
Attaching package ff
- getOption("fftempdir")=="/tmp/Rtmp2E9AOK"
- getOption("ffextension")=="ff"
- getOption("ffdrop")==TRUE
- getOption("fffinonexit")==TRUE
- getOption("ffpagesize")==65536
- getOption("ffcaching")=="mmnoflush" -- consider "ffeachflush" if your system stalls on large writes
- getOption("ffbatchbytes")==16777216 -- consider a different value for tuning your system
- getOption("ffmaxbytes")==536870912 -- consider a different value for tuning your system
Attaching package: 'ff'
The following objects are masked from 'package:bit':
clone, clone.default, clone.list
The following objects are masked from 'package:utils':
write.csv, write.csv2
The following objects are masked from 'package:base':
is.factor, is.ordered
Spam version 2.5-1 (2019-12-12) is loaded.
Type 'help( Spam)' or 'demo( spam)' for a short introduction
and overview of this package.
Help for individual functions is also obtained by adding the
suffix '.spam' to the function name, e.g. 'help( chol.spam)'.
Attaching package: 'spam'
The following object is masked from 'package:stats4':
mle
The following objects are masked from 'package:base':
backsolve, forwardsolve
Attaching package: 'maps'
The following object is masked from 'package:cluster':
votes.repub
See https://github.com/NCAR/Fields for
an extensive vignette, other supplements and source code
Attaching package: 'gplots'
The following object is masked from 'package:IRanges':
space
The following object is masked from 'package:S4Vectors':
space
The following object is masked from 'package:stats':
lowess
Attaching package: 'gridExtra'
The following object is masked from 'package:BiocGenerics':
combine
Attaching package: 'limma'
The following object is masked from 'package:BiocGenerics':
plotMA
Welcome to Bioconductor
Vignettes contain introductory material; view with
'browseVignettes()'. To cite Bioconductor, see
'citation("Biobase")', and for packages 'citation("pkgname")'.
Attaching package: 'Biobase'
The following objects are masked from 'package:matrixStats':
anyMissing, rowMedians
Attaching package: 'AnnotationDbi'
The following object is masked from 'package:MASS':
select
Attaching package: 'DelayedArray'
The following objects are masked from 'package:matrixStats':
colMaxs, colMins, colRanges, rowMaxs, rowMins, rowRanges
The following object is masked from 'package:ff':
maxlength
The following objects are masked from 'package:base':
aperm, apply, rowsum
Attaching package: 'Biostrings'
The following objects are masked from 'package:ff':
mismatch, pattern
The following object is masked from 'package:base':
strsplit
locfit 1.5-9.4 2020-03-24
Setting options('download.file.method.GEOquery'='auto')
Setting options('GEOquery.inmemory.gpl'=FALSE)
Attaching package: 'plyr'
The following object is masked from 'package:XVector':
compact
The following object is masked from 'package:matrixStats':
count
The following object is masked from 'package:maps':
ozone
The following object is masked from 'package:IRanges':
desc
The following object is masked from 'package:S4Vectors':
rename
2020-04-15 03:08:57 1.2 STATUS STARTED Unit testing: differential
2020-04-15 03:08:57 1.2 STATUS STARTED Testing function: rowWelchP
Loading required package: RnBeads.hg19
2020-04-15 03:08:57 1.2 STATUS COMPLETED Testing function: rowWelchP
2020-04-15 03:08:57 1.2 STATUS STARTED Testing function: limmaP
2020-04-15 03:08:57 1.2 STATUS COMPLETED Testing function: limmaP
2020-04-15 03:08:57 1.2 STATUS STARTED Testing function: computeDiffTab.extended.site
2020-04-15 03:08:57 1.2 INFO Conducting differential analysis using limma
2020-04-15 03:08:57 1.2 STATUS COMPLETED Testing function: computeDiffTab.extended.site
2020-04-15 03:08:57 1.2 STATUS STARTED Testing function: computeDiffTab.default.region
2020-04-15 03:08:57 1.2 INFO Conducting differential analysis using limma
2020-04-15 03:09:05 1.4 STATUS COMPLETED Testing function: computeDiffTab.default.region
2020-04-15 03:09:05 1.4 STATUS STARTED Testing function: combineTestPvalsMeth
2020-04-15 03:09:05 1.4 STATUS COMPLETED Testing function: combineTestPvalsMeth
2020-04-15 03:09:05 1.4 STATUS STARTED Testing function: get.adjustment.variables
2020-04-15 03:09:05 1.4 STATUS COMPLETED Testing function: get.adjustment.variables
2020-04-15 03:09:05 1.4 STATUS STARTED Testing function: get.comparison.info
2020-04-15 03:09:05 1.4 STATUS COMPLETED Testing function: get.comparison.info
2020-04-15 03:09:05 1.4 STATUS STARTED Testing function: rnb.execute.computeDiffMeth
2020-04-15 03:09:05 1.4 STATUS STARTED Retrieving comparison info
2020-04-15 03:09:05 1.4 STATUS COMPLETED Retrieving comparison info
2020-04-15 03:09:05 1.4 STATUS STARTED Computing differential methylation tables
2020-04-15 03:09:05 1.4 STATUS STARTED Comparing: hESC vs. hiPSC (based on Sample_Group)
2020-04-15 03:09:05 1.4 STATUS STARTED Computing Differential Methylation Table
2020-04-15 03:09:05 1.4 INFO Conducting differential analysis using limma
2020-04-15 03:09:05 1.4 STATUS COMPLETED Computing Differential Methylation Table
2020-04-15 03:09:05 1.4 STATUS STARTED Computing Differential Methylation Tables (Region Level)
2020-04-15 03:09:06 1.4 STATUS Computed table for tiling
2020-04-15 03:09:08 1.4 STATUS Computed table for genes
2020-04-15 03:09:08 1.4 STATUS Computed table for promoters
2020-04-15 03:09:09 1.4 STATUS Computed table for cpgislands
2020-04-15 03:09:09 1.4 STATUS COMPLETED Computing Differential Methylation Tables (Region Level)
2020-04-15 03:09:09 1.4 STATUS COMPLETED Comparing: hESC vs. hiPSC (based on Sample_Group)
2020-04-15 03:09:09 1.4 STATUS STARTED Comparing: KOSR vs. TeSR (based on Treatment)
2020-04-15 03:09:09 1.4 STATUS STARTED Computing Differential Methylation Table
2020-04-15 03:09:09 1.4 INFO Conducting differential analysis using limma
2020-04-15 03:09:09 1.4 STATUS COMPLETED Computing Differential Methylation Table
2020-04-15 03:09:09 1.4 STATUS STARTED Computing Differential Methylation Tables (Region Level)
2020-04-15 03:09:09 1.5 STATUS Computed table for tiling
2020-04-15 03:09:10 1.6 STATUS Computed table for genes
2020-04-15 03:09:10 1.6 STATUS Computed table for promoters
2020-04-15 03:09:11 1.6 STATUS Computed table for cpgislands
2020-04-15 03:09:11 1.6 STATUS COMPLETED Computing Differential Methylation Tables (Region Level)
2020-04-15 03:09:11 1.6 STATUS COMPLETED Comparing: KOSR vs. TeSR (based on Treatment)
2020-04-15 03:09:11 1.6 STATUS COMPLETED Computing differential methylation tables
2020-04-15 03:09:11 1.6 STATUS COMPLETED Testing function: rnb.execute.computeDiffMeth
2020-04-15 03:09:11 1.6 STATUS STARTED Testing function: diffVar
2020-04-15 03:09:11 1.6 STATUS STARTED diffVar method
2020-04-15 03:09:11 1.7 STATUS COMPLETED diffVar method
2020-04-15 03:09:11 1.7 STATUS STARTED diffVar method
Coefficients not estimable: x2x2
2020-04-15 03:09:12 1.7 STATUS COMPLETED diffVar method
2020-04-15 03:09:12 1.7 STATUS COMPLETED Testing function: diffVar
2020-04-15 03:09:12 1.7 STATUS STARTED Testing function: apply.iEVORA
2020-04-15 03:09:12 1.7 STATUS STARTED iEVORA method
2020-04-15 03:09:13 1.7 INFO No DVCs detected. All p-values set to 1.
2020-04-15 03:09:13 1.7 STATUS COMPLETED iEVORA method
2020-04-15 03:09:13 1.7 STATUS STARTED Testing function: rnb.execute.diffVar
2020-04-15 03:09:13 1.7 STATUS STARTED Differential Variability
2020-04-15 03:09:13 1.7 STATUS STARTED Retrieving comparison info
2020-04-15 03:09:13 1.7 STATUS COMPLETED Retrieving comparison info
2020-04-15 03:09:13 1.7 INFO No imputation method selected, 'knn' method used.
2020-04-15 03:09:13 1.7 STATUS STARTED Imputation procedure knn
2020-04-15 03:09:13 1.7 STATUS COMPLETED Imputation procedure knn
2020-04-15 03:09:13 1.7 STATUS STARTED Comparing hESC vs. hiPSC (based on Sample_Group)
2020-04-15 03:09:13 1.7 INFO Conducting differential variability using diffVar
2020-04-15 03:09:13 1.7 STATUS STARTED diffVar method
2020-04-15 03:09:13 1.7 STATUS COMPLETED diffVar method
2020-04-15 03:09:13 1.7 STATUS STARTED Computing Differential Variability Tables (Region Level)
2020-04-15 03:09:14 1.7 STATUS Computed table for tiling
2020-04-15 03:09:14 1.7 STATUS Computed table for genes
2020-04-15 03:09:14 1.7 STATUS Computed table for promoters
2020-04-15 03:09:14 1.7 STATUS Computed table for cpgislands
2020-04-15 03:09:14 1.7 STATUS COMPLETED Computing Differential Variability Tables (Region Level)
2020-04-15 03:09:14 1.7 STATUS COMPLETED Comparing hESC vs. hiPSC (based on Sample_Group)
2020-04-15 03:09:14 1.7 STATUS STARTED Comparing KOSR vs. TeSR (based on Treatment)
2020-04-15 03:09:14 1.7 INFO Conducting differential variability using diffVar
2020-04-15 03:09:14 1.7 STATUS STARTED diffVar method
2020-04-15 03:09:14 1.7 STATUS COMPLETED diffVar method
2020-04-15 03:09:15 1.7 STATUS STARTED Computing Differential Variability Tables (Region Level)
2020-04-15 03:09:15 1.7 STATUS Computed table for tiling
2020-04-15 03:09:15 1.7 STATUS Computed table for genes
2020-04-15 03:09:16 1.7 STATUS Computed table for promoters
2020-04-15 03:09:16 1.7 STATUS Computed table for cpgislands
2020-04-15 03:09:16 1.7 STATUS COMPLETED Computing Differential Variability Tables (Region Level)
2020-04-15 03:09:16 1.7 STATUS COMPLETED Comparing KOSR vs. TeSR (based on Treatment)
2020-04-15 03:09:16 1.7 STATUS COMPLETED Differential Variability
2020-04-15 03:09:16 1.7 STATUS COMPLETED Testing function: rnb.execute.diffVar
2020-04-15 03:09:16 1.7 STATUS STARTED Testing function: rnb.execute.computeDiffMeth and Variability
2020-04-15 03:09:16 1.7 STATUS STARTED Retrieving comparison info
2020-04-15 03:09:16 1.7 STATUS COMPLETED Retrieving comparison info
2020-04-15 03:09:16 1.7 STATUS STARTED Computing differential methylation tables
2020-04-15 03:09:16 1.7 STATUS STARTED Comparing: hESC vs. hiPSC (based on Sample_Group)
2020-04-15 03:09:16 1.7 STATUS STARTED Computing Differential Methylation Table
2020-04-15 03:09:16 1.7 INFO Conducting differential analysis using limma
2020-04-15 03:09:16 1.7 STATUS STARTED Imputation procedure knn
2020-04-15 03:09:16 1.7 STATUS COMPLETED Imputation procedure knn
2020-04-15 03:09:16 1.7 INFO Conducting differential variability using diffVar
2020-04-15 03:09:16 1.7 STATUS STARTED diffVar method
2020-04-15 03:09:16 1.7 STATUS COMPLETED diffVar method
2020-04-15 03:09:16 1.7 STATUS COMPLETED Computing Differential Methylation Table
2020-04-15 03:09:16 1.7 STATUS STARTED Computing Differential Methylation Tables (Region Level)
2020-04-15 03:09:17 1.7 STATUS Computed table for tiling
2020-04-15 03:09:18 1.7 STATUS Computed table for genes
2020-04-15 03:09:19 1.7 STATUS Computed table for promoters
2020-04-15 03:09:19 1.7 STATUS Computed table for cpgislands
2020-04-15 03:09:19 1.7 STATUS COMPLETED Computing Differential Methylation Tables (Region Level)
2020-04-15 03:09:19 1.7 STATUS COMPLETED Comparing: hESC vs. hiPSC (based on Sample_Group)
2020-04-15 03:09:19 1.7 STATUS STARTED Comparing: KOSR vs. TeSR (based on Treatment)
2020-04-15 03:09:19 1.7 STATUS STARTED Computing Differential Methylation Table
2020-04-15 03:09:19 1.7 INFO Conducting differential analysis using limma
2020-04-15 03:09:19 1.7 STATUS STARTED Imputation procedure knn
2020-04-15 03:09:19 1.7 STATUS COMPLETED Imputation procedure knn
2020-04-15 03:09:19 1.7 INFO Conducting differential variability using diffVar
2020-04-15 03:09:19 1.7 STATUS STARTED diffVar method
2020-04-15 03:09:19 1.7 STATUS COMPLETED diffVar method
2020-04-15 03:09:19 1.7 STATUS COMPLETED Computing Differential Methylation Table
2020-04-15 03:09:19 1.7 STATUS STARTED Computing Differential Methylation Tables (Region Level)
2020-04-15 03:09:20 1.7 STATUS Computed table for tiling
2020-04-15 03:09:21 1.7 STATUS Computed table for genes
2020-04-15 03:09:21 1.7 STATUS Computed table for promoters
2020-04-15 03:09:22 1.7 STATUS Computed table for cpgislands
2020-04-15 03:09:22 1.7 STATUS COMPLETED Computing Differential Methylation Tables (Region Level)
2020-04-15 03:09:22 1.7 STATUS COMPLETED Comparing: KOSR vs. TeSR (based on Treatment)
2020-04-15 03:09:22 1.7 STATUS COMPLETED Computing differential methylation tables
2020-04-15 03:09:22 1.7 STATUS COMPLETED Testing function: rnb.execute.computeDiffMeth and Variability
2020-04-15 03:09:22 1.7 STATUS STARTED Testing class: RnBDiffMeth
2020-04-15 03:09:22 1.7 STATUS STARTED Retrieving comparison info
2020-04-15 03:09:22 1.7 STATUS COMPLETED Retrieving comparison info
2020-04-15 03:09:22 1.7 STATUS STARTED Computing differential methylation tables
2020-04-15 03:09:22 1.7 STATUS STARTED Comparing: hESC vs. hiPSC (based on Sample_Group)
2020-04-15 03:09:22 1.7 STATUS STARTED Computing Differential Methylation Table
2020-04-15 03:09:22 1.7 INFO Conducting differential analysis using limma
2020-04-15 03:09:22 1.7 STATUS COMPLETED Computing Differential Methylation Table
2020-04-15 03:09:22 1.7 STATUS STARTED Computing Differential Methylation Tables (Region Level)
2020-04-15 03:09:23 1.7 STATUS Computed table for tiling
2020-04-15 03:09:24 1.7 STATUS Computed table for genes
2020-04-15 03:09:25 1.7 STATUS Computed table for promoters
2020-04-15 03:09:25 1.7 STATUS Computed table for cpgislands
2020-04-15 03:09:25 1.7 STATUS COMPLETED Computing Differential Methylation Tables (Region Level)
2020-04-15 03:09:25 1.7 STATUS COMPLETED Comparing: hESC vs. hiPSC (based on Sample_Group)
2020-04-15 03:09:25 1.7 STATUS STARTED Comparing: KOSR vs. TeSR (based on Treatment)
2020-04-15 03:09:25 1.7 STATUS STARTED Computing Differential Methylation Table
2020-04-15 03:09:25 1.7 INFO Conducting differential analysis using limma
2020-04-15 03:09:25 1.7 STATUS COMPLETED Computing Differential Methylation Table
2020-04-15 03:09:25 1.7 STATUS STARTED Computing Differential Methylation Tables (Region Level)
2020-04-15 03:09:25 1.7 STATUS Computed table for tiling
2020-04-15 03:09:26 1.7 STATUS Computed table for genes
2020-04-15 03:09:26 1.7 STATUS Computed table for promoters
2020-04-15 03:09:27 1.7 STATUS Computed table for cpgislands
2020-04-15 03:09:27 1.7 STATUS COMPLETED Computing Differential Methylation Tables (Region Level)
2020-04-15 03:09:27 1.7 STATUS COMPLETED Comparing: KOSR vs. TeSR (based on Treatment)
2020-04-15 03:09:27 1.7 STATUS COMPLETED Computing differential methylation tables
2020-04-15 03:09:27 1.7 STATUS STARTED Retrieving comparison info
2020-04-15 03:09:27 1.7 STATUS COMPLETED Retrieving comparison info
2020-04-15 03:09:27 1.7 STATUS STARTED Computing differential methylation tables
2020-04-15 03:09:27 1.7 STATUS STARTED Comparing: hESC vs. hiPSC (based on Sample_Group)
2020-04-15 03:09:27 1.7 STATUS STARTED Computing Differential Methylation Table
2020-04-15 03:09:27 1.7 INFO Conducting differential analysis using limma
2020-04-15 03:09:27 1.7 STATUS COMPLETED Computing Differential Methylation Table
2020-04-15 03:09:27 1.7 STATUS STARTED Computing Differential Methylation Tables (Region Level)
2020-04-15 03:09:27 1.7 STATUS Computed table for genes
2020-04-15 03:09:27 1.7 STATUS Computed table for tiling
2020-04-15 03:09:27 1.7 STATUS COMPLETED Computing Differential Methylation Tables (Region Level)
2020-04-15 03:09:27 1.7 STATUS COMPLETED Comparing: hESC vs. hiPSC (based on Sample_Group)
2020-04-15 03:09:27 1.7 STATUS COMPLETED Computing differential methylation tables
2020-04-15 03:09:27 1.7 STATUS STARTED Retrieving comparison info
2020-04-15 03:09:27 1.7 STATUS COMPLETED Retrieving comparison info
2020-04-15 03:09:27 1.7 STATUS STARTED Computing differential methylation tables
2020-04-15 03:09:27 1.7 STATUS STARTED Comparing: hESC vs. hiPSC (based on Sample_Group)
2020-04-15 03:09:27 1.7 STATUS STARTED Computing Differential Methylation Table
2020-04-15 03:09:27 1.7 INFO Conducting differential analysis using limma
2020-04-15 03:09:27 1.7 STATUS COMPLETED Computing Differential Methylation Table
2020-04-15 03:09:27 1.7 STATUS STARTED Computing Differential Methylation Tables (Region Level)
2020-04-15 03:09:28 1.7 STATUS Computed table for genes
2020-04-15 03:09:28 1.7 STATUS Computed table for tiling
2020-04-15 03:09:28 1.7 STATUS COMPLETED Computing Differential Methylation Tables (Region Level)
2020-04-15 03:09:28 1.7 STATUS COMPLETED Comparing: hESC vs. hiPSC (based on Sample_Group)
2020-04-15 03:09:28 1.7 STATUS COMPLETED Computing differential methylation tables
2020-04-15 03:09:28 1.7 STATUS STARTED Retrieving comparison info
2020-04-15 03:09:28 1.7 STATUS COMPLETED Retrieving comparison info
2020-04-15 03:09:28 1.7 STATUS STARTED Computing differential methylation tables
2020-04-15 03:09:28 1.7 STATUS STARTED Comparing: hESC vs. hiPSC (based on Sample_Group)
2020-04-15 03:09:28 1.7 STATUS STARTED Computing Differential Methylation Table
2020-04-15 03:09:28 1.7 INFO Conducting differential analysis using limma
2020-04-15 03:09:28 1.7 STATUS COMPLETED Computing Differential Methylation Table
2020-04-15 03:09:28 1.7 STATUS STARTED Computing Differential Methylation Tables (Region Level)
2020-04-15 03:09:29 1.7 STATUS Computed table for promoters
2020-04-15 03:09:29 1.7 STATUS COMPLETED Computing Differential Methylation Tables (Region Level)
2020-04-15 03:09:29 1.7 STATUS COMPLETED Comparing: hESC vs. hiPSC (based on Sample_Group)
2020-04-15 03:09:29 1.7 STATUS STARTED Comparing: KOSR vs. TeSR (based on Treatment)
2020-04-15 03:09:29 1.7 STATUS STARTED Computing Differential Methylation Table
2020-04-15 03:09:29 1.7 INFO Conducting differential analysis using limma
2020-04-15 03:09:29 1.7 STATUS COMPLETED Computing Differential Methylation Table
2020-04-15 03:09:29 1.7 STATUS STARTED Computing Differential Methylation Tables (Region Level)
2020-04-15 03:09:29 1.7 STATUS Computed table for promoters
2020-04-15 03:09:29 1.7 STATUS COMPLETED Computing Differential Methylation Tables (Region Level)
2020-04-15 03:09:29 1.7 STATUS COMPLETED Comparing: KOSR vs. TeSR (based on Treatment)
2020-04-15 03:09:29 1.7 STATUS COMPLETED Computing differential methylation tables
2020-04-15 03:09:29 1.7 STATUS STARTED Retrieving comparison info
2020-04-15 03:09:29 1.7 STATUS COMPLETED Retrieving comparison info
2020-04-15 03:09:29 1.7 STATUS STARTED Computing differential methylation tables
2020-04-15 03:09:29 1.7 STATUS STARTED Comparing: KOSR vs. TeSR (based on Treatment)
2020-04-15 03:09:29 1.7 STATUS STARTED Computing Differential Methylation Table
2020-04-15 03:09:29 1.7 INFO Conducting differential analysis using limma
2020-04-15 03:09:29 1.7 STATUS COMPLETED Computing Differential Methylation Table
2020-04-15 03:09:29 1.7 STATUS STARTED Computing Differential Methylation Tables (Region Level)
2020-04-15 03:09:29 1.7 STATUS Computed table for genes
2020-04-15 03:09:30 1.7 STATUS Computed table for tiling
2020-04-15 03:09:30 1.7 STATUS COMPLETED Computing Differential Methylation Tables (Region Level)
2020-04-15 03:09:30 1.7 STATUS COMPLETED Comparing: KOSR vs. TeSR (based on Treatment)
2020-04-15 03:09:30 1.7 STATUS COMPLETED Computing differential methylation tables
2020-04-15 03:09:30 1.7 STATUS STARTED Testing function: get.region.types
2020-04-15 03:09:30 1.7 STATUS COMPLETED Testing function: get.region.types
2020-04-15 03:09:30 1.7 STATUS STARTED Testing function: get.comparisons
2020-04-15 03:09:30 1.7 STATUS COMPLETED Testing function: get.comparisons
2020-04-15 03:09:30 1.7 STATUS STARTED Testing function: get.comparison.grouplabels
2020-04-15 03:09:30 1.7 STATUS COMPLETED Testing function: get.comparison.grouplabels
2020-04-15 03:09:30 1.7 STATUS STARTED Testing function: get.site.test.method
2020-04-15 03:09:30 1.7 STATUS COMPLETED Testing function: get.site.test.method
2020-04-15 03:09:30 1.7 STATUS STARTED Testing function: get.table
2020-04-15 03:09:30 1.7 STATUS COMPLETED Testing function: get.table
2020-04-15 03:09:30 1.7 STATUS STARTED Testing function: addDiffMethTable
2020-04-15 03:09:30 1.7 INFO Conducting differential analysis using limma
2020-04-15 03:09:30 1.7 STATUS COMPLETED Testing function: addDiffMethTable
2020-04-15 03:09:30 1.7 STATUS STARTED Testing functions: join.diffMeth, is.valid
2020-04-15 03:09:30 1.7 STATUS COMPLETED Testing functions: join.diffMeth, is.valid
2020-04-15 03:09:30 1.7 STATUS STARTED Destructor
2020-04-15 03:09:30 1.7 STATUS STARTED Deleting RnBDiffMeth disk dump files from disk
2020-04-15 03:09:30 1.7 STATUS COMPLETED Deleting RnBDiffMeth disk dump files from disk
2020-04-15 03:09:30 1.7 STATUS STARTED Deleting RnBDiffMeth disk dump files from disk
2020-04-15 03:09:30 1.7 STATUS COMPLETED Deleting RnBDiffMeth disk dump files from disk
2020-04-15 03:09:31 1.7 STATUS STARTED Deleting RnBDiffMeth disk dump files from disk
2020-04-15 03:09:31 1.7 STATUS COMPLETED Deleting RnBDiffMeth disk dump files from disk
2020-04-15 03:09:31 1.7 STATUS STARTED Deleting RnBDiffMeth disk dump files from disk
2020-04-15 03:09:31 1.7 STATUS COMPLETED Deleting RnBDiffMeth disk dump files from disk
2020-04-15 03:09:31 1.7 STATUS COMPLETED Destructor
2020-04-15 03:09:31 1.7 STATUS COMPLETED Testing class: RnBDiffMeth
2020-04-15 03:09:31 1.7 STATUS COMPLETED Testing function: apply.iEVORA
2020-04-15 03:09:31 1.7 STATUS STARTED Retrieving comparison info
2020-04-15 03:09:31 1.7 STATUS COMPLETED Retrieving comparison info
2020-04-15 03:09:31 1.7 STATUS STARTED Computing differential methylation tables
2020-04-15 03:09:31 1.7 STATUS STARTED Comparing: hESC vs. hiPSC (based on Sample_Group)
2020-04-15 03:09:31 1.7 STATUS STARTED Computing Differential Methylation Table
2020-04-15 03:09:31 1.7 INFO Conducting differential analysis using limma
2020-04-15 03:09:31 1.7 STATUS COMPLETED Computing Differential Methylation Table
2020-04-15 03:09:31 1.7 STATUS STARTED Computing Differential Methylation Tables (Region Level)
2020-04-15 03:09:31 1.7 STATUS Computed table for tiling
2020-04-15 03:09:32 1.7 STATUS Computed table for genes
2020-04-15 03:09:32 1.7 STATUS Computed table for promoters
2020-04-15 03:09:32 1.7 STATUS Computed table for cpgislands
2020-04-15 03:09:32 1.7 STATUS COMPLETED Computing Differential Methylation Tables (Region Level)
2020-04-15 03:09:32 1.7 STATUS COMPLETED Comparing: hESC vs. hiPSC (based on Sample_Group)
2020-04-15 03:09:32 1.7 STATUS STARTED Comparing: KOSR vs. TeSR (based on Treatment)
2020-04-15 03:09:32 1.7 STATUS STARTED Computing Differential Methylation Table
2020-04-15 03:09:32 1.7 INFO Conducting differential analysis using limma
2020-04-15 03:09:32 1.7 STATUS COMPLETED Computing Differential Methylation Table
2020-04-15 03:09:32 1.7 STATUS STARTED Computing Differential Methylation Tables (Region Level)
2020-04-15 03:09:33 1.7 STATUS Computed table for tiling
2020-04-15 03:09:33 1.7 STATUS Computed table for genes
2020-04-15 03:09:34 1.7 STATUS Computed table for promoters
2020-04-15 03:09:34 1.7 STATUS Computed table for cpgislands
2020-04-15 03:09:34 1.7 STATUS COMPLETED Computing Differential Methylation Tables (Region Level)
2020-04-15 03:09:34 1.7 STATUS COMPLETED Comparing: KOSR vs. TeSR (based on Treatment)
2020-04-15 03:09:34 1.7 STATUS COMPLETED Computing differential methylation tables
2020-04-15 03:09:34 1.7 STATUS STARTED Retrieving comparison info
2020-04-15 03:09:34 1.7 STATUS COMPLETED Retrieving comparison info
2020-04-15 03:09:34 1.7 STATUS STARTED Computing differential methylation tables
2020-04-15 03:09:34 1.7 STATUS STARTED Comparing: hESC vs. hiPSC (based on Sample_Group)
2020-04-15 03:09:34 1.7 STATUS STARTED Computing Differential Methylation Table
2020-04-15 03:09:34 1.7 INFO Conducting differential analysis using limma
2020-04-15 03:09:34 1.7 STATUS COMPLETED Computing Differential Methylation Table
2020-04-15 03:09:34 1.7 STATUS STARTED Computing Differential Methylation Tables (Region Level)
2020-04-15 03:09:34 1.7 STATUS Computed table for genes
2020-04-15 03:09:35 1.7 STATUS Computed table for tiling
2020-04-15 03:09:35 1.7 STATUS COMPLETED Computing Differential Methylation Tables (Region Level)
2020-04-15 03:09:35 1.7 STATUS COMPLETED Comparing: hESC vs. hiPSC (based on Sample_Group)
2020-04-15 03:09:35 1.7 STATUS COMPLETED Computing differential methylation tables
2020-04-15 03:09:35 1.7 STATUS STARTED Retrieving comparison info
2020-04-15 03:09:35 1.7 STATUS COMPLETED Retrieving comparison info
2020-04-15 03:09:35 1.7 STATUS STARTED Computing differential methylation tables
2020-04-15 03:09:35 1.7 STATUS STARTED Comparing: hESC vs. hiPSC (based on Sample_Group)
2020-04-15 03:09:35 1.7 STATUS STARTED Computing Differential Methylation Table
2020-04-15 03:09:35 1.7 INFO Conducting differential analysis using limma
2020-04-15 03:09:35 1.7 STATUS COMPLETED Computing Differential Methylation Table
2020-04-15 03:09:35 1.7 STATUS STARTED Computing Differential Methylation Tables (Region Level)
2020-04-15 03:09:35 1.7 STATUS Computed table for genes
2020-04-15 03:09:36 1.7 STATUS Computed table for tiling
2020-04-15 03:09:36 1.7 STATUS COMPLETED Computing Differential Methylation Tables (Region Level)
2020-04-15 03:09:36 1.7 STATUS COMPLETED Comparing: hESC vs. hiPSC (based on Sample_Group)
2020-04-15 03:09:36 1.7 STATUS COMPLETED Computing differential methylation tables
2020-04-15 03:09:36 1.7 STATUS STARTED Retrieving comparison info
2020-04-15 03:09:36 1.7 STATUS COMPLETED Retrieving comparison info
2020-04-15 03:09:36 1.7 STATUS STARTED Computing differential methylation tables
2020-04-15 03:09:36 1.7 STATUS STARTED Comparing: hESC vs. hiPSC (based on Sample_Group)
2020-04-15 03:09:36 1.7 STATUS STARTED Computing Differential Methylation Table
2020-04-15 03:09:36 1.7 INFO Conducting differential analysis using limma
2020-04-15 03:09:36 1.7 STATUS COMPLETED Computing Differential Methylation Table
2020-04-15 03:09:36 1.7 STATUS STARTED Computing Differential Methylation Tables (Region Level)
2020-04-15 03:09:37 1.7 STATUS Computed table for promoters
2020-04-15 03:09:37 1.7 STATUS COMPLETED Computing Differential Methylation Tables (Region Level)
2020-04-15 03:09:37 1.7 STATUS COMPLETED Comparing: hESC vs. hiPSC (based on Sample_Group)
2020-04-15 03:09:37 1.7 STATUS STARTED Comparing: KOSR vs. TeSR (based on Treatment)
2020-04-15 03:09:37 1.7 STATUS STARTED Computing Differential Methylation Table
2020-04-15 03:09:37 1.7 INFO Conducting differential analysis using limma
2020-04-15 03:09:37 1.7 STATUS COMPLETED Computing Differential Methylation Table
2020-04-15 03:09:37 1.7 STATUS STARTED Computing Differential Methylation Tables (Region Level)
2020-04-15 03:09:37 1.7 STATUS Computed table for promoters
2020-04-15 03:09:37 1.7 STATUS COMPLETED Computing Differential Methylation Tables (Region Level)
2020-04-15 03:09:37 1.7 STATUS COMPLETED Comparing: KOSR vs. TeSR (based on Treatment)
2020-04-15 03:09:37 1.7 STATUS COMPLETED Computing differential methylation tables
2020-04-15 03:09:37 1.7 STATUS STARTED Retrieving comparison info
2020-04-15 03:09:37 1.7 STATUS COMPLETED Retrieving comparison info
2020-04-15 03:09:37 1.7 STATUS STARTED Computing differential methylation tables
2020-04-15 03:09:37 1.7 STATUS STARTED Comparing: KOSR vs. TeSR (based on Treatment)
2020-04-15 03:09:37 1.7 STATUS STARTED Computing Differential Methylation Table
2020-04-15 03:09:37 1.7 INFO Conducting differential analysis using limma
2020-04-15 03:09:37 1.7 STATUS COMPLETED Computing Differential Methylation Table
2020-04-15 03:09:37 1.7 STATUS STARTED Computing Differential Methylation Tables (Region Level)
2020-04-15 03:09:38 1.7 STATUS Computed table for genes
2020-04-15 03:09:38 1.7 STATUS Computed table for tiling
2020-04-15 03:09:38 1.7 STATUS COMPLETED Computing Differential Methylation Tables (Region Level)
2020-04-15 03:09:38 1.7 STATUS COMPLETED Comparing: KOSR vs. TeSR (based on Treatment)
2020-04-15 03:09:38 1.7 STATUS COMPLETED Computing differential methylation tables
2020-04-15 03:09:38 1.7 STATUS STARTED Testing function: get.region.types
2020-04-15 03:09:38 1.7 STATUS COMPLETED Testing function: get.region.types
2020-04-15 03:09:38 1.7 STATUS STARTED Testing function: get.comparisons
2020-04-15 03:09:38 1.7 STATUS COMPLETED Testing function: get.comparisons
2020-04-15 03:09:38 1.7 STATUS STARTED Testing function: get.comparison.grouplabels
2020-04-15 03:09:38 1.7 STATUS COMPLETED Testing function: get.comparison.grouplabels
2020-04-15 03:09:38 1.7 STATUS STARTED Testing function: get.site.test.method
2020-04-15 03:09:38 1.7 STATUS COMPLETED Testing function: get.site.test.method
2020-04-15 03:09:38 1.7 STATUS STARTED Testing function: get.table
2020-04-15 03:09:38 1.7 STATUS COMPLETED Testing function: get.table
2020-04-15 03:09:38 1.7 STATUS STARTED Testing function: addDiffMethTable
2020-04-15 03:09:38 1.7 INFO Conducting differential analysis using limma
2020-04-15 03:09:38 1.7 STATUS COMPLETED Testing function: addDiffMethTable
2020-04-15 03:09:38 1.7 STATUS STARTED Testing functions: join.diffMeth, is.valid
2020-04-15 03:09:38 1.7 STATUS COMPLETED Testing functions: join.diffMeth, is.valid
2020-04-15 03:09:38 1.7 STATUS STARTED Destructor
2020-04-15 03:09:38 1.7 STATUS STARTED Deleting RnBDiffMeth disk dump files from disk
2020-04-15 03:09:38 1.7 STATUS COMPLETED Deleting RnBDiffMeth disk dump files from disk
2020-04-15 03:09:38 1.7 STATUS STARTED Deleting RnBDiffMeth disk dump files from disk
2020-04-15 03:09:38 1.7 STATUS COMPLETED Deleting RnBDiffMeth disk dump files from disk
2020-04-15 03:09:38 1.7 STATUS STARTED Deleting RnBDiffMeth disk dump files from disk
2020-04-15 03:09:38 1.7 STATUS COMPLETED Deleting RnBDiffMeth disk dump files from disk
2020-04-15 03:09:38 1.7 STATUS STARTED Deleting RnBDiffMeth disk dump files from disk
2020-04-15 03:09:38 1.7 STATUS COMPLETED Deleting RnBDiffMeth disk dump files from disk
2020-04-15 03:09:38 1.7 STATUS COMPLETED Destructor
2020-04-15 03:09:38 1.7 INFO Conducting differential analysis using limma
2020-04-15 03:09:39 1.7 INFO Conducting differential analysis using limma
2020-04-15 03:09:39 1.7 STATUS STARTED diffVar method
2020-04-15 03:09:39 1.7 STATUS COMPLETED diffVar method
2020-04-15 03:09:39 1.7 STATUS STARTED diffVar method
Coefficients not estimable: x2x2
2020-04-15 03:09:40 1.7 STATUS COMPLETED diffVar method
2020-04-15 03:09:40 1.7 STATUS STARTED Unit testing: differential
2020-04-15 03:09:40 1.7 STATUS STARTED Testing function: rowWelchP
2020-04-15 03:09:40 1.7 STATUS COMPLETED Testing function: rowWelchP
2020-04-15 03:09:40 1.7 STATUS STARTED Testing function: limmaP
2020-04-15 03:09:40 1.7 STATUS COMPLETED Testing function: limmaP
2020-04-15 03:09:40 1.7 STATUS STARTED Testing function: computeDiffTab.extended.site
2020-04-15 03:09:40 1.7 INFO Conducting differential analysis using limma
2020-04-15 03:09:40 1.7 STATUS COMPLETED Testing function: computeDiffTab.extended.site
2020-04-15 03:09:40 1.7 STATUS STARTED Testing function: computeDiffTab.default.region
2020-04-15 03:09:40 1.7 INFO Conducting differential analysis using limma
2020-04-15 03:09:40 1.7 STATUS COMPLETED Testing function: computeDiffTab.default.region
2020-04-15 03:09:40 1.7 STATUS STARTED Testing function: combineTestPvalsMeth
2020-04-15 03:09:40 1.7 STATUS COMPLETED Testing function: combineTestPvalsMeth
2020-04-15 03:09:40 1.7 STATUS STARTED Testing function: get.adjustment.variables
2020-04-15 03:09:41 1.7 STATUS COMPLETED Testing function: get.adjustment.variables
2020-04-15 03:09:41 1.7 STATUS STARTED Testing function: get.comparison.info
2020-04-15 03:09:41 1.7 STATUS COMPLETED Testing function: get.comparison.info
2020-04-15 03:09:41 1.7 STATUS STARTED Testing function: rnb.execute.computeDiffMeth
2020-04-15 03:09:41 1.7 STATUS STARTED Retrieving comparison info
2020-04-15 03:09:41 1.7 STATUS COMPLETED Retrieving comparison info
2020-04-15 03:09:41 1.7 STATUS STARTED Computing differential methylation tables
2020-04-15 03:09:41 1.7 STATUS STARTED Comparing: hESC vs. hiPSC (based on Sample_Group)
2020-04-15 03:09:41 1.7 STATUS STARTED Computing Differential Methylation Table
2020-04-15 03:09:41 1.7 INFO Conducting differential analysis using limma
2020-04-15 03:09:41 1.7 STATUS COMPLETED Computing Differential Methylation Table
2020-04-15 03:09:41 1.7 STATUS STARTED Computing Differential Methylation Tables (Region Level)
2020-04-15 03:09:42 1.7 STATUS Computed table for tiling
2020-04-15 03:09:42 1.7 STATUS Computed table for genes
2020-04-15 03:09:43 1.7 STATUS Computed table for promoters
2020-04-15 03:09:43 1.7 STATUS Computed table for cpgislands
2020-04-15 03:09:43 1.7 STATUS COMPLETED Computing Differential Methylation Tables (Region Level)
2020-04-15 03:09:43 1.7 STATUS COMPLETED Comparing: hESC vs. hiPSC (based on Sample_Group)
2020-04-15 03:09:43 1.7 STATUS STARTED Comparing: KOSR vs. TeSR (based on Treatment)
2020-04-15 03:09:43 1.7 STATUS STARTED Computing Differential Methylation Table
2020-04-15 03:09:43 1.7 INFO Conducting differential analysis using limma
2020-04-15 03:09:43 1.7 STATUS COMPLETED Computing Differential Methylation Table
2020-04-15 03:09:43 1.7 STATUS STARTED Computing Differential Methylation Tables (Region Level)
2020-04-15 03:09:44 1.7 STATUS Computed table for tiling
2020-04-15 03:09:44 1.7 STATUS Computed table for genes
2020-04-15 03:09:44 1.7 STATUS Computed table for promoters
2020-04-15 03:09:45 1.7 STATUS Computed table for cpgislands
2020-04-15 03:09:45 1.7 STATUS COMPLETED Computing Differential Methylation Tables (Region Level)
2020-04-15 03:09:45 1.7 STATUS COMPLETED Comparing: KOSR vs. TeSR (based on Treatment)
2020-04-15 03:09:45 1.7 STATUS COMPLETED Computing differential methylation tables
2020-04-15 03:09:45 1.7 STATUS COMPLETED Testing function: rnb.execute.computeDiffMeth
2020-04-15 03:09:45 1.7 STATUS STARTED Testing function: diffVar
2020-04-15 03:09:45 1.7 STATUS STARTED diffVar method
2020-04-15 03:09:45 1.7 STATUS COMPLETED diffVar method
2020-04-15 03:09:45 1.7 STATUS STARTED diffVar method
Coefficients not estimable: x2x2
2020-04-15 03:09:45 1.7 STATUS COMPLETED diffVar method
2020-04-15 03:09:45 1.7 STATUS COMPLETED Testing function: diffVar
2020-04-15 03:09:45 1.7 STATUS STARTED Testing function: apply.iEVORA
2020-04-15 03:09:45 1.7 STATUS STARTED iEVORA method
2020-04-15 03:09:46 1.7 INFO No DVCs detected. All p-values set to 1.
2020-04-15 03:09:46 1.7 STATUS COMPLETED iEVORA method
2020-04-15 03:09:46 1.7 STATUS STARTED Testing function: rnb.execute.diffVar
2020-04-15 03:09:46 1.7 STATUS STARTED Differential Variability
2020-04-15 03:09:46 1.7 STATUS STARTED Retrieving comparison info
2020-04-15 03:09:46 1.7 STATUS COMPLETED Retrieving comparison info
2020-04-15 03:09:46 1.7 STATUS STARTED Imputation procedure knn
2020-04-15 03:09:46 1.7 STATUS COMPLETED Imputation procedure knn
2020-04-15 03:09:46 1.7 STATUS STARTED Comparing hESC vs. hiPSC (based on Sample_Group)
2020-04-15 03:09:47 1.7 INFO Conducting differential variability using diffVar
2020-04-15 03:09:47 1.7 STATUS STARTED diffVar method
2020-04-15 03:09:47 1.7 STATUS COMPLETED diffVar method
2020-04-15 03:09:47 1.7 STATUS STARTED Computing Differential Variability Tables (Region Level)
2020-04-15 03:09:47 1.7 STATUS Computed table for tiling
2020-04-15 03:09:48 1.7 STATUS Computed table for genes
2020-04-15 03:09:48 1.7 STATUS Computed table for promoters
2020-04-15 03:09:48 1.7 STATUS Computed table for cpgislands
2020-04-15 03:09:48 1.7 STATUS COMPLETED Computing Differential Variability Tables (Region Level)
2020-04-15 03:09:48 1.7 STATUS COMPLETED Comparing hESC vs. hiPSC (based on Sample_Group)
2020-04-15 03:09:48 1.7 STATUS STARTED Comparing KOSR vs. TeSR (based on Treatment)
2020-04-15 03:09:48 1.7 INFO Conducting differential variability using diffVar
2020-04-15 03:09:48 1.7 STATUS STARTED diffVar method
2020-04-15 03:09:48 1.7 STATUS COMPLETED diffVar method
2020-04-15 03:09:48 1.7 STATUS STARTED Computing Differential Variability Tables (Region Level)
2020-04-15 03:09:49 1.7 STATUS Computed table for tiling
2020-04-15 03:09:49 1.7 STATUS Computed table for genes
2020-04-15 03:09:49 1.7 STATUS Computed table for promoters
2020-04-15 03:09:49 1.7 STATUS Computed table for cpgislands
2020-04-15 03:09:49 1.7 STATUS COMPLETED Computing Differential Variability Tables (Region Level)
2020-04-15 03:09:49 1.7 STATUS COMPLETED Comparing KOSR vs. TeSR (based on Treatment)
2020-04-15 03:09:49 1.7 STATUS COMPLETED Differential Variability
2020-04-15 03:09:49 1.7 STATUS COMPLETED Testing function: rnb.execute.diffVar
2020-04-15 03:09:49 1.7 STATUS STARTED Testing function: rnb.execute.computeDiffMeth and Variability
2020-04-15 03:09:50 1.7 STATUS STARTED Retrieving comparison info
2020-04-15 03:09:50 1.7 STATUS COMPLETED Retrieving comparison info
2020-04-15 03:09:50 1.7 STATUS STARTED Computing differential methylation tables
2020-04-15 03:09:50 1.7 STATUS STARTED Comparing: hESC vs. hiPSC (based on Sample_Group)
2020-04-15 03:09:50 1.7 STATUS STARTED Computing Differential Methylation Table
2020-04-15 03:09:50 1.7 INFO Conducting differential analysis using limma
2020-04-15 03:09:50 1.7 STATUS STARTED Imputation procedure knn
2020-04-15 03:09:50 1.7 STATUS COMPLETED Imputation procedure knn
2020-04-15 03:09:50 1.7 INFO Conducting differential variability using diffVar
2020-04-15 03:09:50 1.7 STATUS STARTED diffVar method
2020-04-15 03:09:50 1.7 STATUS COMPLETED diffVar method
2020-04-15 03:09:50 1.7 STATUS COMPLETED Computing Differential Methylation Table
2020-04-15 03:09:50 1.7 STATUS STARTED Computing Differential Methylation Tables (Region Level)
2020-04-15 03:09:51 1.7 STATUS Computed table for tiling
2020-04-15 03:09:51 1.7 STATUS Computed table for genes
2020-04-15 03:09:52 1.7 STATUS Computed table for promoters
2020-04-15 03:09:52 1.7 STATUS Computed table for cpgislands
2020-04-15 03:09:52 1.7 STATUS COMPLETED Computing Differential Methylation Tables (Region Level)
2020-04-15 03:09:52 1.7 STATUS COMPLETED Comparing: hESC vs. hiPSC (based on Sample_Group)
2020-04-15 03:09:52 1.7 STATUS STARTED Comparing: KOSR vs. TeSR (based on Treatment)
2020-04-15 03:09:52 1.7 STATUS STARTED Computing Differential Methylation Table
2020-04-15 03:09:52 1.7 INFO Conducting differential analysis using limma
2020-04-15 03:09:53 1.7 STATUS STARTED Imputation procedure knn
2020-04-15 03:09:53 1.7 STATUS COMPLETED Imputation procedure knn
2020-04-15 03:09:53 1.7 INFO Conducting differential variability using diffVar
2020-04-15 03:09:53 1.7 STATUS STARTED diffVar method
2020-04-15 03:09:53 1.7 STATUS COMPLETED diffVar method
2020-04-15 03:09:53 1.7 STATUS COMPLETED Computing Differential Methylation Table
2020-04-15 03:09:53 1.7 STATUS STARTED Computing Differential Methylation Tables (Region Level)
2020-04-15 03:09:53 1.7 STATUS Computed table for tiling
2020-04-15 03:09:54 1.7 STATUS Computed table for genes
2020-04-15 03:09:54 1.7 STATUS Computed table for promoters
2020-04-15 03:09:55 1.7 STATUS Computed table for cpgislands
2020-04-15 03:09:55 1.7 STATUS COMPLETED Computing Differential Methylation Tables (Region Level)
2020-04-15 03:09:55 1.7 STATUS COMPLETED Comparing: KOSR vs. TeSR (based on Treatment)
2020-04-15 03:09:55 1.7 STATUS COMPLETED Computing differential methylation tables
2020-04-15 03:09:55 1.7 STATUS COMPLETED Testing function: rnb.execute.computeDiffMeth and Variability
2020-04-15 03:09:55 1.7 STATUS STARTED Testing class: RnBDiffMeth
2020-04-15 03:09:55 1.7 STATUS STARTED Retrieving comparison info
2020-04-15 03:09:55 1.7 STATUS COMPLETED Retrieving comparison info
2020-04-15 03:09:55 1.7 STATUS STARTED Computing differential methylation tables
2020-04-15 03:09:55 1.7 STATUS STARTED Comparing: hESC vs. hiPSC (based on Sample_Group)
2020-04-15 03:09:55 1.7 STATUS STARTED Computing Differential Methylation Table
2020-04-15 03:09:55 1.7 INFO Conducting differential analysis using limma
2020-04-15 03:09:55 1.7 STATUS COMPLETED Computing Differential Methylation Table
2020-04-15 03:09:55 1.7 STATUS STARTED Computing Differential Methylation Tables (Region Level)
2020-04-15 03:09:55 1.7 STATUS Computed table for tiling
2020-04-15 03:09:56 1.7 STATUS Computed table for genes
2020-04-15 03:09:56 1.7 STATUS Computed table for promoters
2020-04-15 03:09:56 1.7 STATUS Computed table for cpgislands
2020-04-15 03:09:56 1.7 STATUS COMPLETED Computing Differential Methylation Tables (Region Level)
2020-04-15 03:09:56 1.7 STATUS COMPLETED Comparing: hESC vs. hiPSC (based on Sample_Group)
2020-04-15 03:09:56 1.7 STATUS STARTED Comparing: KOSR vs. TeSR (based on Treatment)
2020-04-15 03:09:56 1.7 STATUS STARTED Computing Differential Methylation Table
2020-04-15 03:09:56 1.7 INFO Conducting differential analysis using limma
2020-04-15 03:09:56 1.7 STATUS COMPLETED Computing Differential Methylation Table
2020-04-15 03:09:56 1.7 STATUS STARTED Computing Differential Methylation Tables (Region Level)
2020-04-15 03:09:56 1.7 STATUS Computed table for tiling
2020-04-15 03:09:57 1.7 STATUS Computed table for genes
2020-04-15 03:09:57 1.7 STATUS Computed table for promoters
2020-04-15 03:09:57 1.7 STATUS Computed table for cpgislands
2020-04-15 03:09:57 1.7 STATUS COMPLETED Computing Differential Methylation Tables (Region Level)
2020-04-15 03:09:57 1.7 STATUS COMPLETED Comparing: KOSR vs. TeSR (based on Treatment)
2020-04-15 03:09:57 1.7 STATUS COMPLETED Computing differential methylation tables
2020-04-15 03:09:57 1.7 STATUS STARTED Retrieving comparison info
2020-04-15 03:09:57 1.7 STATUS COMPLETED Retrieving comparison info
2020-04-15 03:09:57 1.7 STATUS STARTED Computing differential methylation tables
2020-04-15 03:09:57 1.7 STATUS STARTED Comparing: hESC vs. hiPSC (based on Sample_Group)
2020-04-15 03:09:57 1.7 STATUS STARTED Computing Differential Methylation Table
2020-04-15 03:09:57 1.7 INFO Conducting differential analysis using limma
2020-04-15 03:09:57 1.7 STATUS COMPLETED Computing Differential Methylation Table
2020-04-15 03:09:57 1.7 STATUS STARTED Computing Differential Methylation Tables (Region Level)
2020-04-15 03:09:58 1.7 STATUS Computed table for genes
2020-04-15 03:09:58 1.7 STATUS Computed table for tiling
2020-04-15 03:09:58 1.7 STATUS COMPLETED Computing Differential Methylation Tables (Region Level)
2020-04-15 03:09:58 1.7 STATUS COMPLETED Comparing: hESC vs. hiPSC (based on Sample_Group)
2020-04-15 03:09:58 1.7 STATUS COMPLETED Computing differential methylation tables
2020-04-15 03:09:58 1.7 STATUS STARTED Retrieving comparison info
2020-04-15 03:09:58 1.7 STATUS COMPLETED Retrieving comparison info
2020-04-15 03:09:58 1.7 STATUS STARTED Computing differential methylation tables
2020-04-15 03:09:58 1.7 STATUS STARTED Comparing: hESC vs. hiPSC (based on Sample_Group)
2020-04-15 03:09:58 1.7 STATUS STARTED Computing Differential Methylation Table
2020-04-15 03:09:58 1.7 INFO Conducting differential analysis using limma
2020-04-15 03:09:58 1.7 STATUS COMPLETED Computing Differential Methylation Table
2020-04-15 03:09:58 1.7 STATUS STARTED Computing Differential Methylation Tables (Region Level)
2020-04-15 03:09:58 1.7 STATUS Computed table for genes
2020-04-15 03:09:59 1.7 STATUS Computed table for tiling
2020-04-15 03:09:59 1.7 STATUS COMPLETED Computing Differential Methylation Tables (Region Level)
2020-04-15 03:09:59 1.7 STATUS COMPLETED Comparing: hESC vs. hiPSC (based on Sample_Group)
2020-04-15 03:09:59 1.7 STATUS COMPLETED Computing differential methylation tables
2020-04-15 03:09:59 1.7 STATUS STARTED Retrieving comparison info
2020-04-15 03:09:59 1.7 STATUS COMPLETED Retrieving comparison info
2020-04-15 03:09:59 1.7 STATUS STARTED Computing differential methylation tables
2020-04-15 03:09:59 1.7 STATUS STARTED Comparing: hESC vs. hiPSC (based on Sample_Group)
2020-04-15 03:09:59 1.7 STATUS STARTED Computing Differential Methylation Table
2020-04-15 03:09:59 1.7 INFO Conducting differential analysis using limma
2020-04-15 03:09:59 1.7 STATUS COMPLETED Computing Differential Methylation Table
2020-04-15 03:09:59 1.7 STATUS STARTED Computing Differential Methylation Tables (Region Level)
2020-04-15 03:09:59 1.7 STATUS Computed table for promoters
2020-04-15 03:09:59 1.7 STATUS COMPLETED Computing Differential Methylation Tables (Region Level)
2020-04-15 03:09:59 1.7 STATUS COMPLETED Comparing: hESC vs. hiPSC (based on Sample_Group)
2020-04-15 03:09:59 1.7 STATUS STARTED Comparing: KOSR vs. TeSR (based on Treatment)
2020-04-15 03:09:59 1.7 STATUS STARTED Computing Differential Methylation Table
2020-04-15 03:09:59 1.7 INFO Conducting differential analysis using limma
2020-04-15 03:09:59 1.7 STATUS COMPLETED Computing Differential Methylation Table
2020-04-15 03:09:59 1.7 STATUS STARTED Computing Differential Methylation Tables (Region Level)
2020-04-15 03:10:00 1.7 STATUS Computed table for promoters
2020-04-15 03:10:00 1.7 STATUS COMPLETED Computing Differential Methylation Tables (Region Level)
2020-04-15 03:10:00 1.7 STATUS COMPLETED Comparing: KOSR vs. TeSR (based on Treatment)
2020-04-15 03:10:00 1.7 STATUS COMPLETED Computing differential methylation tables
2020-04-15 03:10:00 1.7 STATUS STARTED Retrieving comparison info
2020-04-15 03:10:00 1.7 STATUS COMPLETED Retrieving comparison info
2020-04-15 03:10:00 1.7 STATUS STARTED Computing differential methylation tables
2020-04-15 03:10:00 1.7 STATUS STARTED Comparing: KOSR vs. TeSR (based on Treatment)
2020-04-15 03:10:00 1.7 STATUS STARTED Computing Differential Methylation Table
2020-04-15 03:10:00 1.7 INFO Conducting differential analysis using limma
2020-04-15 03:10:00 1.7 STATUS COMPLETED Computing Differential Methylation Table
2020-04-15 03:10:00 1.7 STATUS STARTED Computing Differential Methylation Tables (Region Level)
2020-04-15 03:10:00 1.7 STATUS Computed table for genes
2020-04-15 03:10:00 1.7 STATUS Computed table for tiling
2020-04-15 03:10:00 1.7 STATUS COMPLETED Computing Differential Methylation Tables (Region Level)
2020-04-15 03:10:00 1.7 STATUS COMPLETED Comparing: KOSR vs. TeSR (based on Treatment)
2020-04-15 03:10:00 1.7 STATUS COMPLETED Computing differential methylation tables
2020-04-15 03:10:00 1.7 STATUS STARTED Testing function: get.region.types
2020-04-15 03:10:00 1.7 STATUS COMPLETED Testing function: get.region.types
2020-04-15 03:10:00 1.7 STATUS STARTED Testing function: get.comparisons
2020-04-15 03:10:00 1.7 STATUS COMPLETED Testing function: get.comparisons
2020-04-15 03:10:00 1.7 STATUS STARTED Testing function: get.comparison.grouplabels
2020-04-15 03:10:00 1.7 STATUS COMPLETED Testing function: get.comparison.grouplabels
2020-04-15 03:10:00 1.7 STATUS STARTED Testing function: get.site.test.method
2020-04-15 03:10:00 1.7 STATUS COMPLETED Testing function: get.site.test.method
2020-04-15 03:10:00 1.7 STATUS STARTED Testing function: get.table
2020-04-15 03:10:00 1.7 STATUS COMPLETED Testing function: get.table
2020-04-15 03:10:00 1.7 STATUS STARTED Testing function: addDiffMethTable
2020-04-15 03:10:00 1.7 INFO Conducting differential analysis using limma
2020-04-15 03:10:01 1.7 STATUS COMPLETED Testing function: addDiffMethTable
2020-04-15 03:10:01 1.7 STATUS STARTED Testing functions: join.diffMeth, is.valid
2020-04-15 03:10:01 1.7 STATUS COMPLETED Testing functions: join.diffMeth, is.valid
2020-04-15 03:10:01 1.7 STATUS STARTED Destructor
2020-04-15 03:10:01 1.7 STATUS STARTED Deleting RnBDiffMeth disk dump files from disk
2020-04-15 03:10:01 1.7 STATUS COMPLETED Deleting RnBDiffMeth disk dump files from disk
2020-04-15 03:10:01 1.7 STATUS STARTED Deleting RnBDiffMeth disk dump files from disk
2020-04-15 03:10:01 1.7 STATUS COMPLETED Deleting RnBDiffMeth disk dump files from disk
2020-04-15 03:10:01 1.7 STATUS STARTED Deleting RnBDiffMeth disk dump files from disk
2020-04-15 03:10:01 1.7 STATUS COMPLETED Deleting RnBDiffMeth disk dump files from disk
2020-04-15 03:10:01 1.7 STATUS STARTED Deleting RnBDiffMeth disk dump files from disk
2020-04-15 03:10:01 1.7 STATUS COMPLETED Deleting RnBDiffMeth disk dump files from disk
2020-04-15 03:10:01 1.7 STATUS COMPLETED Destructor
2020-04-15 03:10:01 1.7 STATUS COMPLETED Testing class: RnBDiffMeth
2020-04-15 03:10:01 1.7 STATUS COMPLETED Testing function: apply.iEVORA
2020-04-15 03:10:01 1.7 STATUS STARTED iEVORA method
2020-04-15 03:10:02 1.7 INFO No DVCs detected. All p-values set to 1.
Coefficients not estimable: x2x2
2020-04-15 03:10:03 1.7 STATUS STARTED Retrieving comparison info
2020-04-15 03:10:03 1.7 STATUS COMPLETED Retrieving comparison info
2020-04-15 03:10:03 1.7 STATUS STARTED Computing differential methylation tables
2020-04-15 03:10:03 1.7 STATUS STARTED Comparing: hESC vs. hiPSC (based on Sample_Group)
2020-04-15 03:10:03 1.7 STATUS STARTED Computing Differential Methylation Table
2020-04-15 03:10:03 1.7 INFO Conducting differential analysis using limma
2020-04-15 03:10:03 1.7 STATUS COMPLETED Computing Differential Methylation Table
2020-04-15 03:10:03 1.7 STATUS STARTED Computing Differential Methylation Tables (Region Level)
2020-04-15 03:10:03 1.7 STATUS Computed table for tiling
2020-04-15 03:10:03 1.7 STATUS Computed table for genes
2020-04-15 03:10:04 1.7 STATUS Computed table for promoters
2020-04-15 03:10:04 1.7 STATUS Computed table for cpgislands
2020-04-15 03:10:04 1.7 STATUS COMPLETED Computing Differential Methylation Tables (Region Level)
2020-04-15 03:10:04 1.7 STATUS COMPLETED Comparing: hESC vs. hiPSC (based on Sample_Group)
2020-04-15 03:10:04 1.7 STATUS STARTED Comparing: KOSR vs. TeSR (based on Treatment)
2020-04-15 03:10:04 1.7 STATUS STARTED Computing Differential Methylation Table
2020-04-15 03:10:04 1.7 INFO Conducting differential analysis using limma
2020-04-15 03:10:04 1.7 STATUS COMPLETED Computing Differential Methylation Table
2020-04-15 03:10:04 1.7 STATUS STARTED Computing Differential Methylation Tables (Region Level)
2020-04-15 03:10:05 1.7 STATUS Computed table for tiling
2020-04-15 03:10:05 1.7 STATUS Computed table for genes
2020-04-15 03:10:05 1.7 STATUS Computed table for promoters
2020-04-15 03:10:05 1.7 STATUS Computed table for cpgislands
2020-04-15 03:10:05 1.7 STATUS COMPLETED Computing Differential Methylation Tables (Region Level)
2020-04-15 03:10:06 1.7 STATUS COMPLETED Comparing: KOSR vs. TeSR (based on Treatment)
2020-04-15 03:10:06 1.7 STATUS COMPLETED Computing differential methylation tables
2020-04-15 03:10:06 1.7 STATUS STARTED Retrieving comparison info
2020-04-15 03:10:06 1.7 STATUS COMPLETED Retrieving comparison info
2020-04-15 03:10:06 1.7 STATUS STARTED Computing differential methylation tables
2020-04-15 03:10:06 1.7 STATUS STARTED Comparing: hESC vs. hiPSC (based on Sample_Group)
2020-04-15 03:10:06 1.7 STATUS STARTED Computing Differential Methylation Table
2020-04-15 03:10:06 1.7 INFO Conducting differential analysis using limma
2020-04-15 03:10:06 1.7 STATUS STARTED Imputation procedure knn
2020-04-15 03:10:06 1.7 STATUS COMPLETED Imputation procedure knn
2020-04-15 03:10:06 1.7 INFO Conducting differential variability using diffVar
2020-04-15 03:10:06 1.7 STATUS STARTED diffVar method
2020-04-15 03:10:06 1.7 STATUS COMPLETED diffVar method
2020-04-15 03:10:06 1.7 STATUS COMPLETED Computing Differential Methylation Table
2020-04-15 03:10:06 1.7 STATUS STARTED Computing Differential Methylation Tables (Region Level)
2020-04-15 03:10:07 1.7 STATUS Computed table for tiling
2020-04-15 03:10:08 1.7 STATUS Computed table for genes
2020-04-15 03:10:08 1.7 STATUS Computed table for promoters
2020-04-15 03:10:09 1.7 STATUS Computed table for cpgislands
2020-04-15 03:10:09 1.7 STATUS COMPLETED Computing Differential Methylation Tables (Region Level)
2020-04-15 03:10:09 1.7 STATUS COMPLETED Comparing: hESC vs. hiPSC (based on Sample_Group)
2020-04-15 03:10:09 1.7 STATUS STARTED Comparing: KOSR vs. TeSR (based on Treatment)
2020-04-15 03:10:09 1.7 STATUS STARTED Computing Differential Methylation Table
2020-04-15 03:10:09 1.7 INFO Conducting differential analysis using limma
2020-04-15 03:10:09 1.7 STATUS STARTED Imputation procedure knn
2020-04-15 03:10:09 1.7 STATUS COMPLETED Imputation procedure knn
2020-04-15 03:10:09 1.7 INFO Conducting differential variability using diffVar
2020-04-15 03:10:09 1.7 STATUS STARTED diffVar method
2020-04-15 03:10:09 1.7 STATUS COMPLETED diffVar method
2020-04-15 03:10:09 1.7 STATUS COMPLETED Computing Differential Methylation Table
2020-04-15 03:10:09 1.7 STATUS STARTED Computing Differential Methylation Tables (Region Level)
2020-04-15 03:10:10 1.7 STATUS Computed table for tiling
2020-04-15 03:10:10 1.7 STATUS Computed table for genes
2020-04-15 03:10:11 1.7 STATUS Computed table for promoters
2020-04-15 03:10:11 1.7 STATUS Computed table for cpgislands
2020-04-15 03:10:11 1.7 STATUS COMPLETED Computing Differential Methylation Tables (Region Level)
2020-04-15 03:10:11 1.7 STATUS COMPLETED Comparing: KOSR vs. TeSR (based on Treatment)
2020-04-15 03:10:11 1.7 STATUS COMPLETED Computing differential methylation tables
2020-04-15 03:10:11 1.7 STATUS STARTED Differential Variability
2020-04-15 03:10:11 1.7 STATUS STARTED Retrieving comparison info
2020-04-15 03:10:11 1.7 STATUS COMPLETED Retrieving comparison info
2020-04-15 03:10:11 1.7 STATUS STARTED Imputation procedure knn
2020-04-15 03:10:11 1.7 STATUS COMPLETED Imputation procedure knn
2020-04-15 03:10:12 1.7 STATUS STARTED Comparing hESC vs. hiPSC (based on Sample_Group)
2020-04-15 03:10:12 1.7 INFO Conducting differential variability using diffVar
2020-04-15 03:10:12 1.7 STATUS STARTED diffVar method
2020-04-15 03:10:12 1.7 STATUS COMPLETED diffVar method
2020-04-15 03:10:12 1.7 STATUS STARTED Computing Differential Variability Tables (Region Level)
2020-04-15 03:10:12 1.7 STATUS Computed table for tiling
2020-04-15 03:10:12 1.7 STATUS Computed table for genes
2020-04-15 03:10:12 1.7 STATUS Computed table for promoters
2020-04-15 03:10:13 1.7 STATUS Computed table for cpgislands
2020-04-15 03:10:13 1.7 STATUS COMPLETED Computing Differential Variability Tables (Region Level)
2020-04-15 03:10:13 1.7 STATUS COMPLETED Comparing hESC vs. hiPSC (based on Sample_Group)
2020-04-15 03:10:13 1.7 STATUS STARTED Comparing KOSR vs. TeSR (based on Treatment)
2020-04-15 03:10:13 1.7 INFO Conducting differential variability using diffVar
2020-04-15 03:10:13 1.7 STATUS STARTED diffVar method
2020-04-15 03:10:13 1.7 STATUS COMPLETED diffVar method
2020-04-15 03:10:13 1.7 STATUS STARTED Computing Differential Variability Tables (Region Level)
2020-04-15 03:10:13 1.7 STATUS Computed table for tiling
2020-04-15 03:10:13 1.7 STATUS Computed table for genes
2020-04-15 03:10:13 1.7 STATUS Computed table for promoters
2020-04-15 03:10:13 1.7 STATUS Computed table for cpgislands
2020-04-15 03:10:13 1.7 STATUS COMPLETED Computing Differential Variability Tables (Region Level)
2020-04-15 03:10:13 1.7 STATUS COMPLETED Comparing KOSR vs. TeSR (based on Treatment)
2020-04-15 03:10:13 1.7 STATUS COMPLETED Differential Variability
2020-04-15 03:10:13 1.7 STATUS STARTED Analysis
2020-04-15 03:10:13 1.7 INFO Loaded information from data.RData
2020-04-15 03:10:13 1.7 STATUS STARTED Processing Detection P-values
2020-04-15 03:10:13 1.7 INFO Removed 3979 probes that overlap with SNPs
2020-04-15 03:10:13 1.7 INFO Completed Greedycut on 510 samples
2020-04-15 03:10:13 1.7 STATUS COMPLETED Processing Detection P-values
2020-04-15 03:10:14 1.7 WARNING File not found: data2.RData
2020-04-15 03:10:14 1.7 STATUS COMPLETED Analysis
2020-04-15 03:10:14 1.7 STATUS STARTED Testing imputation
2020-04-15 03:10:14 1.7 STATUS STARTED Imputation procedure knn
2020-04-15 03:10:14 1.7 STATUS COMPLETED Imputation procedure knn
2020-04-15 03:10:14 1.7 STATUS STARTED Imputation procedure mean.samples
2020-04-15 03:10:15 1.7 STATUS COMPLETED Imputation procedure mean.samples
2020-04-15 03:10:15 1.7 STATUS STARTED Imputation procedure mean.cpgs
2020-04-15 03:10:16 1.7 STATUS COMPLETED Imputation procedure mean.cpgs
2020-04-15 03:10:16 1.7 STATUS STARTED Imputation procedure random
2020-04-15 03:10:16 1.7 STATUS COMPLETED Imputation procedure random
2020-04-15 03:10:16 1.7 STATUS COMPLETED Testing imputation
2020-04-15 03:10:16 1.7 STATUS STARTED Testing age prediction
2020-04-15 03:10:16 1.7 STATUS STARTED Performing Age Prediction
2020-04-15 03:10:20 1.8 STATUS COMPLETED Performing Age Prediction
2020-04-15 03:10:20 1.8 STATUS COMPLETED Testing age prediction
2020-04-15 03:10:20 1.8 STATUS STARTED Performing Age Prediction
2020-04-15 03:10:23 1.8 STATUS COMPLETED Performing Age Prediction
2020-04-15 03:10:23 1.8 STATUS STARTED Imputation procedure knn
2020-04-15 03:10:24 1.8 STATUS COMPLETED Imputation procedure knn
2020-04-15 03:10:24 1.8 STATUS STARTED Imputation procedure mean.samples
2020-04-15 03:10:24 1.8 STATUS COMPLETED Imputation procedure mean.samples
2020-04-15 03:10:24 1.8 STATUS STARTED Imputation procedure mean.cpgs
2020-04-15 03:10:25 1.8 STATUS COMPLETED Imputation procedure mean.cpgs
2020-04-15 03:10:25 1.8 STATUS STARTED Imputation procedure random
2020-04-15 03:10:26 1.8 STATUS COMPLETED Imputation procedure random
2020-04-15 03:10:26 1.8 STATUS STARTED Testing imputation
2020-04-15 03:10:26 1.8 STATUS STARTED Imputation procedure knn
2020-04-15 03:10:26 1.8 STATUS COMPLETED Imputation procedure knn
2020-04-15 03:10:26 1.8 STATUS STARTED Imputation procedure mean.samples
2020-04-15 03:10:27 1.8 STATUS COMPLETED Imputation procedure mean.samples
2020-04-15 03:10:27 1.8 STATUS STARTED Imputation procedure mean.cpgs
2020-04-15 03:10:28 1.8 STATUS COMPLETED Imputation procedure mean.cpgs
2020-04-15 03:10:28 1.8 STATUS STARTED Imputation procedure random
2020-04-15 03:10:28 1.8 STATUS COMPLETED Imputation procedure random
2020-04-15 03:10:28 1.8 STATUS COMPLETED Testing imputation
2020-04-15 03:10:28 1.8 STATUS STARTED Testing age prediction
2020-04-15 03:10:28 1.8 STATUS STARTED Performing Age Prediction
2020-04-15 03:10:32 1.8 STATUS COMPLETED Performing Age Prediction
2020-04-15 03:10:32 1.8 STATUS COMPLETED Testing age prediction
RUNIT TEST PROTOCOL -- Wed Apr 15 03:10:46 2020
***********************************************
Number of test functions: 23
Number of errors: 0
Number of failures: 0
1 Test Suite :
RnBeads RUnit Tests - 23 test functions, 0 errors, 0 failures
Number of test functions: 23
Number of errors: 0
Number of failures: 0
There were 37 warnings (use warnings() to see them)
>
> proc.time()
user system elapsed
119.140 7.080 128.306
Example timings
RnBeads.Rcheck/RnBeads-Ex.timings