CHECK report for RnBeads on merida1
This page was generated on 2020-04-15 12:41:55 -0400 (Wed, 15 Apr 2020).
RnBeads 2.4.0 Fabian Mueller
Snapshot Date: 2020-04-14 16:46:13 -0400 (Tue, 14 Apr 2020) |
URL: https://git.bioconductor.org/packages/RnBeads |
Branch: RELEASE_3_10 |
Last Commit: 855fc99 |
Last Changed Date: 2019-10-29 13:09:17 -0400 (Tue, 29 Oct 2019) |
| malbec1 | Linux (Ubuntu 18.04.4 LTS) / x86_64 | OK | OK | OK | | |
tokay1 | Windows Server 2012 R2 Standard / x64 | OK | OK | OK | OK | |
merida1 | OS X 10.11.6 El Capitan / x86_64 | OK | OK | [ OK ] | OK | |
Summary
Command output
Installation output
RnBeads.Rcheck/00install.out
Tests output
RnBeads.Rcheck/tests/runTests.Rout
R version 3.6.3 (2020-02-29) -- "Holding the Windsock"
Copyright (C) 2020 The R Foundation for Statistical Computing
Platform: x86_64-apple-darwin15.6.0 (64-bit)
R is free software and comes with ABSOLUTELY NO WARRANTY.
You are welcome to redistribute it under certain conditions.
Type 'license()' or 'licence()' for distribution details.
R is a collaborative project with many contributors.
Type 'contributors()' for more information and
'citation()' on how to cite R or R packages in publications.
Type 'demo()' for some demos, 'help()' for on-line help, or
'help.start()' for an HTML browser interface to help.
Type 'q()' to quit R.
> BiocGenerics:::testPackage("RnBeads")
Attaching package: 'BiocGenerics'
The following objects are masked from 'package:parallel':
clusterApply, clusterApplyLB, clusterCall, clusterEvalQ,
clusterExport, clusterMap, parApply, parCapply, parLapply,
parLapplyLB, parRapply, parSapply, parSapplyLB
The following objects are masked from 'package:stats':
IQR, mad, sd, var, xtabs
The following objects are masked from 'package:base':
Filter, Find, Map, Position, Reduce, anyDuplicated, append,
as.data.frame, basename, cbind, colnames, dirname, do.call,
duplicated, eval, evalq, get, grep, grepl, intersect, is.unsorted,
lapply, mapply, match, mget, order, paste, pmax, pmax.int, pmin,
pmin.int, rank, rbind, rownames, sapply, setdiff, sort, table,
tapply, union, unique, unsplit, which, which.max, which.min
Attaching package: 'S4Vectors'
The following object is masked from 'package:base':
expand.grid
Attaching package bit
package:bit (c) 2008-2012 Jens Oehlschlaegel (GPL-2)
creators: bit bitwhich
coercion: as.logical as.integer as.bit as.bitwhich which
operator: ! & | xor != ==
querying: print length any all min max range sum summary
bit access: length<- [ [<- [[ [[<-
for more help type ?bit
Attaching package: 'bit'
The following object is masked from 'package:base':
xor
Attaching package ff
- getOption("fftempdir")=="/tmp/RtmpYNQ7BI"
- getOption("ffextension")=="ff"
- getOption("ffdrop")==TRUE
- getOption("fffinonexit")==TRUE
- getOption("ffpagesize")==65536
- getOption("ffcaching")=="mmnoflush" -- consider "ffeachflush" if your system stalls on large writes
- getOption("ffbatchbytes")==16777216 -- consider a different value for tuning your system
- getOption("ffmaxbytes")==536870912 -- consider a different value for tuning your system
Attaching package: 'ff'
The following objects are masked from 'package:bit':
clone, clone.default, clone.list
The following objects are masked from 'package:utils':
write.csv, write.csv2
The following objects are masked from 'package:base':
is.factor, is.ordered
Spam version 2.5-1 (2019-12-12) is loaded.
Type 'help( Spam)' or 'demo( spam)' for a short introduction
and overview of this package.
Help for individual functions is also obtained by adding the
suffix '.spam' to the function name, e.g. 'help( chol.spam)'.
Attaching package: 'spam'
The following object is masked from 'package:stats4':
mle
The following objects are masked from 'package:base':
backsolve, forwardsolve
Attaching package: 'maps'
The following object is masked from 'package:cluster':
votes.repub
See https://github.com/NCAR/Fields for
an extensive vignette, other supplements and source code
Attaching package: 'gplots'
The following object is masked from 'package:IRanges':
space
The following object is masked from 'package:S4Vectors':
space
The following object is masked from 'package:stats':
lowess
Attaching package: 'gridExtra'
The following object is masked from 'package:BiocGenerics':
combine
Attaching package: 'limma'
The following object is masked from 'package:BiocGenerics':
plotMA
Welcome to Bioconductor
Vignettes contain introductory material; view with
'browseVignettes()'. To cite Bioconductor, see
'citation("Biobase")', and for packages 'citation("pkgname")'.
Attaching package: 'Biobase'
The following objects are masked from 'package:matrixStats':
anyMissing, rowMedians
Attaching package: 'AnnotationDbi'
The following object is masked from 'package:MASS':
select
Attaching package: 'DelayedArray'
The following objects are masked from 'package:matrixStats':
colMaxs, colMins, colRanges, rowMaxs, rowMins, rowRanges
The following object is masked from 'package:ff':
maxlength
The following objects are masked from 'package:base':
aperm, apply, rowsum
Attaching package: 'Biostrings'
The following objects are masked from 'package:ff':
mismatch, pattern
The following object is masked from 'package:base':
strsplit
locfit 1.5-9.4 2020-03-24
Setting options('download.file.method.GEOquery'='auto')
Setting options('GEOquery.inmemory.gpl'=FALSE)
Attaching package: 'plyr'
The following object is masked from 'package:XVector':
compact
The following object is masked from 'package:matrixStats':
count
The following object is masked from 'package:maps':
ozone
The following object is masked from 'package:IRanges':
desc
The following object is masked from 'package:S4Vectors':
rename
2020-04-15 05:23:52 0.8 STATUS STARTED Unit testing: differential
2020-04-15 05:23:52 0.8 STATUS STARTED Testing function: rowWelchP
Loading required package: RnBeads.hg19
2020-04-15 05:23:52 0.8 STATUS COMPLETED Testing function: rowWelchP
2020-04-15 05:23:52 0.8 STATUS STARTED Testing function: limmaP
2020-04-15 05:23:53 0.8 STATUS COMPLETED Testing function: limmaP
2020-04-15 05:23:53 0.8 STATUS STARTED Testing function: computeDiffTab.extended.site
2020-04-15 05:23:53 0.8 INFO Conducting differential analysis using limma
2020-04-15 05:23:54 0.8 STATUS COMPLETED Testing function: computeDiffTab.extended.site
2020-04-15 05:23:55 0.8 STATUS STARTED Testing function: computeDiffTab.default.region
2020-04-15 05:23:55 0.8 INFO Conducting differential analysis using limma
2020-04-15 05:24:02 1.0 STATUS COMPLETED Testing function: computeDiffTab.default.region
2020-04-15 05:24:03 1.0 STATUS STARTED Testing function: combineTestPvalsMeth
2020-04-15 05:24:03 1.0 STATUS COMPLETED Testing function: combineTestPvalsMeth
2020-04-15 05:24:03 1.0 STATUS STARTED Testing function: get.adjustment.variables
2020-04-15 05:24:03 1.0 STATUS COMPLETED Testing function: get.adjustment.variables
2020-04-15 05:24:04 1.0 STATUS STARTED Testing function: get.comparison.info
2020-04-15 05:24:04 1.0 STATUS COMPLETED Testing function: get.comparison.info
2020-04-15 05:24:04 1.0 STATUS STARTED Testing function: rnb.execute.computeDiffMeth
2020-04-15 05:24:04 1.0 STATUS STARTED Retrieving comparison info
2020-04-15 05:24:05 1.0 STATUS COMPLETED Retrieving comparison info
2020-04-15 05:24:05 1.0 STATUS STARTED Computing differential methylation tables
2020-04-15 05:24:05 1.0 STATUS STARTED Comparing: hESC vs. hiPSC (based on Sample_Group)
2020-04-15 05:24:05 1.0 STATUS STARTED Computing Differential Methylation Table
2020-04-15 05:24:05 1.0 INFO Conducting differential analysis using limma
2020-04-15 05:24:06 1.0 STATUS COMPLETED Computing Differential Methylation Table
2020-04-15 05:24:06 1.0 STATUS STARTED Computing Differential Methylation Tables (Region Level)
2020-04-15 05:24:07 1.0 STATUS Computed table for tiling
2020-04-15 05:24:09 1.0 STATUS Computed table for genes
2020-04-15 05:24:09 1.0 STATUS Computed table for promoters
2020-04-15 05:24:10 1.0 STATUS Computed table for cpgislands
2020-04-15 05:24:10 1.0 STATUS COMPLETED Computing Differential Methylation Tables (Region Level)
2020-04-15 05:24:10 1.0 STATUS COMPLETED Comparing: hESC vs. hiPSC (based on Sample_Group)
2020-04-15 05:24:11 1.0 STATUS STARTED Comparing: KOSR vs. TeSR (based on Treatment)
2020-04-15 05:24:11 1.0 STATUS STARTED Computing Differential Methylation Table
2020-04-15 05:24:11 1.0 INFO Conducting differential analysis using limma
2020-04-15 05:24:11 1.0 STATUS COMPLETED Computing Differential Methylation Table
2020-04-15 05:24:11 1.0 STATUS STARTED Computing Differential Methylation Tables (Region Level)
2020-04-15 05:24:12 1.1 STATUS Computed table for tiling
2020-04-15 05:24:13 1.2 STATUS Computed table for genes
2020-04-15 05:24:14 1.2 STATUS Computed table for promoters
2020-04-15 05:24:14 1.2 STATUS Computed table for cpgislands
2020-04-15 05:24:15 1.2 STATUS COMPLETED Computing Differential Methylation Tables (Region Level)
2020-04-15 05:24:15 1.2 STATUS COMPLETED Comparing: KOSR vs. TeSR (based on Treatment)
2020-04-15 05:24:15 1.2 STATUS COMPLETED Computing differential methylation tables
2020-04-15 05:24:15 1.2 STATUS COMPLETED Testing function: rnb.execute.computeDiffMeth
2020-04-15 05:24:16 1.2 STATUS STARTED Testing function: diffVar
2020-04-15 05:24:16 1.2 STATUS STARTED diffVar method
2020-04-15 05:24:16 1.2 STATUS COMPLETED diffVar method
2020-04-15 05:24:17 1.2 STATUS STARTED diffVar method
Coefficients not estimable: x2x2
2020-04-15 05:24:17 1.2 STATUS COMPLETED diffVar method
2020-04-15 05:24:17 1.2 STATUS COMPLETED Testing function: diffVar
2020-04-15 05:24:18 1.2 STATUS STARTED Testing function: apply.iEVORA
2020-04-15 05:24:18 1.2 STATUS STARTED iEVORA method
2020-04-15 05:24:19 1.2 INFO No DVCs detected. All p-values set to 1.
2020-04-15 05:24:20 1.2 STATUS COMPLETED iEVORA method
2020-04-15 05:24:20 1.2 STATUS STARTED Testing function: rnb.execute.diffVar
2020-04-15 05:24:20 1.2 STATUS STARTED Differential Variability
2020-04-15 05:24:20 1.2 STATUS STARTED Retrieving comparison info
2020-04-15 05:24:21 1.2 STATUS COMPLETED Retrieving comparison info
2020-04-15 05:24:21 1.2 INFO No imputation method selected, 'knn' method used.
2020-04-15 05:24:21 1.2 STATUS STARTED Imputation procedure knn
2020-04-15 05:24:21 1.2 STATUS COMPLETED Imputation procedure knn
2020-04-15 05:24:22 1.2 STATUS STARTED Comparing hESC vs. hiPSC (based on Sample_Group)
2020-04-15 05:24:22 1.2 INFO Conducting differential variability using diffVar
2020-04-15 05:24:22 1.2 STATUS STARTED diffVar method
2020-04-15 05:24:22 1.3 STATUS COMPLETED diffVar method
2020-04-15 05:24:23 1.2 STATUS STARTED Computing Differential Variability Tables (Region Level)
2020-04-15 05:24:23 1.2 STATUS Computed table for tiling
2020-04-15 05:24:24 1.3 STATUS Computed table for genes
2020-04-15 05:24:24 1.3 STATUS Computed table for promoters
2020-04-15 05:24:25 1.3 STATUS Computed table for cpgislands
2020-04-15 05:24:25 1.3 STATUS COMPLETED Computing Differential Variability Tables (Region Level)
2020-04-15 05:24:25 1.3 STATUS COMPLETED Comparing hESC vs. hiPSC (based on Sample_Group)
2020-04-15 05:24:26 1.3 STATUS STARTED Comparing KOSR vs. TeSR (based on Treatment)
2020-04-15 05:24:26 1.3 INFO Conducting differential variability using diffVar
2020-04-15 05:24:26 1.3 STATUS STARTED diffVar method
2020-04-15 05:24:26 1.3 STATUS COMPLETED diffVar method
2020-04-15 05:24:27 1.3 STATUS STARTED Computing Differential Variability Tables (Region Level)
2020-04-15 05:24:27 1.3 STATUS Computed table for tiling
2020-04-15 05:24:28 1.3 STATUS Computed table for genes
2020-04-15 05:24:28 1.3 STATUS Computed table for promoters
2020-04-15 05:24:29 1.3 STATUS Computed table for cpgislands
2020-04-15 05:24:29 1.3 STATUS COMPLETED Computing Differential Variability Tables (Region Level)
2020-04-15 05:24:29 1.3 STATUS COMPLETED Comparing KOSR vs. TeSR (based on Treatment)
2020-04-15 05:24:30 1.3 STATUS COMPLETED Differential Variability
2020-04-15 05:24:30 1.3 STATUS COMPLETED Testing function: rnb.execute.diffVar
2020-04-15 05:24:30 1.3 STATUS STARTED Testing function: rnb.execute.computeDiffMeth and Variability
2020-04-15 05:24:30 1.3 STATUS STARTED Retrieving comparison info
2020-04-15 05:24:30 1.3 STATUS COMPLETED Retrieving comparison info
2020-04-15 05:24:31 1.3 STATUS STARTED Computing differential methylation tables
2020-04-15 05:24:31 1.3 STATUS STARTED Comparing: hESC vs. hiPSC (based on Sample_Group)
2020-04-15 05:24:31 1.3 STATUS STARTED Computing Differential Methylation Table
2020-04-15 05:24:31 1.3 INFO Conducting differential analysis using limma
2020-04-15 05:24:32 1.3 STATUS STARTED Imputation procedure knn
2020-04-15 05:24:32 1.3 STATUS COMPLETED Imputation procedure knn
2020-04-15 05:24:32 1.3 INFO Conducting differential variability using diffVar
2020-04-15 05:24:32 1.3 STATUS STARTED diffVar method
2020-04-15 05:24:32 1.3 STATUS COMPLETED diffVar method
2020-04-15 05:24:33 1.3 STATUS COMPLETED Computing Differential Methylation Table
2020-04-15 05:24:33 1.3 STATUS STARTED Computing Differential Methylation Tables (Region Level)
2020-04-15 05:24:34 1.3 STATUS Computed table for tiling
2020-04-15 05:24:36 1.2 STATUS Computed table for genes
2020-04-15 05:24:37 1.2 STATUS Computed table for promoters
2020-04-15 05:24:38 1.2 STATUS Computed table for cpgislands
2020-04-15 05:24:38 1.2 STATUS COMPLETED Computing Differential Methylation Tables (Region Level)
2020-04-15 05:24:38 1.2 STATUS COMPLETED Comparing: hESC vs. hiPSC (based on Sample_Group)
2020-04-15 05:24:38 1.2 STATUS STARTED Comparing: KOSR vs. TeSR (based on Treatment)
2020-04-15 05:24:38 1.2 STATUS STARTED Computing Differential Methylation Table
2020-04-15 05:24:39 1.2 INFO Conducting differential analysis using limma
2020-04-15 05:24:39 1.2 STATUS STARTED Imputation procedure knn
2020-04-15 05:24:39 1.2 STATUS COMPLETED Imputation procedure knn
2020-04-15 05:24:39 1.2 INFO Conducting differential variability using diffVar
2020-04-15 05:24:39 1.2 STATUS STARTED diffVar method
2020-04-15 05:24:40 1.2 STATUS COMPLETED diffVar method
2020-04-15 05:24:40 1.2 STATUS COMPLETED Computing Differential Methylation Table
2020-04-15 05:24:40 1.2 STATUS STARTED Computing Differential Methylation Tables (Region Level)
2020-04-15 05:24:42 1.3 STATUS Computed table for tiling
2020-04-15 05:24:42 1.3 STATUS Computed table for genes
2020-04-15 05:24:43 1.3 STATUS Computed table for promoters
2020-04-15 05:24:44 1.3 STATUS Computed table for cpgislands
2020-04-15 05:24:44 1.3 STATUS COMPLETED Computing Differential Methylation Tables (Region Level)
2020-04-15 05:24:44 1.3 STATUS COMPLETED Comparing: KOSR vs. TeSR (based on Treatment)
2020-04-15 05:24:45 1.3 STATUS COMPLETED Computing differential methylation tables
2020-04-15 05:24:45 1.3 STATUS COMPLETED Testing function: rnb.execute.computeDiffMeth and Variability
2020-04-15 05:24:45 1.3 STATUS STARTED Testing class: RnBDiffMeth
2020-04-15 05:24:45 1.3 STATUS STARTED Retrieving comparison info
2020-04-15 05:24:45 1.3 STATUS COMPLETED Retrieving comparison info
2020-04-15 05:24:46 1.3 STATUS STARTED Computing differential methylation tables
2020-04-15 05:24:46 1.3 STATUS STARTED Comparing: hESC vs. hiPSC (based on Sample_Group)
2020-04-15 05:24:46 1.3 STATUS STARTED Computing Differential Methylation Table
2020-04-15 05:24:46 1.3 INFO Conducting differential analysis using limma
2020-04-15 05:24:46 1.3 STATUS COMPLETED Computing Differential Methylation Table
2020-04-15 05:24:47 1.3 STATUS STARTED Computing Differential Methylation Tables (Region Level)
2020-04-15 05:24:48 1.3 STATUS Computed table for tiling
2020-04-15 05:24:48 1.3 STATUS Computed table for genes
2020-04-15 05:24:49 1.3 STATUS Computed table for promoters
2020-04-15 05:24:49 1.3 STATUS Computed table for cpgislands
2020-04-15 05:24:50 1.3 STATUS COMPLETED Computing Differential Methylation Tables (Region Level)
2020-04-15 05:24:50 1.3 STATUS COMPLETED Comparing: hESC vs. hiPSC (based on Sample_Group)
2020-04-15 05:24:50 1.3 STATUS STARTED Comparing: KOSR vs. TeSR (based on Treatment)
2020-04-15 05:24:50 1.3 STATUS STARTED Computing Differential Methylation Table
2020-04-15 05:24:51 1.3 INFO Conducting differential analysis using limma
2020-04-15 05:24:51 1.3 STATUS COMPLETED Computing Differential Methylation Table
2020-04-15 05:24:51 1.3 STATUS STARTED Computing Differential Methylation Tables (Region Level)
2020-04-15 05:24:52 1.3 STATUS Computed table for tiling
2020-04-15 05:24:52 1.3 STATUS Computed table for genes
2020-04-15 05:24:53 1.3 STATUS Computed table for promoters
2020-04-15 05:24:54 1.3 STATUS Computed table for cpgislands
2020-04-15 05:24:54 1.3 STATUS COMPLETED Computing Differential Methylation Tables (Region Level)
2020-04-15 05:24:54 1.3 STATUS COMPLETED Comparing: KOSR vs. TeSR (based on Treatment)
2020-04-15 05:24:54 1.3 STATUS COMPLETED Computing differential methylation tables
2020-04-15 05:24:55 1.3 STATUS STARTED Retrieving comparison info
2020-04-15 05:24:55 1.3 STATUS COMPLETED Retrieving comparison info
2020-04-15 05:24:55 1.3 STATUS STARTED Computing differential methylation tables
2020-04-15 05:24:55 1.3 STATUS STARTED Comparing: hESC vs. hiPSC (based on Sample_Group)
2020-04-15 05:24:56 1.3 STATUS STARTED Computing Differential Methylation Table
2020-04-15 05:24:56 1.3 INFO Conducting differential analysis using limma
2020-04-15 05:24:56 1.3 STATUS COMPLETED Computing Differential Methylation Table
2020-04-15 05:24:56 1.3 STATUS STARTED Computing Differential Methylation Tables (Region Level)
2020-04-15 05:24:57 1.3 STATUS Computed table for genes
2020-04-15 05:24:58 1.3 STATUS Computed table for tiling
2020-04-15 05:24:58 1.3 STATUS COMPLETED Computing Differential Methylation Tables (Region Level)
2020-04-15 05:24:58 1.3 STATUS COMPLETED Comparing: hESC vs. hiPSC (based on Sample_Group)
2020-04-15 05:24:58 1.3 STATUS COMPLETED Computing differential methylation tables
2020-04-15 05:24:59 1.3 STATUS STARTED Retrieving comparison info
2020-04-15 05:24:59 1.3 STATUS COMPLETED Retrieving comparison info
2020-04-15 05:24:59 1.3 STATUS STARTED Computing differential methylation tables
2020-04-15 05:24:59 1.3 STATUS STARTED Comparing: hESC vs. hiPSC (based on Sample_Group)
2020-04-15 05:24:59 1.3 STATUS STARTED Computing Differential Methylation Table
2020-04-15 05:25:00 1.3 INFO Conducting differential analysis using limma
2020-04-15 05:25:00 1.3 STATUS COMPLETED Computing Differential Methylation Table
2020-04-15 05:25:00 1.3 STATUS STARTED Computing Differential Methylation Tables (Region Level)
2020-04-15 05:25:01 1.3 STATUS Computed table for genes
2020-04-15 05:25:01 1.3 STATUS Computed table for tiling
2020-04-15 05:25:02 1.3 STATUS COMPLETED Computing Differential Methylation Tables (Region Level)
2020-04-15 05:25:02 1.3 STATUS COMPLETED Comparing: hESC vs. hiPSC (based on Sample_Group)
2020-04-15 05:25:02 1.3 STATUS COMPLETED Computing differential methylation tables
2020-04-15 05:25:02 1.3 STATUS STARTED Retrieving comparison info
2020-04-15 05:25:02 1.3 STATUS COMPLETED Retrieving comparison info
2020-04-15 05:25:03 1.3 STATUS STARTED Computing differential methylation tables
2020-04-15 05:25:03 1.3 STATUS STARTED Comparing: hESC vs. hiPSC (based on Sample_Group)
2020-04-15 05:25:03 1.3 STATUS STARTED Computing Differential Methylation Table
2020-04-15 05:25:03 1.3 INFO Conducting differential analysis using limma
2020-04-15 05:25:03 1.3 STATUS COMPLETED Computing Differential Methylation Table
2020-04-15 05:25:04 1.3 STATUS STARTED Computing Differential Methylation Tables (Region Level)
2020-04-15 05:25:04 1.3 STATUS Computed table for promoters
2020-04-15 05:25:04 1.3 STATUS COMPLETED Computing Differential Methylation Tables (Region Level)
2020-04-15 05:25:05 1.3 STATUS COMPLETED Comparing: hESC vs. hiPSC (based on Sample_Group)
2020-04-15 05:25:05 1.3 STATUS STARTED Comparing: KOSR vs. TeSR (based on Treatment)
2020-04-15 05:25:05 1.3 STATUS STARTED Computing Differential Methylation Table
2020-04-15 05:25:05 1.3 INFO Conducting differential analysis using limma
2020-04-15 05:25:05 1.3 STATUS COMPLETED Computing Differential Methylation Table
2020-04-15 05:25:06 1.3 STATUS STARTED Computing Differential Methylation Tables (Region Level)
2020-04-15 05:25:06 1.3 STATUS Computed table for promoters
2020-04-15 05:25:06 1.3 STATUS COMPLETED Computing Differential Methylation Tables (Region Level)
2020-04-15 05:25:07 1.3 STATUS COMPLETED Comparing: KOSR vs. TeSR (based on Treatment)
2020-04-15 05:25:07 1.3 STATUS COMPLETED Computing differential methylation tables
2020-04-15 05:25:07 1.3 STATUS STARTED Retrieving comparison info
2020-04-15 05:25:07 1.3 STATUS COMPLETED Retrieving comparison info
2020-04-15 05:25:07 1.3 STATUS STARTED Computing differential methylation tables
2020-04-15 05:25:08 1.3 STATUS STARTED Comparing: KOSR vs. TeSR (based on Treatment)
2020-04-15 05:25:08 1.3 STATUS STARTED Computing Differential Methylation Table
2020-04-15 05:25:08 1.3 INFO Conducting differential analysis using limma
2020-04-15 05:25:08 1.3 STATUS COMPLETED Computing Differential Methylation Table
2020-04-15 05:25:08 1.3 STATUS STARTED Computing Differential Methylation Tables (Region Level)
2020-04-15 05:25:09 1.3 STATUS Computed table for genes
2020-04-15 05:25:10 1.3 STATUS Computed table for tiling
2020-04-15 05:25:10 1.3 STATUS COMPLETED Computing Differential Methylation Tables (Region Level)
2020-04-15 05:25:10 1.3 STATUS COMPLETED Comparing: KOSR vs. TeSR (based on Treatment)
2020-04-15 05:25:10 1.3 STATUS COMPLETED Computing differential methylation tables
2020-04-15 05:25:11 1.3 STATUS STARTED Testing function: get.region.types
2020-04-15 05:25:11 1.3 STATUS COMPLETED Testing function: get.region.types
2020-04-15 05:25:11 1.3 STATUS STARTED Testing function: get.comparisons
2020-04-15 05:25:11 1.3 STATUS COMPLETED Testing function: get.comparisons
2020-04-15 05:25:11 1.3 STATUS STARTED Testing function: get.comparison.grouplabels
2020-04-15 05:25:12 1.3 STATUS COMPLETED Testing function: get.comparison.grouplabels
2020-04-15 05:25:12 1.3 STATUS STARTED Testing function: get.site.test.method
2020-04-15 05:25:12 1.3 STATUS COMPLETED Testing function: get.site.test.method
2020-04-15 05:25:12 1.3 STATUS STARTED Testing function: get.table
2020-04-15 05:25:12 1.3 STATUS COMPLETED Testing function: get.table
2020-04-15 05:25:13 1.3 STATUS STARTED Testing function: addDiffMethTable
2020-04-15 05:25:13 1.3 INFO Conducting differential analysis using limma
2020-04-15 05:25:13 1.3 STATUS COMPLETED Testing function: addDiffMethTable
2020-04-15 05:25:14 1.3 STATUS STARTED Testing functions: join.diffMeth, is.valid
2020-04-15 05:25:14 1.3 STATUS COMPLETED Testing functions: join.diffMeth, is.valid
2020-04-15 05:25:14 1.3 STATUS STARTED Destructor
2020-04-15 05:25:15 1.3 STATUS STARTED Deleting RnBDiffMeth disk dump files from disk
2020-04-15 05:25:15 1.3 STATUS COMPLETED Deleting RnBDiffMeth disk dump files from disk
2020-04-15 05:25:15 1.3 STATUS STARTED Deleting RnBDiffMeth disk dump files from disk
2020-04-15 05:25:15 1.3 STATUS COMPLETED Deleting RnBDiffMeth disk dump files from disk
2020-04-15 05:25:15 1.3 STATUS STARTED Deleting RnBDiffMeth disk dump files from disk
2020-04-15 05:25:16 1.3 STATUS COMPLETED Deleting RnBDiffMeth disk dump files from disk
2020-04-15 05:25:16 1.3 STATUS STARTED Deleting RnBDiffMeth disk dump files from disk
2020-04-15 05:25:16 1.3 STATUS COMPLETED Deleting RnBDiffMeth disk dump files from disk
2020-04-15 05:25:16 1.3 STATUS COMPLETED Destructor
2020-04-15 05:25:17 1.3 STATUS COMPLETED Testing class: RnBDiffMeth
2020-04-15 05:25:17 1.3 STATUS COMPLETED Testing function: apply.iEVORA
2020-04-15 05:25:17 1.3 STATUS STARTED Retrieving comparison info
2020-04-15 05:25:17 1.3 STATUS COMPLETED Retrieving comparison info
2020-04-15 05:25:18 1.3 STATUS STARTED Computing differential methylation tables
2020-04-15 05:25:18 1.3 STATUS STARTED Comparing: hESC vs. hiPSC (based on Sample_Group)
2020-04-15 05:25:18 1.3 STATUS STARTED Computing Differential Methylation Table
2020-04-15 05:25:18 1.3 INFO Conducting differential analysis using limma
2020-04-15 05:25:19 1.3 STATUS COMPLETED Computing Differential Methylation Table
2020-04-15 05:25:19 1.3 STATUS STARTED Computing Differential Methylation Tables (Region Level)
2020-04-15 05:25:20 1.3 STATUS Computed table for tiling
2020-04-15 05:25:20 1.3 STATUS Computed table for genes
2020-04-15 05:25:21 1.3 STATUS Computed table for promoters
2020-04-15 05:25:22 1.3 STATUS Computed table for cpgislands
2020-04-15 05:25:22 1.3 STATUS COMPLETED Computing Differential Methylation Tables (Region Level)
2020-04-15 05:25:22 1.3 STATUS COMPLETED Comparing: hESC vs. hiPSC (based on Sample_Group)
2020-04-15 05:25:22 1.3 STATUS STARTED Comparing: KOSR vs. TeSR (based on Treatment)
2020-04-15 05:25:23 1.3 STATUS STARTED Computing Differential Methylation Table
2020-04-15 05:25:23 1.3 INFO Conducting differential analysis using limma
2020-04-15 05:25:23 1.3 STATUS COMPLETED Computing Differential Methylation Table
2020-04-15 05:25:23 1.3 STATUS STARTED Computing Differential Methylation Tables (Region Level)
2020-04-15 05:25:24 1.3 STATUS Computed table for tiling
2020-04-15 05:25:25 1.3 STATUS Computed table for genes
2020-04-15 05:25:25 1.3 STATUS Computed table for promoters
2020-04-15 05:25:26 1.3 STATUS Computed table for cpgislands
2020-04-15 05:25:26 1.3 STATUS COMPLETED Computing Differential Methylation Tables (Region Level)
2020-04-15 05:25:26 1.3 STATUS COMPLETED Comparing: KOSR vs. TeSR (based on Treatment)
2020-04-15 05:25:27 1.3 STATUS COMPLETED Computing differential methylation tables
2020-04-15 05:25:27 1.3 STATUS STARTED Retrieving comparison info
2020-04-15 05:25:27 1.3 STATUS COMPLETED Retrieving comparison info
2020-04-15 05:25:27 1.3 STATUS STARTED Computing differential methylation tables
2020-04-15 05:25:27 1.3 STATUS STARTED Comparing: hESC vs. hiPSC (based on Sample_Group)
2020-04-15 05:25:28 1.3 STATUS STARTED Computing Differential Methylation Table
2020-04-15 05:25:28 1.3 INFO Conducting differential analysis using limma
2020-04-15 05:25:28 1.3 STATUS COMPLETED Computing Differential Methylation Table
2020-04-15 05:25:28 1.3 STATUS STARTED Computing Differential Methylation Tables (Region Level)
2020-04-15 05:25:29 1.3 STATUS Computed table for genes
2020-04-15 05:25:30 1.3 STATUS Computed table for tiling
2020-04-15 05:25:30 1.3 STATUS COMPLETED Computing Differential Methylation Tables (Region Level)
2020-04-15 05:25:30 1.3 STATUS COMPLETED Comparing: hESC vs. hiPSC (based on Sample_Group)
2020-04-15 05:25:31 1.3 STATUS COMPLETED Computing differential methylation tables
2020-04-15 05:25:31 1.3 STATUS STARTED Retrieving comparison info
2020-04-15 05:25:31 1.3 STATUS COMPLETED Retrieving comparison info
2020-04-15 05:25:31 1.3 STATUS STARTED Computing differential methylation tables
2020-04-15 05:25:32 1.3 STATUS STARTED Comparing: hESC vs. hiPSC (based on Sample_Group)
2020-04-15 05:25:32 1.3 STATUS STARTED Computing Differential Methylation Table
2020-04-15 05:25:32 1.3 INFO Conducting differential analysis using limma
2020-04-15 05:25:32 1.3 STATUS COMPLETED Computing Differential Methylation Table
2020-04-15 05:25:32 1.3 STATUS STARTED Computing Differential Methylation Tables (Region Level)
2020-04-15 05:25:33 1.3 STATUS Computed table for genes
2020-04-15 05:25:34 1.3 STATUS Computed table for tiling
2020-04-15 05:25:34 1.3 STATUS COMPLETED Computing Differential Methylation Tables (Region Level)
2020-04-15 05:25:34 1.3 STATUS COMPLETED Comparing: hESC vs. hiPSC (based on Sample_Group)
2020-04-15 05:25:35 1.3 STATUS COMPLETED Computing differential methylation tables
2020-04-15 05:25:35 1.3 STATUS STARTED Retrieving comparison info
2020-04-15 05:25:35 1.3 STATUS COMPLETED Retrieving comparison info
2020-04-15 05:25:35 1.3 STATUS STARTED Computing differential methylation tables
2020-04-15 05:25:36 1.3 STATUS STARTED Comparing: hESC vs. hiPSC (based on Sample_Group)
2020-04-15 05:25:36 1.3 STATUS STARTED Computing Differential Methylation Table
2020-04-15 05:25:36 1.3 INFO Conducting differential analysis using limma
2020-04-15 05:25:36 1.3 STATUS COMPLETED Computing Differential Methylation Table
2020-04-15 05:25:36 1.3 STATUS STARTED Computing Differential Methylation Tables (Region Level)
2020-04-15 05:25:37 1.3 STATUS Computed table for promoters
2020-04-15 05:25:37 1.3 STATUS COMPLETED Computing Differential Methylation Tables (Region Level)
2020-04-15 05:25:38 1.3 STATUS COMPLETED Comparing: hESC vs. hiPSC (based on Sample_Group)
2020-04-15 05:25:38 1.3 STATUS STARTED Comparing: KOSR vs. TeSR (based on Treatment)
2020-04-15 05:25:38 1.3 STATUS STARTED Computing Differential Methylation Table
2020-04-15 05:25:38 1.3 INFO Conducting differential analysis using limma
2020-04-15 05:25:38 1.3 STATUS COMPLETED Computing Differential Methylation Table
2020-04-15 05:25:39 1.3 STATUS STARTED Computing Differential Methylation Tables (Region Level)
2020-04-15 05:25:39 1.3 STATUS Computed table for promoters
2020-04-15 05:25:39 1.3 STATUS COMPLETED Computing Differential Methylation Tables (Region Level)
2020-04-15 05:25:40 1.3 STATUS COMPLETED Comparing: KOSR vs. TeSR (based on Treatment)
2020-04-15 05:25:40 1.3 STATUS COMPLETED Computing differential methylation tables
2020-04-15 05:25:40 1.3 STATUS STARTED Retrieving comparison info
2020-04-15 05:25:40 1.3 STATUS COMPLETED Retrieving comparison info
2020-04-15 05:25:41 1.3 STATUS STARTED Computing differential methylation tables
2020-04-15 05:25:41 1.3 STATUS STARTED Comparing: KOSR vs. TeSR (based on Treatment)
2020-04-15 05:25:41 1.3 STATUS STARTED Computing Differential Methylation Table
2020-04-15 05:25:41 1.3 INFO Conducting differential analysis using limma
2020-04-15 05:25:41 1.3 STATUS COMPLETED Computing Differential Methylation Table
2020-04-15 05:25:42 1.3 STATUS STARTED Computing Differential Methylation Tables (Region Level)
2020-04-15 05:25:42 1.3 STATUS Computed table for genes
2020-04-15 05:25:43 1.3 STATUS Computed table for tiling
2020-04-15 05:25:43 1.3 STATUS COMPLETED Computing Differential Methylation Tables (Region Level)
2020-04-15 05:25:44 1.3 STATUS COMPLETED Comparing: KOSR vs. TeSR (based on Treatment)
2020-04-15 05:25:44 1.3 STATUS COMPLETED Computing differential methylation tables
2020-04-15 05:25:44 1.3 STATUS STARTED Testing function: get.region.types
2020-04-15 05:25:44 1.3 STATUS COMPLETED Testing function: get.region.types
2020-04-15 05:25:44 1.3 STATUS STARTED Testing function: get.comparisons
2020-04-15 05:25:45 1.3 STATUS COMPLETED Testing function: get.comparisons
2020-04-15 05:25:45 1.3 STATUS STARTED Testing function: get.comparison.grouplabels
2020-04-15 05:25:45 1.3 STATUS COMPLETED Testing function: get.comparison.grouplabels
2020-04-15 05:25:45 1.3 STATUS STARTED Testing function: get.site.test.method
2020-04-15 05:25:46 1.3 STATUS COMPLETED Testing function: get.site.test.method
2020-04-15 05:25:46 1.3 STATUS STARTED Testing function: get.table
2020-04-15 05:25:46 1.3 STATUS COMPLETED Testing function: get.table
2020-04-15 05:25:46 1.3 STATUS STARTED Testing function: addDiffMethTable
2020-04-15 05:25:46 1.3 INFO Conducting differential analysis using limma
2020-04-15 05:25:47 1.3 STATUS COMPLETED Testing function: addDiffMethTable
2020-04-15 05:25:47 1.3 STATUS STARTED Testing functions: join.diffMeth, is.valid
2020-04-15 05:25:47 1.3 STATUS COMPLETED Testing functions: join.diffMeth, is.valid
2020-04-15 05:25:48 1.3 STATUS STARTED Destructor
2020-04-15 05:25:48 1.3 STATUS STARTED Deleting RnBDiffMeth disk dump files from disk
2020-04-15 05:25:48 1.3 STATUS COMPLETED Deleting RnBDiffMeth disk dump files from disk
2020-04-15 05:25:48 1.3 STATUS STARTED Deleting RnBDiffMeth disk dump files from disk
2020-04-15 05:25:48 1.3 STATUS COMPLETED Deleting RnBDiffMeth disk dump files from disk
2020-04-15 05:25:49 1.3 STATUS STARTED Deleting RnBDiffMeth disk dump files from disk
2020-04-15 05:25:49 1.3 STATUS COMPLETED Deleting RnBDiffMeth disk dump files from disk
2020-04-15 05:25:49 1.3 STATUS STARTED Deleting RnBDiffMeth disk dump files from disk
2020-04-15 05:25:49 1.3 STATUS COMPLETED Deleting RnBDiffMeth disk dump files from disk
2020-04-15 05:25:50 1.3 STATUS COMPLETED Destructor
2020-04-15 05:25:50 1.3 INFO Conducting differential analysis using limma
2020-04-15 05:25:51 1.3 INFO Conducting differential analysis using limma
2020-04-15 05:25:51 1.3 STATUS STARTED diffVar method
2020-04-15 05:25:51 1.3 STATUS COMPLETED diffVar method
2020-04-15 05:25:52 1.3 STATUS STARTED diffVar method
Coefficients not estimable: x2x2
2020-04-15 05:25:52 1.3 STATUS COMPLETED diffVar method
2020-04-15 05:25:52 1.3 STATUS STARTED Unit testing: differential
2020-04-15 05:25:53 1.3 STATUS STARTED Testing function: rowWelchP
2020-04-15 05:25:53 1.3 STATUS COMPLETED Testing function: rowWelchP
2020-04-15 05:25:53 1.3 STATUS STARTED Testing function: limmaP
2020-04-15 05:25:53 1.3 STATUS COMPLETED Testing function: limmaP
2020-04-15 05:25:54 1.3 STATUS STARTED Testing function: computeDiffTab.extended.site
2020-04-15 05:25:54 1.3 INFO Conducting differential analysis using limma
2020-04-15 05:25:54 1.3 STATUS COMPLETED Testing function: computeDiffTab.extended.site
2020-04-15 05:25:54 1.3 STATUS STARTED Testing function: computeDiffTab.default.region
2020-04-15 05:25:55 1.3 INFO Conducting differential analysis using limma
2020-04-15 05:25:55 1.4 STATUS COMPLETED Testing function: computeDiffTab.default.region
2020-04-15 05:25:55 1.4 STATUS STARTED Testing function: combineTestPvalsMeth
2020-04-15 05:25:56 1.4 STATUS COMPLETED Testing function: combineTestPvalsMeth
2020-04-15 05:25:56 1.4 STATUS STARTED Testing function: get.adjustment.variables
2020-04-15 05:25:56 1.4 STATUS COMPLETED Testing function: get.adjustment.variables
2020-04-15 05:25:57 1.4 STATUS STARTED Testing function: get.comparison.info
2020-04-15 05:25:57 1.4 STATUS COMPLETED Testing function: get.comparison.info
2020-04-15 05:25:57 1.4 STATUS STARTED Testing function: rnb.execute.computeDiffMeth
2020-04-15 05:25:57 1.4 STATUS STARTED Retrieving comparison info
2020-04-15 05:25:58 1.4 STATUS COMPLETED Retrieving comparison info
2020-04-15 05:25:58 1.4 STATUS STARTED Computing differential methylation tables
2020-04-15 05:25:58 1.4 STATUS STARTED Comparing: hESC vs. hiPSC (based on Sample_Group)
2020-04-15 05:25:58 1.4 STATUS STARTED Computing Differential Methylation Table
2020-04-15 05:25:59 1.4 INFO Conducting differential analysis using limma
2020-04-15 05:25:59 1.4 STATUS COMPLETED Computing Differential Methylation Table
2020-04-15 05:25:59 1.4 STATUS STARTED Computing Differential Methylation Tables (Region Level)
2020-04-15 05:26:00 1.4 STATUS Computed table for tiling
2020-04-15 05:26:01 1.3 STATUS Computed table for genes
2020-04-15 05:26:01 1.3 STATUS Computed table for promoters
2020-04-15 05:26:02 1.3 STATUS Computed table for cpgislands
2020-04-15 05:26:02 1.3 STATUS COMPLETED Computing Differential Methylation Tables (Region Level)
2020-04-15 05:26:02 1.3 STATUS COMPLETED Comparing: hESC vs. hiPSC (based on Sample_Group)
2020-04-15 05:26:02 1.3 STATUS STARTED Comparing: KOSR vs. TeSR (based on Treatment)
2020-04-15 05:26:03 1.3 STATUS STARTED Computing Differential Methylation Table
2020-04-15 05:26:03 1.3 INFO Conducting differential analysis using limma
2020-04-15 05:26:03 1.3 STATUS COMPLETED Computing Differential Methylation Table
2020-04-15 05:26:03 1.3 STATUS STARTED Computing Differential Methylation Tables (Region Level)
2020-04-15 05:26:04 1.3 STATUS Computed table for tiling
2020-04-15 05:26:04 1.3 STATUS Computed table for genes
2020-04-15 05:26:05 1.3 STATUS Computed table for promoters
2020-04-15 05:26:06 1.3 STATUS Computed table for cpgislands
2020-04-15 05:26:06 1.3 STATUS COMPLETED Computing Differential Methylation Tables (Region Level)
2020-04-15 05:26:06 1.3 STATUS COMPLETED Comparing: KOSR vs. TeSR (based on Treatment)
2020-04-15 05:26:06 1.3 STATUS COMPLETED Computing differential methylation tables
2020-04-15 05:26:06 1.3 STATUS COMPLETED Testing function: rnb.execute.computeDiffMeth
2020-04-15 05:26:07 1.3 STATUS STARTED Testing function: diffVar
2020-04-15 05:26:07 1.3 STATUS STARTED diffVar method
2020-04-15 05:26:07 1.3 STATUS COMPLETED diffVar method
2020-04-15 05:26:08 1.3 STATUS STARTED diffVar method
Coefficients not estimable: x2x2
2020-04-15 05:26:08 1.3 STATUS COMPLETED diffVar method
2020-04-15 05:26:08 1.3 STATUS COMPLETED Testing function: diffVar
2020-04-15 05:26:09 1.3 STATUS STARTED Testing function: apply.iEVORA
2020-04-15 05:26:09 1.3 STATUS STARTED iEVORA method
2020-04-15 05:26:10 1.4 INFO No DVCs detected. All p-values set to 1.
2020-04-15 05:26:10 1.4 STATUS COMPLETED iEVORA method
2020-04-15 05:26:11 1.4 STATUS STARTED Testing function: rnb.execute.diffVar
2020-04-15 05:26:11 1.4 STATUS STARTED Differential Variability
2020-04-15 05:26:11 1.4 STATUS STARTED Retrieving comparison info
2020-04-15 05:26:11 1.4 STATUS COMPLETED Retrieving comparison info
2020-04-15 05:26:12 1.4 STATUS STARTED Imputation procedure knn
2020-04-15 05:26:12 1.4 STATUS COMPLETED Imputation procedure knn
2020-04-15 05:26:12 1.4 STATUS STARTED Comparing hESC vs. hiPSC (based on Sample_Group)
2020-04-15 05:26:12 1.4 INFO Conducting differential variability using diffVar
2020-04-15 05:26:12 1.4 STATUS STARTED diffVar method
2020-04-15 05:26:13 1.4 STATUS COMPLETED diffVar method
2020-04-15 05:26:13 1.4 STATUS STARTED Computing Differential Variability Tables (Region Level)
2020-04-15 05:26:14 1.3 STATUS Computed table for tiling
2020-04-15 05:26:14 1.3 STATUS Computed table for genes
2020-04-15 05:26:15 1.3 STATUS Computed table for promoters
2020-04-15 05:26:15 1.3 STATUS Computed table for cpgislands
2020-04-15 05:26:15 1.3 STATUS COMPLETED Computing Differential Variability Tables (Region Level)
2020-04-15 05:26:16 1.3 STATUS COMPLETED Comparing hESC vs. hiPSC (based on Sample_Group)
2020-04-15 05:26:16 1.3 STATUS STARTED Comparing KOSR vs. TeSR (based on Treatment)
2020-04-15 05:26:16 1.3 INFO Conducting differential variability using diffVar
2020-04-15 05:26:16 1.3 STATUS STARTED diffVar method
2020-04-15 05:26:17 1.3 STATUS COMPLETED diffVar method
2020-04-15 05:26:17 1.3 STATUS STARTED Computing Differential Variability Tables (Region Level)
2020-04-15 05:26:18 1.3 STATUS Computed table for tiling
2020-04-15 05:26:18 1.3 STATUS Computed table for genes
2020-04-15 05:26:19 1.3 STATUS Computed table for promoters
2020-04-15 05:26:19 1.3 STATUS Computed table for cpgislands
2020-04-15 05:26:19 1.3 STATUS COMPLETED Computing Differential Variability Tables (Region Level)
2020-04-15 05:26:20 1.3 STATUS COMPLETED Comparing KOSR vs. TeSR (based on Treatment)
2020-04-15 05:26:20 1.3 STATUS COMPLETED Differential Variability
2020-04-15 05:26:20 1.3 STATUS COMPLETED Testing function: rnb.execute.diffVar
2020-04-15 05:26:20 1.3 STATUS STARTED Testing function: rnb.execute.computeDiffMeth and Variability
2020-04-15 05:26:21 1.3 STATUS STARTED Retrieving comparison info
2020-04-15 05:26:21 1.3 STATUS COMPLETED Retrieving comparison info
2020-04-15 05:26:21 1.3 STATUS STARTED Computing differential methylation tables
2020-04-15 05:26:21 1.3 STATUS STARTED Comparing: hESC vs. hiPSC (based on Sample_Group)
2020-04-15 05:26:21 1.3 STATUS STARTED Computing Differential Methylation Table
2020-04-15 05:26:22 1.3 INFO Conducting differential analysis using limma
2020-04-15 05:26:22 1.3 STATUS STARTED Imputation procedure knn
2020-04-15 05:26:22 1.3 STATUS COMPLETED Imputation procedure knn
2020-04-15 05:26:22 1.3 INFO Conducting differential variability using diffVar
2020-04-15 05:26:23 1.3 STATUS STARTED diffVar method
2020-04-15 05:26:23 1.4 STATUS COMPLETED diffVar method
2020-04-15 05:26:23 1.4 STATUS COMPLETED Computing Differential Methylation Table
2020-04-15 05:26:23 1.4 STATUS STARTED Computing Differential Methylation Tables (Region Level)
2020-04-15 05:26:25 1.4 STATUS Computed table for tiling
2020-04-15 05:26:25 1.4 STATUS Computed table for genes
2020-04-15 05:26:26 1.3 STATUS Computed table for promoters
2020-04-15 05:26:27 1.3 STATUS Computed table for cpgislands
2020-04-15 05:26:27 1.3 STATUS COMPLETED Computing Differential Methylation Tables (Region Level)
2020-04-15 05:26:27 1.3 STATUS COMPLETED Comparing: hESC vs. hiPSC (based on Sample_Group)
2020-04-15 05:26:27 1.3 STATUS STARTED Comparing: KOSR vs. TeSR (based on Treatment)
2020-04-15 05:26:27 1.3 STATUS STARTED Computing Differential Methylation Table
2020-04-15 05:26:28 1.3 INFO Conducting differential analysis using limma
2020-04-15 05:26:28 1.3 STATUS STARTED Imputation procedure knn
2020-04-15 05:26:28 1.3 STATUS COMPLETED Imputation procedure knn
2020-04-15 05:26:28 1.3 INFO Conducting differential variability using diffVar
2020-04-15 05:26:28 1.3 STATUS STARTED diffVar method
2020-04-15 05:26:29 1.3 STATUS COMPLETED diffVar method
2020-04-15 05:26:29 1.3 STATUS COMPLETED Computing Differential Methylation Table
2020-04-15 05:26:29 1.3 STATUS STARTED Computing Differential Methylation Tables (Region Level)
2020-04-15 05:26:30 1.3 STATUS Computed table for tiling
2020-04-15 05:26:31 1.3 STATUS Computed table for genes
2020-04-15 05:26:32 1.3 STATUS Computed table for promoters
2020-04-15 05:26:33 1.3 STATUS Computed table for cpgislands
2020-04-15 05:26:33 1.3 STATUS COMPLETED Computing Differential Methylation Tables (Region Level)
2020-04-15 05:26:33 1.3 STATUS COMPLETED Comparing: KOSR vs. TeSR (based on Treatment)
2020-04-15 05:26:33 1.3 STATUS COMPLETED Computing differential methylation tables
2020-04-15 05:26:34 1.3 STATUS COMPLETED Testing function: rnb.execute.computeDiffMeth and Variability
2020-04-15 05:26:34 1.3 STATUS STARTED Testing class: RnBDiffMeth
2020-04-15 05:26:34 1.3 STATUS STARTED Retrieving comparison info
2020-04-15 05:26:34 1.3 STATUS COMPLETED Retrieving comparison info
2020-04-15 05:26:35 1.3 STATUS STARTED Computing differential methylation tables
2020-04-15 05:26:35 1.3 STATUS STARTED Comparing: hESC vs. hiPSC (based on Sample_Group)
2020-04-15 05:26:35 1.3 STATUS STARTED Computing Differential Methylation Table
2020-04-15 05:26:35 1.3 INFO Conducting differential analysis using limma
2020-04-15 05:26:36 1.3 STATUS COMPLETED Computing Differential Methylation Table
2020-04-15 05:26:36 1.3 STATUS STARTED Computing Differential Methylation Tables (Region Level)
2020-04-15 05:26:37 1.3 STATUS Computed table for tiling
2020-04-15 05:26:37 1.3 STATUS Computed table for genes
2020-04-15 05:26:38 1.3 STATUS Computed table for promoters
2020-04-15 05:26:38 1.3 STATUS Computed table for cpgislands
2020-04-15 05:26:39 1.3 STATUS COMPLETED Computing Differential Methylation Tables (Region Level)
2020-04-15 05:26:39 1.3 STATUS COMPLETED Comparing: hESC vs. hiPSC (based on Sample_Group)
2020-04-15 05:26:39 1.3 STATUS STARTED Comparing: KOSR vs. TeSR (based on Treatment)
2020-04-15 05:26:39 1.3 STATUS STARTED Computing Differential Methylation Table
2020-04-15 05:26:40 1.3 INFO Conducting differential analysis using limma
2020-04-15 05:26:40 1.3 STATUS COMPLETED Computing Differential Methylation Table
2020-04-15 05:26:40 1.3 STATUS STARTED Computing Differential Methylation Tables (Region Level)
2020-04-15 05:26:41 1.3 STATUS Computed table for tiling
2020-04-15 05:26:41 1.3 STATUS Computed table for genes
2020-04-15 05:26:42 1.3 STATUS Computed table for promoters
2020-04-15 05:26:43 1.3 STATUS Computed table for cpgislands
2020-04-15 05:26:43 1.3 STATUS COMPLETED Computing Differential Methylation Tables (Region Level)
2020-04-15 05:26:43 1.3 STATUS COMPLETED Comparing: KOSR vs. TeSR (based on Treatment)
2020-04-15 05:26:43 1.3 STATUS COMPLETED Computing differential methylation tables
2020-04-15 05:26:43 1.3 STATUS STARTED Retrieving comparison info
2020-04-15 05:26:44 1.3 STATUS COMPLETED Retrieving comparison info
2020-04-15 05:26:44 1.3 STATUS STARTED Computing differential methylation tables
2020-04-15 05:26:44 1.3 STATUS STARTED Comparing: hESC vs. hiPSC (based on Sample_Group)
2020-04-15 05:26:44 1.3 STATUS STARTED Computing Differential Methylation Table
2020-04-15 05:26:44 1.3 INFO Conducting differential analysis using limma
2020-04-15 05:26:45 1.4 STATUS COMPLETED Computing Differential Methylation Table
2020-04-15 05:26:45 1.4 STATUS STARTED Computing Differential Methylation Tables (Region Level)
2020-04-15 05:26:46 1.4 STATUS Computed table for genes
2020-04-15 05:26:46 1.4 STATUS Computed table for tiling
2020-04-15 05:26:47 1.4 STATUS COMPLETED Computing Differential Methylation Tables (Region Level)
2020-04-15 05:26:47 1.4 STATUS COMPLETED Comparing: hESC vs. hiPSC (based on Sample_Group)
2020-04-15 05:26:47 1.4 STATUS COMPLETED Computing differential methylation tables
2020-04-15 05:26:47 1.4 STATUS STARTED Retrieving comparison info
2020-04-15 05:26:47 1.4 STATUS COMPLETED Retrieving comparison info
2020-04-15 05:26:47 1.4 STATUS STARTED Computing differential methylation tables
2020-04-15 05:26:48 1.4 STATUS STARTED Comparing: hESC vs. hiPSC (based on Sample_Group)
2020-04-15 05:26:48 1.4 STATUS STARTED Computing Differential Methylation Table
2020-04-15 05:26:48 1.4 INFO Conducting differential analysis using limma
2020-04-15 05:26:48 1.4 STATUS COMPLETED Computing Differential Methylation Table
2020-04-15 05:26:48 1.4 STATUS STARTED Computing Differential Methylation Tables (Region Level)
2020-04-15 05:26:49 1.4 STATUS Computed table for genes
2020-04-15 05:26:50 1.4 STATUS Computed table for tiling
2020-04-15 05:26:50 1.4 STATUS COMPLETED Computing Differential Methylation Tables (Region Level)
2020-04-15 05:26:50 1.4 STATUS COMPLETED Comparing: hESC vs. hiPSC (based on Sample_Group)
2020-04-15 05:26:50 1.4 STATUS COMPLETED Computing differential methylation tables
2020-04-15 05:26:50 1.4 STATUS STARTED Retrieving comparison info
2020-04-15 05:26:51 1.4 STATUS COMPLETED Retrieving comparison info
2020-04-15 05:26:51 1.4 STATUS STARTED Computing differential methylation tables
2020-04-15 05:26:51 1.4 STATUS STARTED Comparing: hESC vs. hiPSC (based on Sample_Group)
2020-04-15 05:26:51 1.4 STATUS STARTED Computing Differential Methylation Table
2020-04-15 05:26:51 1.4 INFO Conducting differential analysis using limma
2020-04-15 05:26:52 1.4 STATUS COMPLETED Computing Differential Methylation Table
2020-04-15 05:26:52 1.4 STATUS STARTED Computing Differential Methylation Tables (Region Level)
2020-04-15 05:26:52 1.4 STATUS Computed table for promoters
2020-04-15 05:26:52 1.4 STATUS COMPLETED Computing Differential Methylation Tables (Region Level)
2020-04-15 05:26:53 1.4 STATUS COMPLETED Comparing: hESC vs. hiPSC (based on Sample_Group)
2020-04-15 05:26:53 1.4 STATUS STARTED Comparing: KOSR vs. TeSR (based on Treatment)
2020-04-15 05:26:53 1.4 STATUS STARTED Computing Differential Methylation Table
2020-04-15 05:26:53 1.4 INFO Conducting differential analysis using limma
2020-04-15 05:26:53 1.4 STATUS COMPLETED Computing Differential Methylation Table
2020-04-15 05:26:53 1.4 STATUS STARTED Computing Differential Methylation Tables (Region Level)
2020-04-15 05:26:54 1.4 STATUS Computed table for promoters
2020-04-15 05:26:54 1.4 STATUS COMPLETED Computing Differential Methylation Tables (Region Level)
2020-04-15 05:26:54 1.4 STATUS COMPLETED Comparing: KOSR vs. TeSR (based on Treatment)
2020-04-15 05:26:54 1.4 STATUS COMPLETED Computing differential methylation tables
2020-04-15 05:26:55 1.4 STATUS STARTED Retrieving comparison info
2020-04-15 05:26:55 1.4 STATUS COMPLETED Retrieving comparison info
2020-04-15 05:26:55 1.4 STATUS STARTED Computing differential methylation tables
2020-04-15 05:26:55 1.4 STATUS STARTED Comparing: KOSR vs. TeSR (based on Treatment)
2020-04-15 05:26:55 1.4 STATUS STARTED Computing Differential Methylation Table
2020-04-15 05:26:55 1.4 INFO Conducting differential analysis using limma
2020-04-15 05:26:56 1.4 STATUS COMPLETED Computing Differential Methylation Table
2020-04-15 05:26:56 1.4 STATUS STARTED Computing Differential Methylation Tables (Region Level)
2020-04-15 05:26:56 1.4 STATUS Computed table for genes
2020-04-15 05:26:57 1.4 STATUS Computed table for tiling
2020-04-15 05:26:57 1.4 STATUS COMPLETED Computing Differential Methylation Tables (Region Level)
2020-04-15 05:26:58 1.4 STATUS COMPLETED Comparing: KOSR vs. TeSR (based on Treatment)
2020-04-15 05:26:58 1.4 STATUS COMPLETED Computing differential methylation tables
2020-04-15 05:26:58 1.4 STATUS STARTED Testing function: get.region.types
2020-04-15 05:26:58 1.4 STATUS COMPLETED Testing function: get.region.types
2020-04-15 05:26:58 1.4 STATUS STARTED Testing function: get.comparisons
2020-04-15 05:26:59 1.4 STATUS COMPLETED Testing function: get.comparisons
2020-04-15 05:26:59 1.4 STATUS STARTED Testing function: get.comparison.grouplabels
2020-04-15 05:26:59 1.4 STATUS COMPLETED Testing function: get.comparison.grouplabels
2020-04-15 05:26:59 1.4 STATUS STARTED Testing function: get.site.test.method
2020-04-15 05:26:59 1.4 STATUS COMPLETED Testing function: get.site.test.method
2020-04-15 05:26:59 1.4 STATUS STARTED Testing function: get.table
2020-04-15 05:27:00 1.4 STATUS COMPLETED Testing function: get.table
2020-04-15 05:27:00 1.4 STATUS STARTED Testing function: addDiffMethTable
2020-04-15 05:27:00 1.4 INFO Conducting differential analysis using limma
2020-04-15 05:27:01 1.4 STATUS COMPLETED Testing function: addDiffMethTable
2020-04-15 05:27:01 1.4 STATUS STARTED Testing functions: join.diffMeth, is.valid
2020-04-15 05:27:01 1.4 STATUS COMPLETED Testing functions: join.diffMeth, is.valid
2020-04-15 05:27:01 1.4 STATUS STARTED Destructor
2020-04-15 05:27:01 1.4 STATUS STARTED Deleting RnBDiffMeth disk dump files from disk
2020-04-15 05:27:02 1.4 STATUS COMPLETED Deleting RnBDiffMeth disk dump files from disk
2020-04-15 05:27:02 1.4 STATUS STARTED Deleting RnBDiffMeth disk dump files from disk
2020-04-15 05:27:02 1.4 STATUS COMPLETED Deleting RnBDiffMeth disk dump files from disk
2020-04-15 05:27:02 1.4 STATUS STARTED Deleting RnBDiffMeth disk dump files from disk
2020-04-15 05:27:02 1.4 STATUS COMPLETED Deleting RnBDiffMeth disk dump files from disk
2020-04-15 05:27:03 1.4 STATUS STARTED Deleting RnBDiffMeth disk dump files from disk
2020-04-15 05:27:03 1.4 STATUS COMPLETED Deleting RnBDiffMeth disk dump files from disk
2020-04-15 05:27:03 1.4 STATUS COMPLETED Destructor
2020-04-15 05:27:03 1.4 STATUS COMPLETED Testing class: RnBDiffMeth
2020-04-15 05:27:03 1.4 STATUS COMPLETED Testing function: apply.iEVORA
2020-04-15 05:27:04 1.4 STATUS STARTED iEVORA method
2020-04-15 05:27:05 1.4 INFO No DVCs detected. All p-values set to 1.
Coefficients not estimable: x2x2
2020-04-15 05:27:05 1.4 STATUS STARTED Retrieving comparison info
2020-04-15 05:27:06 1.4 STATUS COMPLETED Retrieving comparison info
2020-04-15 05:27:06 1.4 STATUS STARTED Computing differential methylation tables
2020-04-15 05:27:06 1.4 STATUS STARTED Comparing: hESC vs. hiPSC (based on Sample_Group)
2020-04-15 05:27:06 1.4 STATUS STARTED Computing Differential Methylation Table
2020-04-15 05:27:06 1.4 INFO Conducting differential analysis using limma
2020-04-15 05:27:07 1.4 STATUS COMPLETED Computing Differential Methylation Table
2020-04-15 05:27:07 1.4 STATUS STARTED Computing Differential Methylation Tables (Region Level)
2020-04-15 05:27:08 1.4 STATUS Computed table for tiling
2020-04-15 05:27:08 1.4 STATUS Computed table for genes
2020-04-15 05:27:09 1.4 STATUS Computed table for promoters
2020-04-15 05:27:09 1.4 STATUS Computed table for cpgislands
2020-04-15 05:27:10 1.4 STATUS COMPLETED Computing Differential Methylation Tables (Region Level)
2020-04-15 05:27:10 1.4 STATUS COMPLETED Comparing: hESC vs. hiPSC (based on Sample_Group)
2020-04-15 05:27:10 1.4 STATUS STARTED Comparing: KOSR vs. TeSR (based on Treatment)
2020-04-15 05:27:10 1.4 STATUS STARTED Computing Differential Methylation Table
2020-04-15 05:27:10 1.4 INFO Conducting differential analysis using limma
2020-04-15 05:27:11 1.4 STATUS COMPLETED Computing Differential Methylation Table
2020-04-15 05:27:11 1.4 STATUS STARTED Computing Differential Methylation Tables (Region Level)
2020-04-15 05:27:12 1.4 STATUS Computed table for tiling
2020-04-15 05:27:12 1.4 STATUS Computed table for genes
2020-04-15 05:27:13 1.4 STATUS Computed table for promoters
2020-04-15 05:27:14 1.4 STATUS Computed table for cpgislands
2020-04-15 05:27:14 1.4 STATUS COMPLETED Computing Differential Methylation Tables (Region Level)
2020-04-15 05:27:14 1.4 STATUS COMPLETED Comparing: KOSR vs. TeSR (based on Treatment)
2020-04-15 05:27:14 1.4 STATUS COMPLETED Computing differential methylation tables
2020-04-15 05:27:14 1.4 STATUS STARTED Retrieving comparison info
2020-04-15 05:27:15 1.4 STATUS COMPLETED Retrieving comparison info
2020-04-15 05:27:15 1.4 STATUS STARTED Computing differential methylation tables
2020-04-15 05:27:15 1.4 STATUS STARTED Comparing: hESC vs. hiPSC (based on Sample_Group)
2020-04-15 05:27:15 1.4 STATUS STARTED Computing Differential Methylation Table
2020-04-15 05:27:16 1.4 INFO Conducting differential analysis using limma
2020-04-15 05:27:16 1.4 STATUS STARTED Imputation procedure knn
2020-04-15 05:27:16 1.4 STATUS COMPLETED Imputation procedure knn
2020-04-15 05:27:16 1.4 INFO Conducting differential variability using diffVar
2020-04-15 05:27:16 1.4 STATUS STARTED diffVar method
2020-04-15 05:27:17 1.4 STATUS COMPLETED diffVar method
2020-04-15 05:27:17 1.4 STATUS COMPLETED Computing Differential Methylation Table
2020-04-15 05:27:17 1.4 STATUS STARTED Computing Differential Methylation Tables (Region Level)
2020-04-15 05:27:19 1.4 STATUS Computed table for tiling
2020-04-15 05:27:19 1.4 STATUS Computed table for genes
2020-04-15 05:27:20 1.4 STATUS Computed table for promoters
2020-04-15 05:27:21 1.4 STATUS Computed table for cpgislands
2020-04-15 05:27:21 1.4 STATUS COMPLETED Computing Differential Methylation Tables (Region Level)
2020-04-15 05:27:21 1.4 STATUS COMPLETED Comparing: hESC vs. hiPSC (based on Sample_Group)
2020-04-15 05:27:22 1.4 STATUS STARTED Comparing: KOSR vs. TeSR (based on Treatment)
2020-04-15 05:27:22 1.4 STATUS STARTED Computing Differential Methylation Table
2020-04-15 05:27:22 1.4 INFO Conducting differential analysis using limma
2020-04-15 05:27:22 1.4 STATUS STARTED Imputation procedure knn
2020-04-15 05:27:22 1.4 STATUS COMPLETED Imputation procedure knn
2020-04-15 05:27:23 1.4 INFO Conducting differential variability using diffVar
2020-04-15 05:27:23 1.4 STATUS STARTED diffVar method
2020-04-15 05:27:23 1.4 STATUS COMPLETED diffVar method
2020-04-15 05:27:23 1.4 STATUS COMPLETED Computing Differential Methylation Table
2020-04-15 05:27:24 1.4 STATUS STARTED Computing Differential Methylation Tables (Region Level)
2020-04-15 05:27:25 1.4 STATUS Computed table for tiling
2020-04-15 05:27:26 1.4 STATUS Computed table for genes
2020-04-15 05:27:27 1.4 STATUS Computed table for promoters
2020-04-15 05:27:27 1.4 STATUS Computed table for cpgislands
2020-04-15 05:27:28 1.4 STATUS COMPLETED Computing Differential Methylation Tables (Region Level)
2020-04-15 05:27:28 1.4 STATUS COMPLETED Comparing: KOSR vs. TeSR (based on Treatment)
2020-04-15 05:27:28 1.4 STATUS COMPLETED Computing differential methylation tables
2020-04-15 05:27:28 1.4 STATUS STARTED Differential Variability
2020-04-15 05:27:29 1.4 STATUS STARTED Retrieving comparison info
2020-04-15 05:27:29 1.4 STATUS COMPLETED Retrieving comparison info
2020-04-15 05:27:29 1.4 STATUS STARTED Imputation procedure knn
2020-04-15 05:27:29 1.4 STATUS COMPLETED Imputation procedure knn
2020-04-15 05:27:29 1.4 STATUS STARTED Comparing hESC vs. hiPSC (based on Sample_Group)
2020-04-15 05:27:30 1.4 INFO Conducting differential variability using diffVar
2020-04-15 05:27:30 1.4 STATUS STARTED diffVar method
2020-04-15 05:27:30 1.4 STATUS COMPLETED diffVar method
2020-04-15 05:27:30 1.4 STATUS STARTED Computing Differential Variability Tables (Region Level)
2020-04-15 05:27:31 1.4 STATUS Computed table for tiling
2020-04-15 05:27:32 1.4 STATUS Computed table for genes
2020-04-15 05:27:32 1.4 STATUS Computed table for promoters
2020-04-15 05:27:33 1.4 STATUS Computed table for cpgislands
2020-04-15 05:27:33 1.4 STATUS COMPLETED Computing Differential Variability Tables (Region Level)
2020-04-15 05:27:33 1.4 STATUS COMPLETED Comparing hESC vs. hiPSC (based on Sample_Group)
2020-04-15 05:27:33 1.4 STATUS STARTED Comparing KOSR vs. TeSR (based on Treatment)
2020-04-15 05:27:33 1.4 INFO Conducting differential variability using diffVar
2020-04-15 05:27:34 1.4 STATUS STARTED diffVar method
2020-04-15 05:27:34 1.4 STATUS COMPLETED diffVar method
2020-04-15 05:27:34 1.4 STATUS STARTED Computing Differential Variability Tables (Region Level)
2020-04-15 05:27:35 1.4 STATUS Computed table for tiling
2020-04-15 05:27:35 1.4 STATUS Computed table for genes
2020-04-15 05:27:36 1.4 STATUS Computed table for promoters
2020-04-15 05:27:36 1.4 STATUS Computed table for cpgislands
2020-04-15 05:27:37 1.4 STATUS COMPLETED Computing Differential Variability Tables (Region Level)
2020-04-15 05:27:37 1.4 STATUS COMPLETED Comparing KOSR vs. TeSR (based on Treatment)
2020-04-15 05:27:37 1.4 STATUS COMPLETED Differential Variability
2020-04-15 05:27:37 1.4 STATUS STARTED Analysis
2020-04-15 05:27:38 1.4 INFO Loaded information from data.RData
2020-04-15 05:27:38 1.4 STATUS STARTED Processing Detection P-values
2020-04-15 05:27:38 1.4 INFO Removed 3979 probes that overlap with SNPs
2020-04-15 05:27:38 1.4 INFO Completed Greedycut on 510 samples
2020-04-15 05:27:38 1.4 STATUS COMPLETED Processing Detection P-values
2020-04-15 05:27:39 1.4 WARNING File not found: data2.RData
2020-04-15 05:27:39 1.4 STATUS COMPLETED Analysis
2020-04-15 05:27:39 1.4 STATUS STARTED Testing imputation
2020-04-15 05:27:39 1.4 STATUS STARTED Imputation procedure knn
2020-04-15 05:27:41 1.4 STATUS COMPLETED Imputation procedure knn
2020-04-15 05:27:41 1.4 STATUS STARTED Imputation procedure mean.samples
2020-04-15 05:27:42 1.4 STATUS COMPLETED Imputation procedure mean.samples
2020-04-15 05:27:42 1.4 STATUS STARTED Imputation procedure mean.cpgs
2020-04-15 05:27:43 1.4 STATUS COMPLETED Imputation procedure mean.cpgs
2020-04-15 05:27:44 1.4 STATUS STARTED Imputation procedure random
2020-04-15 05:27:45 1.4 STATUS COMPLETED Imputation procedure random
2020-04-15 05:27:45 1.4 STATUS COMPLETED Testing imputation
2020-04-15 05:27:45 1.4 STATUS STARTED Testing age prediction
2020-04-15 05:27:45 1.4 STATUS STARTED Performing Age Prediction
2020-04-15 05:27:49 1.3 STATUS COMPLETED Performing Age Prediction
2020-04-15 05:27:49 1.3 STATUS COMPLETED Testing age prediction
2020-04-15 05:27:50 1.3 STATUS STARTED Performing Age Prediction
2020-04-15 05:27:54 1.4 STATUS COMPLETED Performing Age Prediction
2020-04-15 05:27:54 1.4 STATUS STARTED Imputation procedure knn
2020-04-15 05:27:55 1.4 STATUS COMPLETED Imputation procedure knn
2020-04-15 05:27:55 1.4 STATUS STARTED Imputation procedure mean.samples
2020-04-15 05:27:56 1.4 STATUS COMPLETED Imputation procedure mean.samples
2020-04-15 05:27:57 1.4 STATUS STARTED Imputation procedure mean.cpgs
2020-04-15 05:27:58 1.4 STATUS COMPLETED Imputation procedure mean.cpgs
2020-04-15 05:27:58 1.4 STATUS STARTED Imputation procedure random
2020-04-15 05:27:59 1.4 STATUS COMPLETED Imputation procedure random
2020-04-15 05:27:59 1.4 STATUS STARTED Testing imputation
2020-04-15 05:27:59 1.4 STATUS STARTED Imputation procedure knn
2020-04-15 05:28:00 1.4 STATUS COMPLETED Imputation procedure knn
2020-04-15 05:28:00 1.4 STATUS STARTED Imputation procedure mean.samples
2020-04-15 05:28:01 1.4 STATUS COMPLETED Imputation procedure mean.samples
2020-04-15 05:28:01 1.4 STATUS STARTED Imputation procedure mean.cpgs
2020-04-15 05:28:02 1.4 STATUS COMPLETED Imputation procedure mean.cpgs
2020-04-15 05:28:03 1.4 STATUS STARTED Imputation procedure random
2020-04-15 05:28:04 1.4 STATUS COMPLETED Imputation procedure random
2020-04-15 05:28:04 1.4 STATUS COMPLETED Testing imputation
2020-04-15 05:28:04 1.4 STATUS STARTED Testing age prediction
2020-04-15 05:28:04 1.4 STATUS STARTED Performing Age Prediction
2020-04-15 05:28:07 1.5 STATUS COMPLETED Performing Age Prediction
2020-04-15 05:28:08 1.5 STATUS COMPLETED Testing age prediction
RUNIT TEST PROTOCOL -- Wed Apr 15 05:28:19 2020
***********************************************
Number of test functions: 23
Number of errors: 0
Number of failures: 0
1 Test Suite :
RnBeads RUnit Tests - 23 test functions, 0 errors, 0 failures
Number of test functions: 23
Number of errors: 0
Number of failures: 0
There were 37 warnings (use warnings() to see them)
>
> proc.time()
user system elapsed
160.068 123.650 287.352
Example timings
RnBeads.Rcheck/RnBeads-Ex.timings