Back to Multiple platform build/check report for BioC 3.10 |
|
This page was generated on 2020-04-15 12:33:03 -0400 (Wed, 15 Apr 2020).
Package 1606/1823 | Hostname | OS / Arch | INSTALL | BUILD | CHECK | BUILD BIN | ||||||
SingleR 1.0.6 Aaron Lun
| malbec1 | Linux (Ubuntu 18.04.4 LTS) / x86_64 | OK | OK | WARNINGS | ![]() | ||||||
tokay1 | Windows Server 2012 R2 Standard / x64 | OK | [ OK ] | WARNINGS | OK | ![]() | ||||||
merida1 | OS X 10.11.6 El Capitan / x86_64 | OK | OK | WARNINGS | OK | ![]() |
Package: SingleR |
Version: 1.0.6 |
Command: chmod a+r SingleR -R && C:\Users\biocbuild\bbs-3.10-bioc\R\bin\R.exe CMD build --keep-empty-dirs --no-resave-data SingleR |
StartedAt: 2020-04-15 00:46:38 -0400 (Wed, 15 Apr 2020) |
EndedAt: 2020-04-15 00:51:11 -0400 (Wed, 15 Apr 2020) |
EllapsedTime: 272.9 seconds |
RetCode: 0 |
Status: OK |
PackageFile: SingleR_1.0.6.tar.gz |
PackageFileSize: 532 KiB |
############################################################################## ############################################################################## ### ### Running command: ### ### chmod a+r SingleR -R && C:\Users\biocbuild\bbs-3.10-bioc\R\bin\R.exe CMD build --keep-empty-dirs --no-resave-data SingleR ### ############################################################################## ############################################################################## * checking for file 'SingleR/DESCRIPTION' ... OK * preparing 'SingleR': * checking DESCRIPTION meta-information ... OK * cleaning src * installing the package to build vignettes * creating vignettes ... OK * cleaning src * checking for LF line-endings in source and make files and shell scripts * checking for empty or unneeded directories * building 'SingleR_1.0.6.tar.gz'