Back to Multiple platform build/check report for BioC 3.10 |
|
This page was generated on 2020-04-15 12:36:13 -0400 (Wed, 15 Apr 2020).
Package 262/1823 | Hostname | OS / Arch | INSTALL | BUILD | CHECK | BUILD BIN | ||||||
Peter Murakami
| malbec1 | Linux (Ubuntu 18.04.4 LTS) / x86_64 | ERROR | ERROR | skipped | |||||||
tokay1 | Windows Server 2012 R2 Standard / x64 | ERROR | ERROR | skipped | skipped | |||||||
merida1 | OS X 10.11.6 El Capitan / x86_64 | ERROR | [ ERROR ] | skipped | skipped |
Package: charm |
Version: 2.32.0 |
Command: /Library/Frameworks/R.framework/Versions/Current/Resources/bin/R CMD build --keep-empty-dirs --no-resave-data charm |
StartedAt: 2020-04-14 20:11:01 -0400 (Tue, 14 Apr 2020) |
EndedAt: 2020-04-14 20:11:17 -0400 (Tue, 14 Apr 2020) |
EllapsedTime: 15.9 seconds |
RetCode: 1 |
Status: ERROR |
PackageFile: None |
PackageFileSize: NA |
############################################################################## ############################################################################## ### ### Running command: ### ### /Library/Frameworks/R.framework/Versions/Current/Resources/bin/R CMD build --keep-empty-dirs --no-resave-data charm ### ############################################################################## ############################################################################## * checking for file ‘charm/DESCRIPTION’ ... OK * preparing ‘charm’: * checking DESCRIPTION meta-information ... OK * installing the package to build vignettes ----------------------------------- * installing *source* package ‘charm’ ... ** using staged installation ** R ** inst ** byte-compile and prepare package for lazy loading No methods found in package ‘RSQLite’ for request: ‘dbListFields’ when loading ‘oligo’ Error: object ‘ebayes’ is not exported by 'namespace:limma' Execution halted ERROR: lazy loading failed for package ‘charm’ * removing ‘/private/tmp/RtmppSoTf5/Rinst11ba24c3209b/charm’ ----------------------------------- ERROR: package installation failed