Back to Multiple platform build/check report for BioC 3.10 |
|
This page was generated on 2020-04-15 12:36:13 -0400 (Wed, 15 Apr 2020).
Package 262/1823 | Hostname | OS / Arch | INSTALL | BUILD | CHECK | BUILD BIN | ||||||
Peter Murakami
| malbec1 | Linux (Ubuntu 18.04.4 LTS) / x86_64 | ERROR | ERROR | skipped | |||||||
tokay1 | Windows Server 2012 R2 Standard / x64 | ERROR | ERROR | skipped | skipped | |||||||
merida1 | OS X 10.11.6 El Capitan / x86_64 | [ ERROR ] | ERROR | skipped | skipped |
Package: charm |
Version: 2.32.0 |
Command: /Library/Frameworks/R.framework/Versions/Current/Resources/bin/R CMD INSTALL charm |
StartedAt: 2020-04-14 19:13:55 -0400 (Tue, 14 Apr 2020) |
EndedAt: 2020-04-14 19:14:26 -0400 (Tue, 14 Apr 2020) |
EllapsedTime: 30.5 seconds |
RetCode: 1 |
Status: ERROR |
############################################################################## ############################################################################## ### ### Running command: ### ### /Library/Frameworks/R.framework/Versions/Current/Resources/bin/R CMD INSTALL charm ### ############################################################################## ############################################################################## * installing to library ‘/Library/Frameworks/R.framework/Versions/3.6/Resources/library’ * installing *source* package ‘charm’ ... ** using staged installation ** R ** inst ** byte-compile and prepare package for lazy loading No methods found in package ‘RSQLite’ for request: ‘dbListFields’ when loading ‘oligo’ Error: object ‘ebayes’ is not exported by 'namespace:limma' Execution halted ERROR: lazy loading failed for package ‘charm’ * removing ‘/Library/Frameworks/R.framework/Versions/3.6/Resources/library/charm’