Back to Multiple platform build/check report for BioC 3.10 |
|
This page was generated on 2020-04-15 12:07:16 -0400 (Wed, 15 Apr 2020).
Package 283/1823 | Hostname | OS / Arch | INSTALL | BUILD | CHECK | BUILD BIN | ||||||
chroGPS 2.4.0 Oscar Reina
| malbec1 | Linux (Ubuntu 18.04.4 LTS) / x86_64 | [ ERROR ] | ERROR | skipped | |||||||
tokay1 | Windows Server 2012 R2 Standard / x64 | ERROR | ERROR | skipped | skipped | |||||||
merida1 | OS X 10.11.6 El Capitan / x86_64 | ERROR | ERROR | skipped | skipped |
Package: chroGPS |
Version: 2.4.0 |
Command: /home/biocbuild/bbs-3.10-bioc/R/bin/R CMD INSTALL chroGPS |
StartedAt: 2020-04-14 19:21:30 -0400 (Tue, 14 Apr 2020) |
EndedAt: 2020-04-14 19:21:31 -0400 (Tue, 14 Apr 2020) |
EllapsedTime: 0.5 seconds |
RetCode: 1 |
Status: ERROR |
############################################################################## ############################################################################## ### ### Running command: ### ### /home/biocbuild/bbs-3.10-bioc/R/bin/R CMD INSTALL chroGPS ### ############################################################################## ############################################################################## * installing to library ‘/home/biocbuild/bbs-3.10-bioc/R/library’ ERROR: dependency ‘DPpackage’ is not available for package ‘chroGPS’ * removing ‘/home/biocbuild/bbs-3.10-bioc/R/library/chroGPS’