Back to Multiple platform build/check report for BioC 3.10 |
|
This page was generated on 2020-04-15 12:21:05 -0400 (Wed, 15 Apr 2020).
Package 283/1823 | Hostname | OS / Arch | INSTALL | BUILD | CHECK | BUILD BIN | ||||||
chroGPS 2.4.0 Oscar Reina
| malbec1 | Linux (Ubuntu 18.04.4 LTS) / x86_64 | ERROR | ERROR | skipped | |||||||
tokay1 | Windows Server 2012 R2 Standard / x64 | [ ERROR ] | ERROR | skipped | skipped | |||||||
merida1 | OS X 10.11.6 El Capitan / x86_64 | ERROR | ERROR | skipped | skipped |
Package: chroGPS |
Version: 2.4.0 |
Command: C:\cygwin\bin\curl.exe -O https://malbec1.bioconductor.org/BBS/3.10/bioc/src/contrib/chroGPS_2.4.0.tar.gz && rm -rf chroGPS.buildbin-libdir && mkdir chroGPS.buildbin-libdir && C:\Users\biocbuild\bbs-3.10-bioc\R\bin\R.exe CMD INSTALL --merge-multiarch --build --library=chroGPS.buildbin-libdir chroGPS_2.4.0.tar.gz && C:\Users\biocbuild\bbs-3.10-bioc\R\bin\R.exe CMD INSTALL chroGPS_2.4.0.zip && rm chroGPS_2.4.0.tar.gz chroGPS_2.4.0.zip |
StartedAt: 2020-04-14 20:42:10 -0400 (Tue, 14 Apr 2020) |
EndedAt: 2020-04-14 20:42:11 -0400 (Tue, 14 Apr 2020) |
EllapsedTime: 1.5 seconds |
RetCode: 1 |
Status: ERROR |
############################################################################## ############################################################################## ### ### Running command: ### ### C:\cygwin\bin\curl.exe -O https://malbec1.bioconductor.org/BBS/3.10/bioc/src/contrib/chroGPS_2.4.0.tar.gz && rm -rf chroGPS.buildbin-libdir && mkdir chroGPS.buildbin-libdir && C:\Users\biocbuild\bbs-3.10-bioc\R\bin\R.exe CMD INSTALL --merge-multiarch --build --library=chroGPS.buildbin-libdir chroGPS_2.4.0.tar.gz && C:\Users\biocbuild\bbs-3.10-bioc\R\bin\R.exe CMD INSTALL chroGPS_2.4.0.zip && rm chroGPS_2.4.0.tar.gz chroGPS_2.4.0.zip ### ############################################################################## ############################################################################## % Total % Received % Xferd Average Speed Time Time Time Current Dload Upload Total Spent Left Speed 0 0 0 0 0 0 0 0 --:--:-- --:--:-- --:--:-- 0 0 3981k 0 0 0 0 0 0 --:--:-- --:--:-- --:--:-- 0 100 3981k 100 3981k 0 0 6453k 0 --:--:-- --:--:-- --:--:-- 6473k install for i386 ERROR: dependency 'DPpackage' is not available for package 'chroGPS' * removing 'C:/Users/biocbuild/bbs-3.10-bioc/meat/chroGPS.buildbin-libdir/chroGPS'