Back to Multiple platform build/check report for BioC 3.10 |
|
This page was generated on 2020-04-15 12:18:57 -0400 (Wed, 15 Apr 2020).
Package 298/1823 | Hostname | OS / Arch | INSTALL | BUILD | CHECK | BUILD BIN | ||||||
clippda 1.36.0 Stephen Nyangoma
| malbec1 | Linux (Ubuntu 18.04.4 LTS) / x86_64 | OK | OK | WARNINGS | ![]() | ||||||
tokay1 | Windows Server 2012 R2 Standard / x64 | ERROR | OK | ERROR | [ ERROR ] | |||||||
merida1 | OS X 10.11.6 El Capitan / x86_64 | OK | OK | WARNINGS | OK | ![]() |
Package: clippda |
Version: 1.36.0 |
Command: rm -rf clippda.buildbin-libdir && mkdir clippda.buildbin-libdir && C:\Users\biocbuild\bbs-3.10-bioc\R\bin\R.exe CMD INSTALL --merge-multiarch --build --library=clippda.buildbin-libdir clippda_1.36.0.tar.gz |
StartedAt: 2020-04-15 08:25:27 -0400 (Wed, 15 Apr 2020) |
EndedAt: 2020-04-15 08:25:37 -0400 (Wed, 15 Apr 2020) |
EllapsedTime: 9.6 seconds |
RetCode: 1 |
Status: ERROR |
PackageFile: None |
PackageFileSize: NA |
############################################################################## ############################################################################## ### ### Running command: ### ### rm -rf clippda.buildbin-libdir && mkdir clippda.buildbin-libdir && C:\Users\biocbuild\bbs-3.10-bioc\R\bin\R.exe CMD INSTALL --merge-multiarch --build --library=clippda.buildbin-libdir clippda_1.36.0.tar.gz ### ############################################################################## ############################################################################## install for i386 * installing *source* package 'clippda' ... ** using staged installation ** R ** data ** inst ** byte-compile and prepare package for lazy loading Error: package 'rgl' is not installed for 'arch = i386' Execution halted ERROR: lazy loading failed for package 'clippda' * removing 'C:/Users/biocbuild/bbs-3.10-bioc/meat/clippda.buildbin-libdir/clippda'