Back to Multiple platform build/check report for BioC 3.10 |
|
This page was generated on 2020-04-15 12:18:57 -0400 (Wed, 15 Apr 2020).
Package 298/1823 | Hostname | OS / Arch | INSTALL | BUILD | CHECK | BUILD BIN | ||||||
clippda 1.36.0 Stephen Nyangoma
| malbec1 | Linux (Ubuntu 18.04.4 LTS) / x86_64 | OK | OK | WARNINGS | |||||||
tokay1 | Windows Server 2012 R2 Standard / x64 | [ ERROR ] | OK | ERROR | ERROR | |||||||
merida1 | OS X 10.11.6 El Capitan / x86_64 | OK | OK | WARNINGS | OK |
Package: clippda |
Version: 1.36.0 |
Command: C:\cygwin\bin\curl.exe -O https://malbec1.bioconductor.org/BBS/3.10/bioc/src/contrib/clippda_1.36.0.tar.gz && rm -rf clippda.buildbin-libdir && mkdir clippda.buildbin-libdir && C:\Users\biocbuild\bbs-3.10-bioc\R\bin\R.exe CMD INSTALL --merge-multiarch --build --library=clippda.buildbin-libdir clippda_1.36.0.tar.gz && C:\Users\biocbuild\bbs-3.10-bioc\R\bin\R.exe CMD INSTALL clippda_1.36.0.zip && rm clippda_1.36.0.tar.gz clippda_1.36.0.zip |
StartedAt: 2020-04-14 18:54:29 -0400 (Tue, 14 Apr 2020) |
EndedAt: 2020-04-14 18:54:49 -0400 (Tue, 14 Apr 2020) |
EllapsedTime: 20.4 seconds |
RetCode: 1 |
Status: ERROR |
############################################################################## ############################################################################## ### ### Running command: ### ### C:\cygwin\bin\curl.exe -O https://malbec1.bioconductor.org/BBS/3.10/bioc/src/contrib/clippda_1.36.0.tar.gz && rm -rf clippda.buildbin-libdir && mkdir clippda.buildbin-libdir && C:\Users\biocbuild\bbs-3.10-bioc\R\bin\R.exe CMD INSTALL --merge-multiarch --build --library=clippda.buildbin-libdir clippda_1.36.0.tar.gz && C:\Users\biocbuild\bbs-3.10-bioc\R\bin\R.exe CMD INSTALL clippda_1.36.0.zip && rm clippda_1.36.0.tar.gz clippda_1.36.0.zip ### ############################################################################## ############################################################################## % Total % Received % Xferd Average Speed Time Time Time Current Dload Upload Total Spent Left Speed 0 0 0 0 0 0 0 0 --:--:-- --:--:-- --:--:-- 0 100 419k 100 419k 0 0 7731k 0 --:--:-- --:--:-- --:--:-- 8216k install for i386 * installing *source* package 'clippda' ... ** using staged installation ** R ** data ** inst ** byte-compile and prepare package for lazy loading Error: package 'rgl' is not installed for 'arch = i386' Execution halted ERROR: lazy loading failed for package 'clippda' * removing 'C:/Users/biocbuild/bbs-3.10-bioc/meat/clippda.buildbin-libdir/clippda'