Back to Multiple platform build/check report for BioC 3.10 |
|
This page was generated on 2020-04-15 12:46:54 -0400 (Wed, 15 Apr 2020).
Package 473/1823 | Hostname | OS / Arch | INSTALL | BUILD | CHECK | BUILD BIN | ||||||
dmrseq 1.6.0 Keegan Korthauer
| malbec1 | Linux (Ubuntu 18.04.4 LTS) / x86_64 | OK | OK | WARNINGS | ![]() | ||||||
tokay1 | Windows Server 2012 R2 Standard / x64 | OK | OK | WARNINGS | OK | ![]() | ||||||
merida1 | OS X 10.11.6 El Capitan / x86_64 | OK | OK | WARNINGS | [ OK ] | ![]() |
Package: dmrseq |
Version: 1.6.0 |
Command: rm -rf dmrseq.buildbin-libdir && mkdir dmrseq.buildbin-libdir && /Users/biocbuild/BBS/utils/build-universal.sh dmrseq_1.6.0.tar.gz /Library/Frameworks/R.framework/Versions/Current/Resources/bin/R dmrseq.buildbin-libdir |
StartedAt: 2020-04-15 07:19:57 -0400 (Wed, 15 Apr 2020) |
EndedAt: 2020-04-15 07:20:53 -0400 (Wed, 15 Apr 2020) |
EllapsedTime: 56.0 seconds |
RetCode: 0 |
Status: OK |
PackageFile: dmrseq_1.6.0.tgz |
PackageFileSize: 8.172 MiB |
############################################################################## ############################################################################## ### ### Running command: ### ### rm -rf dmrseq.buildbin-libdir && mkdir dmrseq.buildbin-libdir && /Users/biocbuild/BBS/utils/build-universal.sh dmrseq_1.6.0.tar.gz /Library/Frameworks/R.framework/Versions/Current/Resources/bin/R dmrseq.buildbin-libdir ### ############################################################################## ############################################################################## >>>>>>> >>>>>>> INSTALLATION WITH 'R CMD INSTALL --preclean --no-multiarch --library=dmrseq.buildbin-libdir dmrseq_1.6.0.tar.gz' >>>>>>> * installing *source* package ‘dmrseq’ ... ** using staged installation ** R ** data *** moving datasets to lazyload DB ** inst ** byte-compile and prepare package for lazy loading ** help *** installing help indices ** building package indices ** installing vignettes ** testing if installed package can be loaded from temporary location ** testing if installed package can be loaded from final location ** testing if installed package keeps a record of temporary installation path * DONE (dmrseq)