Back to Multiple platform build/check report for BioC 3.10 |
|
This page was generated on 2020-04-15 12:29:57 -0400 (Wed, 15 Apr 2020).
Package 473/1823 | Hostname | OS / Arch | INSTALL | BUILD | CHECK | BUILD BIN | ||||||
dmrseq 1.6.0 Keegan Korthauer
| malbec1 | Linux (Ubuntu 18.04.4 LTS) / x86_64 | OK | OK | WARNINGS | |||||||
tokay1 | Windows Server 2012 R2 Standard / x64 | [ OK ] | OK | WARNINGS | OK | |||||||
merida1 | OS X 10.11.6 El Capitan / x86_64 | OK | OK | WARNINGS | OK |
Package: dmrseq |
Version: 1.6.0 |
Command: C:\cygwin\bin\curl.exe -O https://malbec1.bioconductor.org/BBS/3.10/bioc/src/contrib/dmrseq_1.6.0.tar.gz && rm -rf dmrseq.buildbin-libdir && mkdir dmrseq.buildbin-libdir && C:\Users\biocbuild\bbs-3.10-bioc\R\bin\R.exe CMD INSTALL --merge-multiarch --build --library=dmrseq.buildbin-libdir dmrseq_1.6.0.tar.gz && C:\Users\biocbuild\bbs-3.10-bioc\R\bin\R.exe CMD INSTALL dmrseq_1.6.0.zip && rm dmrseq_1.6.0.tar.gz dmrseq_1.6.0.zip |
StartedAt: 2020-04-14 20:32:10 -0400 (Tue, 14 Apr 2020) |
EndedAt: 2020-04-14 20:33:30 -0400 (Tue, 14 Apr 2020) |
EllapsedTime: 80.4 seconds |
RetCode: 0 |
Status: OK |
############################################################################## ############################################################################## ### ### Running command: ### ### C:\cygwin\bin\curl.exe -O https://malbec1.bioconductor.org/BBS/3.10/bioc/src/contrib/dmrseq_1.6.0.tar.gz && rm -rf dmrseq.buildbin-libdir && mkdir dmrseq.buildbin-libdir && C:\Users\biocbuild\bbs-3.10-bioc\R\bin\R.exe CMD INSTALL --merge-multiarch --build --library=dmrseq.buildbin-libdir dmrseq_1.6.0.tar.gz && C:\Users\biocbuild\bbs-3.10-bioc\R\bin\R.exe CMD INSTALL dmrseq_1.6.0.zip && rm dmrseq_1.6.0.tar.gz dmrseq_1.6.0.zip ### ############################################################################## ############################################################################## % Total % Received % Xferd Average Speed Time Time Time Current Dload Upload Total Spent Left Speed 0 0 0 0 0 0 0 0 --:--:-- --:--:-- --:--:-- 0 16 2286k 16 384k 0 0 1142k 0 0:00:02 --:--:-- 0:00:02 1153k 100 2286k 100 2286k 0 0 5427k 0 --:--:-- --:--:-- --:--:-- 5470k install for i386 * installing *source* package 'dmrseq' ... ** using staged installation ** R ** data *** moving datasets to lazyload DB ** inst ** byte-compile and prepare package for lazy loading ** help *** installing help indices converting help for package 'dmrseq' finding HTML links ... done BS.chr21 html annot.chr21 html dmrPlotAnnotations html dmrs.ex html dmrseq html getAnnot html meanDiff html plotDMRs html plotEmpiricalDistribution html simDMRs html ** building package indices ** installing vignettes ** testing if installed package can be loaded from temporary location ** testing if installed package can be loaded from final location ** testing if installed package keeps a record of temporary installation path install for x64 * installing *source* package 'dmrseq' ... ** testing if installed package can be loaded * MD5 sums packaged installation of 'dmrseq' as dmrseq_1.6.0.zip * DONE (dmrseq) * installing to library 'C:/Users/biocbuild/bbs-3.10-bioc/R/library' package 'dmrseq' successfully unpacked and MD5 sums checked