Back to Multiple platform build/check report for BioC 3.10 |
|
This page was generated on 2020-04-15 12:49:20 -0400 (Wed, 15 Apr 2020).
Package 524/1823 | Hostname | OS / Arch | INSTALL | BUILD | CHECK | BUILD BIN | ||||||
enrichTF 1.2.3 Zheng Wei
| malbec1 | Linux (Ubuntu 18.04.4 LTS) / x86_64 | OK | OK | OK | ![]() | ||||||
tokay1 | Windows Server 2012 R2 Standard / x64 | OK | OK | OK | OK | ![]() | ||||||
merida1 | OS X 10.11.6 El Capitan / x86_64 | OK | OK | OK | [ OK ] | ![]() |
Package: enrichTF |
Version: 1.2.3 |
Command: rm -rf enrichTF.buildbin-libdir && mkdir enrichTF.buildbin-libdir && /Users/biocbuild/BBS/utils/build-universal.sh enrichTF_1.2.3.tar.gz /Library/Frameworks/R.framework/Versions/Current/Resources/bin/R enrichTF.buildbin-libdir |
StartedAt: 2020-04-15 07:23:41 -0400 (Wed, 15 Apr 2020) |
EndedAt: 2020-04-15 07:24:28 -0400 (Wed, 15 Apr 2020) |
EllapsedTime: 47.1 seconds |
RetCode: 0 |
Status: OK |
PackageFile: enrichTF_1.2.3.tgz |
PackageFileSize: 1.608 MiB |
############################################################################## ############################################################################## ### ### Running command: ### ### rm -rf enrichTF.buildbin-libdir && mkdir enrichTF.buildbin-libdir && /Users/biocbuild/BBS/utils/build-universal.sh enrichTF_1.2.3.tar.gz /Library/Frameworks/R.framework/Versions/Current/Resources/bin/R enrichTF.buildbin-libdir ### ############################################################################## ############################################################################## >>>>>>> >>>>>>> INSTALLATION WITH 'R CMD INSTALL --preclean --no-multiarch --library=enrichTF.buildbin-libdir enrichTF_1.2.3.tar.gz' >>>>>>> * installing *source* package ‘enrichTF’ ... ** using staged installation ** R ** inst ** byte-compile and prepare package for lazy loading No methods found in package ‘IRanges’ for request: ‘score’ when loading ‘TFBSTools’ ** help *** installing help indices ** building package indices ** installing vignettes ** testing if installed package can be loaded from temporary location No methods found in package ‘IRanges’ for request: ‘score’ when loading ‘TFBSTools’ ** testing if installed package can be loaded from final location No methods found in package ‘IRanges’ for request: ‘score’ when loading ‘TFBSTools’ ** testing if installed package keeps a record of temporary installation path * DONE (enrichTF)