Back to Multiple platform build/check report for BioC 3.10 |
|
This page was generated on 2020-04-15 12:32:25 -0400 (Wed, 15 Apr 2020).
Package 524/1823 | Hostname | OS / Arch | INSTALL | BUILD | CHECK | BUILD BIN | ||||||
enrichTF 1.2.3 Zheng Wei
| malbec1 | Linux (Ubuntu 18.04.4 LTS) / x86_64 | OK | OK | OK | |||||||
tokay1 | Windows Server 2012 R2 Standard / x64 | OK | [ OK ] | OK | OK | |||||||
merida1 | OS X 10.11.6 El Capitan / x86_64 | OK | OK | OK | OK |
Package: enrichTF |
Version: 1.2.3 |
Command: chmod a+r enrichTF -R && C:\Users\biocbuild\bbs-3.10-bioc\R\bin\R.exe CMD build --keep-empty-dirs --no-resave-data enrichTF |
StartedAt: 2020-04-15 00:40:25 -0400 (Wed, 15 Apr 2020) |
EndedAt: 2020-04-15 00:41:53 -0400 (Wed, 15 Apr 2020) |
EllapsedTime: 88.5 seconds |
RetCode: 0 |
Status: OK |
PackageFile: enrichTF_1.2.3.tar.gz |
PackageFileSize: 1.479 MiB |
############################################################################## ############################################################################## ### ### Running command: ### ### chmod a+r enrichTF -R && C:\Users\biocbuild\bbs-3.10-bioc\R\bin\R.exe CMD build --keep-empty-dirs --no-resave-data enrichTF ### ############################################################################## ############################################################################## * checking for file 'enrichTF/DESCRIPTION' ... OK * preparing 'enrichTF': * checking DESCRIPTION meta-information ... OK * installing the package to build vignettes * creating vignettes ... OK * checking for LF line-endings in source and make files and shell scripts * checking for empty or unneeded directories * building 'enrichTF_1.2.3.tar.gz'