Back to Multiple platform build/check report for BioC 3.10 |
|
This page was generated on 2020-04-15 12:17:08 -0400 (Wed, 15 Apr 2020).
Package 936/1823 | Hostname | OS / Arch | INSTALL | BUILD | CHECK | BUILD BIN | ||||||
macat 1.60.0 Joern Toedling
| malbec1 | Linux (Ubuntu 18.04.4 LTS) / x86_64 | OK | OK | WARNINGS | |||||||
tokay1 | Windows Server 2012 R2 Standard / x64 | OK | OK | WARNINGS | [ OK ] | |||||||
merida1 | OS X 10.11.6 El Capitan / x86_64 | OK | OK | WARNINGS | OK |
Package: macat |
Version: 1.60.0 |
Command: rm -rf macat.buildbin-libdir && mkdir macat.buildbin-libdir && C:\Users\biocbuild\bbs-3.10-bioc\R\bin\R.exe CMD INSTALL --merge-multiarch --build --library=macat.buildbin-libdir macat_1.60.0.tar.gz |
StartedAt: 2020-04-15 09:04:18 -0400 (Wed, 15 Apr 2020) |
EndedAt: 2020-04-15 09:05:06 -0400 (Wed, 15 Apr 2020) |
EllapsedTime: 47.7 seconds |
RetCode: 0 |
Status: OK |
PackageFile: macat_1.60.0.zip |
PackageFileSize: 988.8 KiB |
############################################################################## ############################################################################## ### ### Running command: ### ### rm -rf macat.buildbin-libdir && mkdir macat.buildbin-libdir && C:\Users\biocbuild\bbs-3.10-bioc\R\bin\R.exe CMD INSTALL --merge-multiarch --build --library=macat.buildbin-libdir macat_1.60.0.tar.gz ### ############################################################################## ############################################################################## install for i386 * installing *source* package 'macat' ... ** using staged installation ** R ** data ** demo ** inst ** byte-compile and prepare package for lazy loading ** help Warning: C:/Users/biocbuild/bbs-3.10-bioc/tmpdir/RtmpyAbcFM/R.INSTALL1a4816011af2/macat/man/loaddatapkg.Rd:24: unexpected '}' *** installing help indices converting help for package 'macat' finding HTML links ... done buildMACAT html compute_sliding html discreteKernelize html discretize html discretizeAll html discretize_tscores html evalScoring html evaluateParameters html get_results html html html kernelize html kernelizeAll html kernelizeToPython html kernels html loaddatapkg html macat-internal html plot_MACATevalScoring html preprocessedLoader html pythondata html scoring html stjd html ** building package indices ** installing vignettes ** testing if installed package can be loaded from temporary location ** testing if installed package can be loaded from final location ** testing if installed package keeps a record of temporary installation path install for x64 * installing *source* package 'macat' ... ** testing if installed package can be loaded * MD5 sums packaged installation of 'macat' as macat_1.60.0.zip * DONE (macat)