Back to Multiple platform build/check report for BioC 3.10 |
|
This page was generated on 2020-04-15 12:17:08 -0400 (Wed, 15 Apr 2020).
Package 936/1823 | Hostname | OS / Arch | INSTALL | BUILD | CHECK | BUILD BIN | ||||||
macat 1.60.0 Joern Toedling
| malbec1 | Linux (Ubuntu 18.04.4 LTS) / x86_64 | OK | OK | WARNINGS | ![]() | ||||||
tokay1 | Windows Server 2012 R2 Standard / x64 | OK | [ OK ] | WARNINGS | OK | ![]() | ||||||
merida1 | OS X 10.11.6 El Capitan / x86_64 | OK | OK | WARNINGS | OK | ![]() |
Package: macat |
Version: 1.60.0 |
Command: chmod a+r macat -R && C:\Users\biocbuild\bbs-3.10-bioc\R\bin\R.exe CMD build --keep-empty-dirs --no-resave-data macat |
StartedAt: 2020-04-14 20:48:52 -0400 (Tue, 14 Apr 2020) |
EndedAt: 2020-04-14 20:49:37 -0400 (Tue, 14 Apr 2020) |
EllapsedTime: 44.9 seconds |
RetCode: 0 |
Status: OK |
PackageFile: macat_1.60.0.tar.gz |
PackageFileSize: 1.013 MiB |
############################################################################## ############################################################################## ### ### Running command: ### ### chmod a+r macat -R && C:\Users\biocbuild\bbs-3.10-bioc\R\bin\R.exe CMD build --keep-empty-dirs --no-resave-data macat ### ############################################################################## ############################################################################## * checking for file 'macat/DESCRIPTION' ... OK * preparing 'macat': * checking DESCRIPTION meta-information ... OK Warning: C:/Users/biocbuild/bbs-3.10-bioc/tmpdir/RtmpiyMFRD/Rbuild1d887e8b716c/macat/man/loaddatapkg.Rd:24: unexpected '}' * installing the package to build vignettes * creating vignettes ... OK * checking for LF line-endings in source and make files and shell scripts * checking for empty or unneeded directories * looking to see if a 'data/datalist' file should be added * building 'macat_1.60.0.tar.gz'