Back to Multiple platform build/check report for BioC 3.10 |
|
This page was generated on 2020-04-15 12:42:25 -0400 (Wed, 15 Apr 2020).
Package 1085/1823 | Hostname | OS / Arch | INSTALL | BUILD | CHECK | BUILD BIN | ||||||
motifbreakR 2.0.0 Simon Gert Coetzee
| malbec1 | Linux (Ubuntu 18.04.4 LTS) / x86_64 | OK | OK | WARNINGS | |||||||
tokay1 | Windows Server 2012 R2 Standard / x64 | OK | OK | WARNINGS | OK | |||||||
merida1 | OS X 10.11.6 El Capitan / x86_64 | OK | OK | WARNINGS | [ OK ] |
Package: motifbreakR |
Version: 2.0.0 |
Command: rm -rf motifbreakR.buildbin-libdir && mkdir motifbreakR.buildbin-libdir && /Users/biocbuild/BBS/utils/build-universal.sh motifbreakR_2.0.0.tar.gz /Library/Frameworks/R.framework/Versions/Current/Resources/bin/R motifbreakR.buildbin-libdir |
StartedAt: 2020-04-15 08:06:37 -0400 (Wed, 15 Apr 2020) |
EndedAt: 2020-04-15 08:07:36 -0400 (Wed, 15 Apr 2020) |
EllapsedTime: 58.8 seconds |
RetCode: 0 |
Status: OK |
PackageFile: motifbreakR_2.0.0.tgz |
PackageFileSize: 2.802 MiB |
############################################################################## ############################################################################## ### ### Running command: ### ### rm -rf motifbreakR.buildbin-libdir && mkdir motifbreakR.buildbin-libdir && /Users/biocbuild/BBS/utils/build-universal.sh motifbreakR_2.0.0.tar.gz /Library/Frameworks/R.framework/Versions/Current/Resources/bin/R motifbreakR.buildbin-libdir ### ############################################################################## ############################################################################## >>>>>>> >>>>>>> INSTALLATION WITH 'R CMD INSTALL --preclean --no-multiarch --library=motifbreakR.buildbin-libdir motifbreakR_2.0.0.tar.gz' >>>>>>> * installing *source* package ‘motifbreakR’ ... ** using staged installation ** R ** data *** moving datasets to lazyload DB ** inst ** byte-compile and prepare package for lazy loading See system.file("LICENSE", package="MotifDb") for use restrictions. ** help *** installing help indices ** building package indices ** installing vignettes ** testing if installed package can be loaded from temporary location See system.file("LICENSE", package="MotifDb") for use restrictions. ** testing if installed package can be loaded from final location See system.file("LICENSE", package="MotifDb") for use restrictions. ** testing if installed package keeps a record of temporary installation path * DONE (motifbreakR)