This page was generated on 2020-04-15 12:42:25 -0400 (Wed, 15 Apr 2020).
##############################################################################
##############################################################################
###
### Running command:
###
### /Library/Frameworks/R.framework/Versions/Current/Resources/bin/R CMD build --keep-empty-dirs --no-resave-data motifbreakR
###
##############################################################################
##############################################################################
* checking for file ‘motifbreakR/DESCRIPTION’ ... OK
* preparing ‘motifbreakR’:
* checking DESCRIPTION meta-information ... OK
* installing the package to build vignettes
* creating vignettes ... OK
* checking for LF line-endings in source and make files and shell scripts
* checking for empty or unneeded directories
* looking to see if a ‘data/datalist’ file should be added
NB: this package now depends on R (>= 3.5.0)
WARNING: Added dependency on R >= 3.5.0 because serialized objects in serialize/load version 3 cannot be read in older versions of R. File(s) containing such objects: 'motifbreakR/inst/example.pvalue.rda' WARNING: Added dependency on R >= 3.5.0 because serialized objects in serialize/load version 3 cannot be read in older versions of R. File(s) containing such objects: 'motifbreakR/vignettes/motifbreakR-vignette_cache/html/aboutparallel_b0823fba46c331d61943feedafcd4f5c.RData' WARNING: Added dependency on R >= 3.5.0 because serialized objects in serialize/load version 3 cannot be read in older versions of R. File(s) containing such objects: 'motifbreakR/vignettes/motifbreakR-vignette_cache/html/aboutparallel_b0823fba46c331d61943feedafcd4f5c.rdx' WARNING: Added dependency on R >= 3.5.0 because serialized objects in serialize/load version 3 cannot be read in older versions of R. File(s) containing such objects: 'motifbreakR/vignettes/motifbreakR-vignette_cache/html/calcp.show_bf34462ff33a1429676bd76a7b73e391.RData' WARNING: Added dependency on R >= 3.5.0 because serialized objects in serialize/load version 3 cannot be read in older versions of R. File(s) containing such objects: 'motifbreakR/vignettes/motifbreakR-vignette_cache/html/calcp.show_bf34462ff33a1429676bd76a7b73e391.rdx' WARNING: Added dependency on R >= 3.5.0 because serialized objects in serialize/load version 3 cannot be read in older versions of R. File(s) containing such objects: 'motifbreakR/vignettes/motifbreakR-vignette_cache/html/calcp_2b20dfd3743f4fdcc9bfa3569ee42e39.RData' WARNING: Added dependency on R >= 3.5.0 because serialized objects in serialize/load version 3 cannot be read in older versions of R. File(s) containing such objects: 'motifbreakR/vignettes/motifbreakR-vignette_cache/html/calcp_2b20dfd3743f4fdcc9bfa3569ee42e39.rdx' WARNING: Added dependency on R >= 3.5.0 because serialized objects in serialize/load version 3 cannot be read in older versions of R. File(s) containing such objects: 'motifbreakR/vignettes/motifbreakR-vignette_cache/html/fromrsid_cab521ec99336fbe37d1b8adc5b30cb4.RData' WARNING: Added dependency on R >= 3.5.0 because serialized objects in serialize/load version 3 cannot be read in older versions of R. File(s) containing such objects: 'motifbreakR/vignettes/motifbreakR-vignette_cache/html/fromrsid_cab521ec99336fbe37d1b8adc5b30cb4.rdx' WARNING: Added dependency on R >= 3.5.0 because serialized objects in serialize/load version 3 cannot be read in older versions of R. File(s) containing such objects: 'motifbreakR/vignettes/motifbreakR-vignette_cache/html/getbedcust_fbedba18c586c65006231ec55abdb534.RData' WARNING: Added dependency on R >= 3.5.0 because serialized objects in serialize/load version 3 cannot be read in older versions of R. File(s) containing such objects: 'motifbreakR/vignettes/motifbreakR-vignette_cache/html/getbedcust_fbedba18c586c65006231ec55abdb534.rdx' WARNING: Added dependency on R >= 3.5.0 because serialized objects in serialize/load version 3 cannot be read in older versions of R. File(s) containing such objects: 'motifbreakR/vignettes/motifbreakR-vignette_cache/html/getbedrs.t_dc87fdeeac0820f935d0408280132ccb.RData' WARNING: Added dependency on R >= 3.5.0 because serialized objects in serialize/load version 3 cannot be read in older versions of R. File(s) containing such objects: 'motifbreakR/vignettes/motifbreakR-vignette_cache/html/getbedrs.t_dc87fdeeac0820f935d0408280132ccb.rdx' WARNING: Added dependency on R >= 3.5.0 because serialized objects in serialize/load version 3 cannot be read in older versions of R. File(s) containing such objects: 'motifbreakR/vignettes/motifbreakR-vignette_cache/html/getbedrs_6d67e2cdac6d1d83f4d4fb36312fcf2a.RData' WARNING: Added dependency on R >= 3.5.0 because serialized objects in serialize/load version 3 cannot be read in older versions of R. File(s) containing such objects: 'motifbreakR/vignettes/motifbreakR-vignette_cache/html/getbedrs_6d67e2cdac6d1d83f4d4fb36312fcf2a.rdx' WARNING: Added dependency on R >= 3.5.0 because serialized objects in serialize/load version 3 cannot be read in older versions of R. File(s) containing such objects: 'motifbreakR/vignettes/motifbreakR-vignette_cache/html/getindel_2c3a23977234576981adb745b16600bb.RData' WARNING: Added dependency on R >= 3.5.0 because serialized objects in serialize/load version 3 cannot be read in older versions of R. File(s) containing such objects: 'motifbreakR/vignettes/motifbreakR-vignette_cache/html/getindel_2c3a23977234576981adb745b16600bb.rdx' WARNING: Added dependency on R >= 3.5.0 because serialized objects in serialize/load version 3 cannot be read in older versions of R. File(s) containing such objects: 'motifbreakR/vignettes/motifbreakR-vignette_cache/html/getonesnp_a2120ce512bc35092be5afb0fb53c0ee.RData' WARNING: Added dependency on R >= 3.5.0 because serialized objects in serialize/load version 3 cannot be read in older versions of R. File(s) containing such objects: 'motifbreakR/vignettes/motifbreakR-vignette_cache/html/getonesnp_a2120ce512bc35092be5afb0fb53c0ee.rdx' WARNING: Added dependency on R >= 3.5.0 because serialized objects in serialize/load version 3 cannot be read in older versions of R. File(s) containing such objects: 'motifbreakR/vignettes/motifbreakR-vignette_cache/html/hocomocomot_be601d735326b120874f9943dcd9c0d4.RData' WARNING: Added dependency on R >= 3.5.0 because serialized objects in serialize/load version 3 cannot be read in older versions of R. File(s) containing such objects: 'motifbreakR/vignettes/motifbreakR-vignette_cache/html/hocomocomot_be601d735326b120874f9943dcd9c0d4.rdx' WARNING: Added dependency on R >= 3.5.0 because serialized objects in serialize/load version 3 cannot be read in older versions of R. File(s) containing such objects: 'motifbreakR/vignettes/motifbreakR-vignette_cache/html/motifbreakrmot_8cee4d0e5829273207ca49bc2ed7711f.RData' WARNING: Added dependency on R >= 3.5.0 because serialized objects in serialize/load version 3 cannot be read in older versions of R. File(s) containing such objects: 'motifbreakR/vignettes/motifbreakR-vignette_cache/html/motifbreakrmot_8cee4d0e5829273207ca49bc2ed7711f.rdx' WARNING: Added dependency on R >= 3.5.0 because serialized objects in serialize/load version 3 cannot be read in older versions of R. File(s) containing such objects: 'motifbreakR/vignettes/motifbreakR-vignette_cache/html/motifdb_c3dd40c78905ea5596be76b6e9ab1016.RData' WARNING: Added dependency on R >= 3.5.0 because serialized objects in serialize/load version 3 cannot be read in older versions of R. File(s) containing such objects: 'motifbreakR/vignettes/motifbreakR-vignette_cache/html/motifdb_c3dd40c78905ea5596be76b6e9ab1016.rdx' WARNING: Added dependency on R >= 3.5.0 because serialized objects in serialize/load version 3 cannot be read in older versions of R. File(s) containing such objects: 'motifbreakR/vignettes/motifbreakR-vignette_cache/html/motifdbtableres_790dfecbf13cbc30bf63e1ea6ed231e1.RData' WARNING: Added dependency on R >= 3.5.0 because serialized objects in serialize/load version 3 cannot be read in older versions of R. File(s) containing such objects: 'motifbreakR/vignettes/motifbreakR-vignette_cache/html/motifdbtableres_790dfecbf13cbc30bf63e1ea6ed231e1.rdx' WARNING: Added dependency on R >= 3.5.0 because serialized objects in serialize/load version 3 cannot be read in older versions of R. File(s) containing such objects: 'motifbreakR/vignettes/motifbreakR-vignette_cache/html/motifdbtableshow_ea0b55a0b2c713c7b935c7480898b5b7.RData' WARNING: Added dependency on R >= 3.5.0 because serialized objects in serialize/load version 3 cannot be read in older versions of R. File(s) containing such objects: 'motifbreakR/vignettes/motifbreakR-vignette_cache/html/motifdbtableshow_ea0b55a0b2c713c7b935c7480898b5b7.rdx' WARNING: Added dependency on R >= 3.5.0 because serialized objects in serialize/load version 3 cannot be read in older versions of R. File(s) containing such objects: 'motifbreakR/vignettes/motifbreakR-vignette_cache/html/outline_f7b7e849fa23c422c3874422e4f70847.RData' WARNING: Added dependency on R >= 3.5.0 because serialized objects in serialize/load version 3 cannot be read in older versions of R. File(s) containing such objects: 'motifbreakR/vignettes/motifbreakR-vignette_cache/html/outline_f7b7e849fa23c422c3874422e4f70847.rdx' WARNING: Added dependency on R >= 3.5.0 because serialized objects in serialize/load version 3 cannot be read in older versions of R. File(s) containing such objects: 'motifbreakR/vignettes/motifbreakR-vignette_cache/html/plotting_b01e2094b4411f36df8fdae0cfcb23a2.RData' WARNING: Added dependency on R >= 3.5.0 because serialized objects in serialize/load version 3 cannot be read in older versions of R. File(s) containing such objects: 'motifbreakR/vignettes/motifbreakR-vignette_cache/html/plotting_b01e2094b4411f36df8fdae0cfcb23a2.rdx' WARNING: Added dependency on R >= 3.5.0 because serialized objects in serialize/load version 3 cannot be read in older versions of R. File(s) containing such objects: 'motifbreakR/vignettes/motifbreakR-vignette_cache/html/runmotifbreakr_273e5dc79f294ebbda23572f13d0e6d1.RData' WARNING: Added dependency on R >= 3.5.0 because serialized objects in serialize/load version 3 cannot be read in older versions of R. File(s) containing such objects: 'motifbreakR/vignettes/motifbreakR-vignette_cache/html/runmotifbreakr_273e5dc79f294ebbda23572f13d0e6d1.rdx' WARNING: Added dependency on R >= 3.5.0 because serialized objects in serialize/load version 3 cannot be read in older versions of R. File(s) containing such objects: 'motifbreakR/vignettes/motifbreakR-vignette_cache/html/showbed2_fec94a5b39bea0e1260ef660b0d4b654.RData' WARNING: Added dependency on R >= 3.5.0 because serialized objects in serialize/load version 3 cannot be read in older versions of R. File(s) containing such objects: 'motifbreakR/vignettes/motifbreakR-vignette_cache/html/showbed2_fec94a5b39bea0e1260ef660b0d4b654.rdx' WARNING: Added dependency on R >= 3.5.0 because serialized objects in serialize/load version 3 cannot be read in older versions of R. File(s) containing such objects: 'motifbreakR/vignettes/motifbreakR-vignette_cache/html/showbed_1789d2da8706b8b391693f41a14c060f.RData' WARNING: Added dependency on R >= 3.5.0 because serialized objects in serialize/load version 3 cannot be read in older versions of R. File(s) containing such objects: 'motifbreakR/vignettes/motifbreakR-vignette_cache/html/showbed_1789d2da8706b8b391693f41a14c060f.rdx' WARNING: Added dependency on R >= 3.5.0 because serialized objects in serialize/load version 3 cannot be read in older versions of R. File(s) containing such objects: 'motifbreakR/vignettes/motifbreakR-vignette_cache/html/showindel_6dad817c28aa524f137698049c793752.RData' WARNING: Added dependency on R >= 3.5.0 because serialized objects in serialize/load version 3 cannot be read in older versions of R. File(s) containing such objects: 'motifbreakR/vignettes/motifbreakR-vignette_cache/html/showindel_6dad817c28aa524f137698049c793752.rdx' WARNING: Added dependency on R >= 3.5.0 because serialized objects in serialize/load version 3 cannot be read in older versions of R. File(s) containing such objects: 'motifbreakR/vignettes/motifbreakR-vignette_cache/html/start_8b9f38868763ccdb7b4fa536bbaf8481.RData' WARNING: Added dependency on R >= 3.5.0 because serialized objects in serialize/load version 3 cannot be read in older versions of R. File(s) containing such objects: 'motifbreakR/vignettes/motifbreakR-vignette_cache/html/start_8b9f38868763ccdb7b4fa536bbaf8481.rdx' WARNING: Added dependency on R >= 3.5.0 because serialized objects in serialize/load version 3 cannot be read in older versions of R. File(s) containing such objects: 'motifbreakR/vignettes/motifbreakR-vignette_cache/html/unnamed-chunk-1_cd34b04cb0df5e236a23c9ca626e6643.RData' WARNING: Added dependency on R >= 3.5.0 because serialized objects in serialize/load version 3 cannot be read in older versions of R. File(s) containing such objects: 'motifbreakR/vignettes/motifbreakR-vignette_cache/html/unnamed-chunk-1_cd34b04cb0df5e236a23c9ca626e6643.rdx' WARNING: Added dependency on R >= 3.5.0 because serialized objects in serialize/load version 3 cannot be read in older versions of R. File(s) containing such objects: 'motifbreakR/vignettes/motifbreakR-vignette_cache/html/whichgenome_3f408a1ae152c97c10eff4750ec8c4f3.RData' WARNING: Added dependency on R >= 3.5.0 because serialized objects in serialize/load version 3 cannot be read in older versions of R. File(s) containing such objects: 'motifbreakR/vignettes/motifbreakR-vignette_cache/html/whichgenome_3f408a1ae152c97c10eff4750ec8c4f3.rdx' WARNING: Added dependency on R >= 3.5.0 because serialized objects in serialize/load version 3 cannot be read in older versions of R. File(s) containing such objects: 'motifbreakR/vignettes/motifbreakR-vignette_cache/html/whichsnps_f70c2d43aa13ba82839a3a2d842c7243.RData' WARNING: Added dependency on R >= 3.5.0 because serialized objects in serialize/load version 3 cannot be read in older versions of R. File(s) containing such objects: 'motifbreakR/vignettes/motifbreakR-vignette_cache/html/whichsnps_f70c2d43aa13ba82839a3a2d842c7243.rdx'
* building 'motifbreakR_2.0.0.tar.gz'
Warning in utils::tar(filepath, pkgname, compression = compression, compression_level = 9L, :
storing paths of more than 100 bytes is not portable:
'motifbreakR/vignettes/motifbreakR-vignette_cache/html/aboutparallel_b0823fba46c331d61943feedafcd4f5c.RData'
Warning in utils::tar(filepath, pkgname, compression = compression, compression_level = 9L, :
storing paths of more than 100 bytes is not portable:
'motifbreakR/vignettes/motifbreakR-vignette_cache/html/aboutparallel_b0823fba46c331d61943feedafcd4f5c.rdb'
Warning in utils::tar(filepath, pkgname, compression = compression, compression_level = 9L, :
storing paths of more than 100 bytes is not portable:
'motifbreakR/vignettes/motifbreakR-vignette_cache/html/aboutparallel_b0823fba46c331d61943feedafcd4f5c.rdx'
Warning in utils::tar(filepath, pkgname, compression = compression, compression_level = 9L, :
storing paths of more than 100 bytes is not portable:
'motifbreakR/vignettes/motifbreakR-vignette_cache/html/calcp.show_bf34462ff33a1429676bd76a7b73e391.RData'
Warning in utils::tar(filepath, pkgname, compression = compression, compression_level = 9L, :
storing paths of more than 100 bytes is not portable:
'motifbreakR/vignettes/motifbreakR-vignette_cache/html/calcp.show_bf34462ff33a1429676bd76a7b73e391.rdb'
Warning in utils::tar(filepath, pkgname, compression = compression, compression_level = 9L, :
storing paths of more than 100 bytes is not portable:
'motifbreakR/vignettes/motifbreakR-vignette_cache/html/calcp.show_bf34462ff33a1429676bd76a7b73e391.rdx'
Warning in utils::tar(filepath, pkgname, compression = compression, compression_level = 9L, :
storing paths of more than 100 bytes is not portable:
'motifbreakR/vignettes/motifbreakR-vignette_cache/html/fromrsid_cab521ec99336fbe37d1b8adc5b30cb4.RData'
Warning in utils::tar(filepath, pkgname, compression = compression, compression_level = 9L, :
storing paths of more than 100 bytes is not portable:
'motifbreakR/vignettes/motifbreakR-vignette_cache/html/getbedcust_fbedba18c586c65006231ec55abdb534.RData'
Warning in utils::tar(filepath, pkgname, compression = compression, compression_level = 9L, :
storing paths of more than 100 bytes is not portable:
'motifbreakR/vignettes/motifbreakR-vignette_cache/html/getbedcust_fbedba18c586c65006231ec55abdb534.rdb'
Warning in utils::tar(filepath, pkgname, compression = compression, compression_level = 9L, :
storing paths of more than 100 bytes is not portable:
'motifbreakR/vignettes/motifbreakR-vignette_cache/html/getbedcust_fbedba18c586c65006231ec55abdb534.rdx'
Warning in utils::tar(filepath, pkgname, compression = compression, compression_level = 9L, :
storing paths of more than 100 bytes is not portable:
'motifbreakR/vignettes/motifbreakR-vignette_cache/html/getbedrs.t_dc87fdeeac0820f935d0408280132ccb.RData'
Warning in utils::tar(filepath, pkgname, compression = compression, compression_level = 9L, :
storing paths of more than 100 bytes is not portable:
'motifbreakR/vignettes/motifbreakR-vignette_cache/html/getbedrs.t_dc87fdeeac0820f935d0408280132ccb.rdb'
Warning in utils::tar(filepath, pkgname, compression = compression, compression_level = 9L, :
storing paths of more than 100 bytes is not portable:
'motifbreakR/vignettes/motifbreakR-vignette_cache/html/getbedrs.t_dc87fdeeac0820f935d0408280132ccb.rdx'
Warning in utils::tar(filepath, pkgname, compression = compression, compression_level = 9L, :
storing paths of more than 100 bytes is not portable:
'motifbreakR/vignettes/motifbreakR-vignette_cache/html/getbedrs_6d67e2cdac6d1d83f4d4fb36312fcf2a.RData'
Warning in utils::tar(filepath, pkgname, compression = compression, compression_level = 9L, :
storing paths of more than 100 bytes is not portable:
'motifbreakR/vignettes/motifbreakR-vignette_cache/html/getindel_2c3a23977234576981adb745b16600bb.RData'
Warning in utils::tar(filepath, pkgname, compression = compression, compression_level = 9L, :
storing paths of more than 100 bytes is not portable:
'motifbreakR/vignettes/motifbreakR-vignette_cache/html/getonesnp_a2120ce512bc35092be5afb0fb53c0ee.RData'
Warning in utils::tar(filepath, pkgname, compression = compression, compression_level = 9L, :
storing paths of more than 100 bytes is not portable:
'motifbreakR/vignettes/motifbreakR-vignette_cache/html/hocomocomot_be601d735326b120874f9943dcd9c0d4.RData'
Warning in utils::tar(filepath, pkgname, compression = compression, compression_level = 9L, :
storing paths of more than 100 bytes is not portable:
'motifbreakR/vignettes/motifbreakR-vignette_cache/html/hocomocomot_be601d735326b120874f9943dcd9c0d4.rdb'
Warning in utils::tar(filepath, pkgname, compression = compression, compression_level = 9L, :
storing paths of more than 100 bytes is not portable:
'motifbreakR/vignettes/motifbreakR-vignette_cache/html/hocomocomot_be601d735326b120874f9943dcd9c0d4.rdx'
Warning in utils::tar(filepath, pkgname, compression = compression, compression_level = 9L, :
storing paths of more than 100 bytes is not portable:
'motifbreakR/vignettes/motifbreakR-vignette_cache/html/motifbreakrmot_8cee4d0e5829273207ca49bc2ed7711f.RData'
Warning in utils::tar(filepath, pkgname, compression = compression, compression_level = 9L, :
storing paths of more than 100 bytes is not portable:
'motifbreakR/vignettes/motifbreakR-vignette_cache/html/motifbreakrmot_8cee4d0e5829273207ca49bc2ed7711f.rdb'
Warning in utils::tar(filepath, pkgname, compression = compression, compression_level = 9L, :
storing paths of more than 100 bytes is not portable:
'motifbreakR/vignettes/motifbreakR-vignette_cache/html/motifbreakrmot_8cee4d0e5829273207ca49bc2ed7711f.rdx'
Warning in utils::tar(filepath, pkgname, compression = compression, compression_level = 9L, :
storing paths of more than 100 bytes is not portable:
'motifbreakR/vignettes/motifbreakR-vignette_cache/html/motifdbtableres_790dfecbf13cbc30bf63e1ea6ed231e1.RData'
Warning in utils::tar(filepath, pkgname, compression = compression, compression_level = 9L, :
storing paths of more than 100 bytes is not portable:
'motifbreakR/vignettes/motifbreakR-vignette_cache/html/motifdbtableres_790dfecbf13cbc30bf63e1ea6ed231e1.rdb'
Warning in utils::tar(filepath, pkgname, compression = compression, compression_level = 9L, :
storing paths of more than 100 bytes is not portable:
'motifbreakR/vignettes/motifbreakR-vignette_cache/html/motifdbtableres_790dfecbf13cbc30bf63e1ea6ed231e1.rdx'
Warning in utils::tar(filepath, pkgname, compression = compression, compression_level = 9L, :
storing paths of more than 100 bytes is not portable:
'motifbreakR/vignettes/motifbreakR-vignette_cache/html/motifdbtableshow_ea0b55a0b2c713c7b935c7480898b5b7.RData'
Warning in utils::tar(filepath, pkgname, compression = compression, compression_level = 9L, :
storing paths of more than 100 bytes is not portable:
'motifbreakR/vignettes/motifbreakR-vignette_cache/html/motifdbtableshow_ea0b55a0b2c713c7b935c7480898b5b7.rdb'
Warning in utils::tar(filepath, pkgname, compression = compression, compression_level = 9L, :
storing paths of more than 100 bytes is not portable:
'motifbreakR/vignettes/motifbreakR-vignette_cache/html/motifdbtableshow_ea0b55a0b2c713c7b935c7480898b5b7.rdx'
Warning in utils::tar(filepath, pkgname, compression = compression, compression_level = 9L, :
storing paths of more than 100 bytes is not portable:
'motifbreakR/vignettes/motifbreakR-vignette_cache/html/plotting_b01e2094b4411f36df8fdae0cfcb23a2.RData'
Warning in utils::tar(filepath, pkgname, compression = compression, compression_level = 9L, :
storing paths of more than 100 bytes is not portable:
'motifbreakR/vignettes/motifbreakR-vignette_cache/html/runmotifbreakr_273e5dc79f294ebbda23572f13d0e6d1.RData'
Warning in utils::tar(filepath, pkgname, compression = compression, compression_level = 9L, :
storing paths of more than 100 bytes is not portable:
'motifbreakR/vignettes/motifbreakR-vignette_cache/html/runmotifbreakr_273e5dc79f294ebbda23572f13d0e6d1.rdb'
Warning in utils::tar(filepath, pkgname, compression = compression, compression_level = 9L, :
storing paths of more than 100 bytes is not portable:
'motifbreakR/vignettes/motifbreakR-vignette_cache/html/runmotifbreakr_273e5dc79f294ebbda23572f13d0e6d1.rdx'
Warning in utils::tar(filepath, pkgname, compression = compression, compression_level = 9L, :
storing paths of more than 100 bytes is not portable:
'motifbreakR/vignettes/motifbreakR-vignette_cache/html/showbed2_fec94a5b39bea0e1260ef660b0d4b654.RData'
Warning in utils::tar(filepath, pkgname, compression = compression, compression_level = 9L, :
storing paths of more than 100 bytes is not portable:
'motifbreakR/vignettes/motifbreakR-vignette_cache/html/showindel_6dad817c28aa524f137698049c793752.RData'
Warning in utils::tar(filepath, pkgname, compression = compression, compression_level = 9L, :
storing paths of more than 100 bytes is not portable:
'motifbreakR/vignettes/motifbreakR-vignette_cache/html/unnamed-chunk-1_cd34b04cb0df5e236a23c9ca626e6643.RData'
Warning in utils::tar(filepath, pkgname, compression = compression, compression_level = 9L, :
storing paths of more than 100 bytes is not portable:
'motifbreakR/vignettes/motifbreakR-vignette_cache/html/unnamed-chunk-1_cd34b04cb0df5e236a23c9ca626e6643.rdb'
Warning in utils::tar(filepath, pkgname, compression = compression, compression_level = 9L, :
storing paths of more than 100 bytes is not portable:
'motifbreakR/vignettes/motifbreakR-vignette_cache/html/unnamed-chunk-1_cd34b04cb0df5e236a23c9ca626e6643.rdx'
Warning in utils::tar(filepath, pkgname, compression = compression, compression_level = 9L, :
storing paths of more than 100 bytes is not portable:
'motifbreakR/vignettes/motifbreakR-vignette_cache/html/whichgenome_3f408a1ae152c97c10eff4750ec8c4f3.RData'
Warning in utils::tar(filepath, pkgname, compression = compression, compression_level = 9L, :
storing paths of more than 100 bytes is not portable:
'motifbreakR/vignettes/motifbreakR-vignette_cache/html/whichgenome_3f408a1ae152c97c10eff4750ec8c4f3.rdb'
Warning in utils::tar(filepath, pkgname, compression = compression, compression_level = 9L, :
storing paths of more than 100 bytes is not portable:
'motifbreakR/vignettes/motifbreakR-vignette_cache/html/whichgenome_3f408a1ae152c97c10eff4750ec8c4f3.rdx'
Warning in utils::tar(filepath, pkgname, compression = compression, compression_level = 9L, :
storing paths of more than 100 bytes is not portable:
'motifbreakR/vignettes/motifbreakR-vignette_cache/html/whichsnps_f70c2d43aa13ba82839a3a2d842c7243.RData'